BEGIN:VCALENDAR
VERSION:2.0
PRODID:-//RCCG - KingCity Perth Western Australia - ECPv6.15.15//NONSGML v1.0//EN
CALSCALE:GREGORIAN
METHOD:PUBLISH
X-WR-CALNAME:RCCG - KingCity Perth Western Australia
X-ORIGINAL-URL:https://kingscity.church
X-WR-CALDESC:Events for RCCG - KingCity Perth Western Australia
REFRESH-INTERVAL;VALUE=DURATION:PT1H
X-Robots-Tag:noindex
X-PUBLISHED-TTL:PT1H
BEGIN:VTIMEZONE
TZID:Asia/Shanghai
BEGIN:STANDARD
TZOFFSETFROM:+0800
TZOFFSETTO:+0800
TZNAME:CST
DTSTART:20250101T000000
END:STANDARD
END:VTIMEZONE
BEGIN:VEVENT
DTSTART;TZID=Asia/Shanghai:20261108T100000
DTEND;TZID=Asia/Shanghai:20261108T120000
DTSTAMP:20260424T081108
CREATED:20170821T053725Z
LAST-MODIFIED:20260210T052226Z
UID:10001033-1794132000-1794139200@kingscity.church
SUMMARY:SUNDAY WORSHIP SERVICE
DESCRIPTION:
URL:https://kingscity.church/event/sunday-worship/2026-11-08/
LOCATION:RCCG KINGCITY\, BAKER HALL 6 KARBRO DR\, CARDUP\, Perth\, WA\, 6122\, Australia
CATEGORIES:Sunday Worship
ATTACH;FMTTYPE=image/png:https://kingscity.church/wp-content/uploads/2023/03/Untitled-design.png
ORGANIZER;CN="RCCG- KingCity Church":MAILTO:info@kingscity.church
END:VEVENT
BEGIN:VEVENT
DTSTART;TZID=Asia/Shanghai:20261115T100000
DTEND;TZID=Asia/Shanghai:20261115T120000
DTSTAMP:20260424T081108
CREATED:20170821T053725Z
LAST-MODIFIED:20260210T052226Z
UID:10001034-1794736800-1794744000@kingscity.church
SUMMARY:SUNDAY WORSHIP SERVICE
DESCRIPTION:
URL:https://kingscity.church/event/sunday-worship/2026-11-15/
LOCATION:RCCG KINGCITY\, BAKER HALL 6 KARBRO DR\, CARDUP\, Perth\, WA\, 6122\, Australia
CATEGORIES:Sunday Worship
ATTACH;FMTTYPE=image/png:https://kingscity.church/wp-content/uploads/2023/03/Untitled-design.png
ORGANIZER;CN="RCCG- KingCity Church":MAILTO:info@kingscity.church
END:VEVENT
BEGIN:VEVENT
DTSTART;TZID=Asia/Shanghai:20261122T100000
DTEND;TZID=Asia/Shanghai:20261122T120000
DTSTAMP:20260424T081108
CREATED:20170821T053725Z
LAST-MODIFIED:20260210T052226Z
UID:10001035-1795341600-1795348800@kingscity.church
SUMMARY:SUNDAY WORSHIP SERVICE
DESCRIPTION:
URL:https://kingscity.church/event/sunday-worship/2026-11-22/
LOCATION:RCCG KINGCITY\, BAKER HALL 6 KARBRO DR\, CARDUP\, Perth\, WA\, 6122\, Australia
CATEGORIES:Sunday Worship
ATTACH;FMTTYPE=image/png:https://kingscity.church/wp-content/uploads/2023/03/Untitled-design.png
ORGANIZER;CN="RCCG- KingCity Church":MAILTO:info@kingscity.church
END:VEVENT
BEGIN:VEVENT
DTSTART;TZID=Asia/Shanghai:20261129T100000
DTEND;TZID=Asia/Shanghai:20261129T120000
DTSTAMP:20260424T081108
CREATED:20170821T053725Z
LAST-MODIFIED:20260210T052226Z
UID:10001036-1795946400-1795953600@kingscity.church
SUMMARY:SUNDAY WORSHIP SERVICE
DESCRIPTION:
URL:https://kingscity.church/event/sunday-worship/2026-11-29/
LOCATION:RCCG KINGCITY\, BAKER HALL 6 KARBRO DR\, CARDUP\, Perth\, WA\, 6122\, Australia
CATEGORIES:Sunday Worship
ATTACH;FMTTYPE=image/png:https://kingscity.church/wp-content/uploads/2023/03/Untitled-design.png
ORGANIZER;CN="RCCG- KingCity Church":MAILTO:info@kingscity.church
END:VEVENT
BEGIN:VEVENT
DTSTART;TZID=Asia/Shanghai:20261206T100000
DTEND;TZID=Asia/Shanghai:20261206T120000
DTSTAMP:20260424T081108
CREATED:20170821T053725Z
LAST-MODIFIED:20260210T052226Z
UID:10001037-1796551200-1796558400@kingscity.church
SUMMARY:SUNDAY WORSHIP SERVICE
DESCRIPTION:
URL:https://kingscity.church/event/sunday-worship/2026-12-06/
LOCATION:RCCG KINGCITY\, BAKER HALL 6 KARBRO DR\, CARDUP\, Perth\, WA\, 6122\, Australia
CATEGORIES:Sunday Worship
ATTACH;FMTTYPE=image/png:https://kingscity.church/wp-content/uploads/2023/03/Untitled-design.png
ORGANIZER;CN="RCCG- KingCity Church":MAILTO:info@kingscity.church
END:VEVENT
BEGIN:VEVENT
DTSTART;TZID=Asia/Shanghai:20261213T100000
DTEND;TZID=Asia/Shanghai:20261213T120000
DTSTAMP:20260424T081108
CREATED:20170821T053725Z
LAST-MODIFIED:20260210T052226Z
UID:10001038-1797156000-1797163200@kingscity.church
SUMMARY:SUNDAY WORSHIP SERVICE
DESCRIPTION:
URL:https://kingscity.church/event/sunday-worship/2026-12-13/
LOCATION:RCCG KINGCITY\, BAKER HALL 6 KARBRO DR\, CARDUP\, Perth\, WA\, 6122\, Australia
CATEGORIES:Sunday Worship
ATTACH;FMTTYPE=image/png:https://kingscity.church/wp-content/uploads/2023/03/Untitled-design.png
ORGANIZER;CN="RCCG- KingCity Church":MAILTO:info@kingscity.church
END:VEVENT
BEGIN:VEVENT
DTSTART;TZID=Asia/Shanghai:20261220T100000
DTEND;TZID=Asia/Shanghai:20261220T120000
DTSTAMP:20260424T081108
CREATED:20170821T053725Z
LAST-MODIFIED:20260210T052226Z
UID:10001039-1797760800-1797768000@kingscity.church
SUMMARY:SUNDAY WORSHIP SERVICE
DESCRIPTION:
URL:https://kingscity.church/event/sunday-worship/2026-12-20/
LOCATION:RCCG KINGCITY\, BAKER HALL 6 KARBRO DR\, CARDUP\, Perth\, WA\, 6122\, Australia
CATEGORIES:Sunday Worship
ATTACH;FMTTYPE=image/png:https://kingscity.church/wp-content/uploads/2023/03/Untitled-design.png
ORGANIZER;CN="RCCG- KingCity Church":MAILTO:info@kingscity.church
END:VEVENT
BEGIN:VEVENT
DTSTART;TZID=Asia/Shanghai:20261227T100000
DTEND;TZID=Asia/Shanghai:20261227T120000
DTSTAMP:20260424T081108
CREATED:20170821T053725Z
LAST-MODIFIED:20260210T052226Z
UID:10001040-1798365600-1798372800@kingscity.church
SUMMARY:SUNDAY WORSHIP SERVICE
DESCRIPTION:
URL:https://kingscity.church/event/sunday-worship/2026-12-27/
LOCATION:RCCG KINGCITY\, BAKER HALL 6 KARBRO DR\, CARDUP\, Perth\, WA\, 6122\, Australia
CATEGORIES:Sunday Worship
ATTACH;FMTTYPE=image/png:https://kingscity.church/wp-content/uploads/2023/03/Untitled-design.png
ORGANIZER;CN="RCCG- KingCity Church":MAILTO:info@kingscity.church
END:VEVENT
BEGIN:VEVENT
DTSTART;TZID=Asia/Shanghai:20270103T100000
DTEND;TZID=Asia/Shanghai:20270103T120000
DTSTAMP:20260424T081108
CREATED:20170821T053725Z
LAST-MODIFIED:20260210T052226Z
UID:10001041-1798970400-1798977600@kingscity.church
SUMMARY:SUNDAY WORSHIP SERVICE
DESCRIPTION:
URL:https://kingscity.church/event/sunday-worship/2027-01-03/
LOCATION:RCCG KINGCITY\, BAKER HALL 6 KARBRO DR\, CARDUP\, Perth\, WA\, 6122\, Australia
CATEGORIES:Sunday Worship
ATTACH;FMTTYPE=image/png:https://kingscity.church/wp-content/uploads/2023/03/Untitled-design.png
ORGANIZER;CN="RCCG- KingCity Church":MAILTO:info@kingscity.church
END:VEVENT
BEGIN:VEVENT
DTSTART;TZID=Asia/Shanghai:20270110T100000
DTEND;TZID=Asia/Shanghai:20270110T120000
DTSTAMP:20260424T081108
CREATED:20170821T053725Z
LAST-MODIFIED:20260210T052226Z
UID:10001042-1799575200-1799582400@kingscity.church
SUMMARY:SUNDAY WORSHIP SERVICE
DESCRIPTION:
URL:https://kingscity.church/event/sunday-worship/2027-01-10/
LOCATION:RCCG KINGCITY\, BAKER HALL 6 KARBRO DR\, CARDUP\, Perth\, WA\, 6122\, Australia
CATEGORIES:Sunday Worship
ATTACH;FMTTYPE=image/png:https://kingscity.church/wp-content/uploads/2023/03/Untitled-design.png
ORGANIZER;CN="RCCG- KingCity Church":MAILTO:info@kingscity.church
END:VEVENT
BEGIN:VEVENT
DTSTART;TZID=Asia/Shanghai:20270117T100000
DTEND;TZID=Asia/Shanghai:20270117T120000
DTSTAMP:20260424T081108
CREATED:20170821T053725Z
LAST-MODIFIED:20260210T052226Z
UID:10001043-1800180000-1800187200@kingscity.church
SUMMARY:SUNDAY WORSHIP SERVICE
DESCRIPTION:
URL:https://kingscity.church/event/sunday-worship/2027-01-17/
LOCATION:RCCG KINGCITY\, BAKER HALL 6 KARBRO DR\, CARDUP\, Perth\, WA\, 6122\, Australia
CATEGORIES:Sunday Worship
ATTACH;FMTTYPE=image/png:https://kingscity.church/wp-content/uploads/2023/03/Untitled-design.png
ORGANIZER;CN="RCCG- KingCity Church":MAILTO:info@kingscity.church
END:VEVENT
BEGIN:VEVENT
DTSTART;TZID=Asia/Shanghai:20270124T100000
DTEND;TZID=Asia/Shanghai:20270124T120000
DTSTAMP:20260424T081108
CREATED:20170821T053725Z
LAST-MODIFIED:20260210T052226Z
UID:10001044-1800784800-1800792000@kingscity.church
SUMMARY:SUNDAY WORSHIP SERVICE
DESCRIPTION:
URL:https://kingscity.church/event/sunday-worship/2027-01-24/
LOCATION:RCCG KINGCITY\, BAKER HALL 6 KARBRO DR\, CARDUP\, Perth\, WA\, 6122\, Australia
CATEGORIES:Sunday Worship
ATTACH;FMTTYPE=image/png:https://kingscity.church/wp-content/uploads/2023/03/Untitled-design.png
ORGANIZER;CN="RCCG- KingCity Church":MAILTO:info@kingscity.church
END:VEVENT
BEGIN:VEVENT
DTSTART;TZID=Asia/Shanghai:20270131T100000
DTEND;TZID=Asia/Shanghai:20270131T120000
DTSTAMP:20260424T081108
CREATED:20170821T053725Z
LAST-MODIFIED:20260210T052226Z
UID:10001045-1801389600-1801396800@kingscity.church
SUMMARY:SUNDAY WORSHIP SERVICE
DESCRIPTION:
URL:https://kingscity.church/event/sunday-worship/2027-01-31/
LOCATION:RCCG KINGCITY\, BAKER HALL 6 KARBRO DR\, CARDUP\, Perth\, WA\, 6122\, Australia
CATEGORIES:Sunday Worship
ATTACH;FMTTYPE=image/png:https://kingscity.church/wp-content/uploads/2023/03/Untitled-design.png
ORGANIZER;CN="RCCG- KingCity Church":MAILTO:info@kingscity.church
END:VEVENT
BEGIN:VEVENT
DTSTART;TZID=Asia/Shanghai:20270207T100000
DTEND;TZID=Asia/Shanghai:20270207T120000
DTSTAMP:20260424T081108
CREATED:20170821T053725Z
LAST-MODIFIED:20260210T052226Z
UID:10001046-1801994400-1802001600@kingscity.church
SUMMARY:SUNDAY WORSHIP SERVICE
DESCRIPTION:
URL:https://kingscity.church/event/sunday-worship/2027-02-07/
LOCATION:RCCG KINGCITY\, BAKER HALL 6 KARBRO DR\, CARDUP\, Perth\, WA\, 6122\, Australia
CATEGORIES:Sunday Worship
ATTACH;FMTTYPE=image/png:https://kingscity.church/wp-content/uploads/2023/03/Untitled-design.png
ORGANIZER;CN="RCCG- KingCity Church":MAILTO:info@kingscity.church
END:VEVENT
BEGIN:VEVENT
DTSTART;TZID=Asia/Shanghai:20270214T100000
DTEND;TZID=Asia/Shanghai:20270214T120000
DTSTAMP:20260424T081108
CREATED:20170821T053725Z
LAST-MODIFIED:20260210T052226Z
UID:10001047-1802599200-1802606400@kingscity.church
SUMMARY:SUNDAY WORSHIP SERVICE
DESCRIPTION:
URL:https://kingscity.church/event/sunday-worship/2027-02-14/
LOCATION:RCCG KINGCITY\, BAKER HALL 6 KARBRO DR\, CARDUP\, Perth\, WA\, 6122\, Australia
CATEGORIES:Sunday Worship
ATTACH;FMTTYPE=image/png:https://kingscity.church/wp-content/uploads/2023/03/Untitled-design.png
ORGANIZER;CN="RCCG- KingCity Church":MAILTO:info@kingscity.church
END:VEVENT
BEGIN:VEVENT
DTSTART;TZID=Asia/Shanghai:20270221T100000
DTEND;TZID=Asia/Shanghai:20270221T120000
DTSTAMP:20260424T081108
CREATED:20170821T053725Z
LAST-MODIFIED:20260210T052226Z
UID:10001048-1803204000-1803211200@kingscity.church
SUMMARY:SUNDAY WORSHIP SERVICE
DESCRIPTION:
URL:https://kingscity.church/event/sunday-worship/2027-02-21/
LOCATION:RCCG KINGCITY\, BAKER HALL 6 KARBRO DR\, CARDUP\, Perth\, WA\, 6122\, Australia
CATEGORIES:Sunday Worship
ATTACH;FMTTYPE=image/png:https://kingscity.church/wp-content/uploads/2023/03/Untitled-design.png
ORGANIZER;CN="RCCG- KingCity Church":MAILTO:info@kingscity.church
END:VEVENT
BEGIN:VEVENT
DTSTART;TZID=Asia/Shanghai:20270228T100000
DTEND;TZID=Asia/Shanghai:20270228T120000
DTSTAMP:20260424T081108
CREATED:20170821T053725Z
LAST-MODIFIED:20260210T052226Z
UID:10001049-1803808800-1803816000@kingscity.church
SUMMARY:SUNDAY WORSHIP SERVICE
DESCRIPTION:
URL:https://kingscity.church/event/sunday-worship/2027-02-28/
LOCATION:RCCG KINGCITY\, BAKER HALL 6 KARBRO DR\, CARDUP\, Perth\, WA\, 6122\, Australia
CATEGORIES:Sunday Worship
ATTACH;FMTTYPE=image/png:https://kingscity.church/wp-content/uploads/2023/03/Untitled-design.png
ORGANIZER;CN="RCCG- KingCity Church":MAILTO:info@kingscity.church
END:VEVENT
BEGIN:VEVENT
DTSTART;TZID=Asia/Shanghai:20270307T100000
DTEND;TZID=Asia/Shanghai:20270307T120000
DTSTAMP:20260424T081108
CREATED:20170821T053725Z
LAST-MODIFIED:20260210T052226Z
UID:10001050-1804413600-1804420800@kingscity.church
SUMMARY:SUNDAY WORSHIP SERVICE
DESCRIPTION:
URL:https://kingscity.church/event/sunday-worship/2027-03-07/
LOCATION:RCCG KINGCITY\, BAKER HALL 6 KARBRO DR\, CARDUP\, Perth\, WA\, 6122\, Australia
CATEGORIES:Sunday Worship
ATTACH;FMTTYPE=image/png:https://kingscity.church/wp-content/uploads/2023/03/Untitled-design.png
ORGANIZER;CN="RCCG- KingCity Church":MAILTO:info@kingscity.church
END:VEVENT
BEGIN:VEVENT
DTSTART;TZID=Asia/Shanghai:20270314T100000
DTEND;TZID=Asia/Shanghai:20270314T120000
DTSTAMP:20260424T081108
CREATED:20170821T053725Z
LAST-MODIFIED:20260210T052226Z
UID:10001051-1805018400-1805025600@kingscity.church
SUMMARY:SUNDAY WORSHIP SERVICE
DESCRIPTION:
URL:https://kingscity.church/event/sunday-worship/2027-03-14/
LOCATION:RCCG KINGCITY\, BAKER HALL 6 KARBRO DR\, CARDUP\, Perth\, WA\, 6122\, Australia
CATEGORIES:Sunday Worship
ATTACH;FMTTYPE=image/png:https://kingscity.church/wp-content/uploads/2023/03/Untitled-design.png
ORGANIZER;CN="RCCG- KingCity Church":MAILTO:info@kingscity.church
END:VEVENT
BEGIN:VEVENT
DTSTART;TZID=Asia/Shanghai:20270321T100000
DTEND;TZID=Asia/Shanghai:20270321T120000
DTSTAMP:20260424T081108
CREATED:20170821T053725Z
LAST-MODIFIED:20260210T052226Z
UID:10001052-1805623200-1805630400@kingscity.church
SUMMARY:SUNDAY WORSHIP SERVICE
DESCRIPTION:
URL:https://kingscity.church/event/sunday-worship/2027-03-21/
LOCATION:RCCG KINGCITY\, BAKER HALL 6 KARBRO DR\, CARDUP\, Perth\, WA\, 6122\, Australia
CATEGORIES:Sunday Worship
ATTACH;FMTTYPE=image/png:https://kingscity.church/wp-content/uploads/2023/03/Untitled-design.png
ORGANIZER;CN="RCCG- KingCity Church":MAILTO:info@kingscity.church
END:VEVENT
BEGIN:VEVENT
DTSTART;TZID=Asia/Shanghai:20270328T100000
DTEND;TZID=Asia/Shanghai:20270328T120000
DTSTAMP:20260424T081108
CREATED:20170821T053725Z
LAST-MODIFIED:20260210T052226Z
UID:10001053-1806228000-1806235200@kingscity.church
SUMMARY:SUNDAY WORSHIP SERVICE
DESCRIPTION:
URL:https://kingscity.church/event/sunday-worship/2027-03-28/
LOCATION:RCCG KINGCITY\, BAKER HALL 6 KARBRO DR\, CARDUP\, Perth\, WA\, 6122\, Australia
CATEGORIES:Sunday Worship
ATTACH;FMTTYPE=image/png:https://kingscity.church/wp-content/uploads/2023/03/Untitled-design.png
ORGANIZER;CN="RCCG- KingCity Church":MAILTO:info@kingscity.church
END:VEVENT
BEGIN:VEVENT
DTSTART;TZID=Asia/Shanghai:20270404T100000
DTEND;TZID=Asia/Shanghai:20270404T120000
DTSTAMP:20260424T081108
CREATED:20170821T053725Z
LAST-MODIFIED:20260210T052226Z
UID:10001054-1806832800-1806840000@kingscity.church
SUMMARY:SUNDAY WORSHIP SERVICE
DESCRIPTION:
URL:https://kingscity.church/event/sunday-worship/2027-04-04/
LOCATION:RCCG KINGCITY\, BAKER HALL 6 KARBRO DR\, CARDUP\, Perth\, WA\, 6122\, Australia
CATEGORIES:Sunday Worship
ATTACH;FMTTYPE=image/png:https://kingscity.church/wp-content/uploads/2023/03/Untitled-design.png
ORGANIZER;CN="RCCG- KingCity Church":MAILTO:info@kingscity.church
END:VEVENT
BEGIN:VEVENT
DTSTART;TZID=Asia/Shanghai:20270411T100000
DTEND;TZID=Asia/Shanghai:20270411T120000
DTSTAMP:20260424T081108
CREATED:20170821T053725Z
LAST-MODIFIED:20260210T052226Z
UID:10001055-1807437600-1807444800@kingscity.church
SUMMARY:SUNDAY WORSHIP SERVICE
DESCRIPTION:
URL:https://kingscity.church/event/sunday-worship/2027-04-11/
LOCATION:RCCG KINGCITY\, BAKER HALL 6 KARBRO DR\, CARDUP\, Perth\, WA\, 6122\, Australia
CATEGORIES:Sunday Worship
ATTACH;FMTTYPE=image/png:https://kingscity.church/wp-content/uploads/2023/03/Untitled-design.png
ORGANIZER;CN="RCCG- KingCity Church":MAILTO:info@kingscity.church
END:VEVENT
BEGIN:VEVENT
DTSTART;TZID=Asia/Shanghai:20270418T100000
DTEND;TZID=Asia/Shanghai:20270418T120000
DTSTAMP:20260424T081108
CREATED:20170821T053725Z
LAST-MODIFIED:20260210T052226Z
UID:10001056-1808042400-1808049600@kingscity.church
SUMMARY:SUNDAY WORSHIP SERVICE
DESCRIPTION:
URL:https://kingscity.church/event/sunday-worship/2027-04-18/
LOCATION:RCCG KINGCITY\, BAKER HALL 6 KARBRO DR\, CARDUP\, Perth\, WA\, 6122\, Australia
CATEGORIES:Sunday Worship
ATTACH;FMTTYPE=image/png:https://kingscity.church/wp-content/uploads/2023/03/Untitled-design.png
ORGANIZER;CN="RCCG- KingCity Church":MAILTO:info@kingscity.church
END:VEVENT
BEGIN:VEVENT
DTSTART;TZID=Asia/Shanghai:20270425T100000
DTEND;TZID=Asia/Shanghai:20270425T120000
DTSTAMP:20260424T081108
CREATED:20170821T053725Z
LAST-MODIFIED:20260210T052226Z
UID:10001057-1808647200-1808654400@kingscity.church
SUMMARY:SUNDAY WORSHIP SERVICE
DESCRIPTION:
URL:https://kingscity.church/event/sunday-worship/2027-04-25/
LOCATION:RCCG KINGCITY\, BAKER HALL 6 KARBRO DR\, CARDUP\, Perth\, WA\, 6122\, Australia
CATEGORIES:Sunday Worship
ATTACH;FMTTYPE=image/png:https://kingscity.church/wp-content/uploads/2023/03/Untitled-design.png
ORGANIZER;CN="RCCG- KingCity Church":MAILTO:info@kingscity.church
END:VEVENT
BEGIN:VEVENT
DTSTART;TZID=Asia/Shanghai:20270502T100000
DTEND;TZID=Asia/Shanghai:20270502T120000
DTSTAMP:20260424T081108
CREATED:20170821T053725Z
LAST-MODIFIED:20260210T052226Z
UID:10001058-1809252000-1809259200@kingscity.church
SUMMARY:SUNDAY WORSHIP SERVICE
DESCRIPTION:
URL:https://kingscity.church/event/sunday-worship/2027-05-02/
LOCATION:RCCG KINGCITY\, BAKER HALL 6 KARBRO DR\, CARDUP\, Perth\, WA\, 6122\, Australia
CATEGORIES:Sunday Worship
ATTACH;FMTTYPE=image/png:https://kingscity.church/wp-content/uploads/2023/03/Untitled-design.png
ORGANIZER;CN="RCCG- KingCity Church":MAILTO:info@kingscity.church
END:VEVENT
BEGIN:VEVENT
DTSTART;TZID=Asia/Shanghai:20270509T100000
DTEND;TZID=Asia/Shanghai:20270509T120000
DTSTAMP:20260424T081108
CREATED:20170821T053725Z
LAST-MODIFIED:20260210T052226Z
UID:10001059-1809856800-1809864000@kingscity.church
SUMMARY:SUNDAY WORSHIP SERVICE
DESCRIPTION:
URL:https://kingscity.church/event/sunday-worship/2027-05-09/
LOCATION:RCCG KINGCITY\, BAKER HALL 6 KARBRO DR\, CARDUP\, Perth\, WA\, 6122\, Australia
CATEGORIES:Sunday Worship
ATTACH;FMTTYPE=image/png:https://kingscity.church/wp-content/uploads/2023/03/Untitled-design.png
ORGANIZER;CN="RCCG- KingCity Church":MAILTO:info@kingscity.church
END:VEVENT
BEGIN:VEVENT
DTSTART;TZID=Asia/Shanghai:20270516T100000
DTEND;TZID=Asia/Shanghai:20270516T120000
DTSTAMP:20260424T081108
CREATED:20170821T053725Z
LAST-MODIFIED:20260210T052226Z
UID:10001060-1810461600-1810468800@kingscity.church
SUMMARY:SUNDAY WORSHIP SERVICE
DESCRIPTION:
URL:https://kingscity.church/event/sunday-worship/2027-05-16/
LOCATION:RCCG KINGCITY\, BAKER HALL 6 KARBRO DR\, CARDUP\, Perth\, WA\, 6122\, Australia
CATEGORIES:Sunday Worship
ATTACH;FMTTYPE=image/png:https://kingscity.church/wp-content/uploads/2023/03/Untitled-design.png
ORGANIZER;CN="RCCG- KingCity Church":MAILTO:info@kingscity.church
END:VEVENT
BEGIN:VEVENT
DTSTART;TZID=Asia/Shanghai:20270523T100000
DTEND;TZID=Asia/Shanghai:20270523T120000
DTSTAMP:20260424T081108
CREATED:20170821T053725Z
LAST-MODIFIED:20260210T052226Z
UID:10001061-1811066400-1811073600@kingscity.church
SUMMARY:SUNDAY WORSHIP SERVICE
DESCRIPTION:
URL:https://kingscity.church/event/sunday-worship/2027-05-23/
LOCATION:RCCG KINGCITY\, BAKER HALL 6 KARBRO DR\, CARDUP\, Perth\, WA\, 6122\, Australia
CATEGORIES:Sunday Worship
ATTACH;FMTTYPE=image/png:https://kingscity.church/wp-content/uploads/2023/03/Untitled-design.png
ORGANIZER;CN="RCCG- KingCity Church":MAILTO:info@kingscity.church
END:VEVENT
BEGIN:VEVENT
DTSTART;TZID=Asia/Shanghai:20270530T100000
DTEND;TZID=Asia/Shanghai:20270530T120000
DTSTAMP:20260424T081108
CREATED:20170821T053725Z
LAST-MODIFIED:20260210T052226Z
UID:10001062-1811671200-1811678400@kingscity.church
SUMMARY:SUNDAY WORSHIP SERVICE
DESCRIPTION:
URL:https://kingscity.church/event/sunday-worship/2027-05-30/
LOCATION:RCCG KINGCITY\, BAKER HALL 6 KARBRO DR\, CARDUP\, Perth\, WA\, 6122\, Australia
CATEGORIES:Sunday Worship
ATTACH;FMTTYPE=image/png:https://kingscity.church/wp-content/uploads/2023/03/Untitled-design.png
ORGANIZER;CN="RCCG- KingCity Church":MAILTO:info@kingscity.church
END:VEVENT
END:VCALENDAR