BEGIN:VCALENDAR
VERSION:2.0
PRODID:-//RCCG - KingCity Perth Western Australia - ECPv6.15.15//NONSGML v1.0//EN
CALSCALE:GREGORIAN
METHOD:PUBLISH
X-WR-CALNAME:RCCG - KingCity Perth Western Australia
X-ORIGINAL-URL:https://kingscity.church
X-WR-CALDESC:Events for RCCG - KingCity Perth Western Australia
REFRESH-INTERVAL;VALUE=DURATION:PT1H
X-Robots-Tag:noindex
X-PUBLISHED-TTL:PT1H
BEGIN:VTIMEZONE
TZID:Asia/Shanghai
BEGIN:STANDARD
TZOFFSETFROM:+0800
TZOFFSETTO:+0800
TZNAME:CST
DTSTART:20270101T000000
END:STANDARD
END:VTIMEZONE
BEGIN:VEVENT
DTSTART;TZID=Asia/Shanghai:20280521T100000
DTEND;TZID=Asia/Shanghai:20280521T120000
DTSTAMP:20260424T205334
CREATED:20170821T053725Z
LAST-MODIFIED:20260210T052226Z
UID:10001113-1842516000-1842523200@kingscity.church
SUMMARY:SUNDAY WORSHIP SERVICE
DESCRIPTION:
URL:https://kingscity.church/event/sunday-worship/2028-05-21/
LOCATION:RCCG KINGCITY\, BAKER HALL 6 KARBRO DR\, CARDUP\, Perth\, WA\, 6122\, Australia
CATEGORIES:Sunday Worship
ATTACH;FMTTYPE=image/png:https://kingscity.church/wp-content/uploads/2023/03/Untitled-design.png
ORGANIZER;CN="RCCG- KingCity Church":MAILTO:info@kingscity.church
END:VEVENT
BEGIN:VEVENT
DTSTART;TZID=Asia/Shanghai:20280528T100000
DTEND;TZID=Asia/Shanghai:20280528T120000
DTSTAMP:20260424T205334
CREATED:20170821T053725Z
LAST-MODIFIED:20260210T052226Z
UID:10001114-1843120800-1843128000@kingscity.church
SUMMARY:SUNDAY WORSHIP SERVICE
DESCRIPTION:
URL:https://kingscity.church/event/sunday-worship/2028-05-28/
LOCATION:RCCG KINGCITY\, BAKER HALL 6 KARBRO DR\, CARDUP\, Perth\, WA\, 6122\, Australia
CATEGORIES:Sunday Worship
ATTACH;FMTTYPE=image/png:https://kingscity.church/wp-content/uploads/2023/03/Untitled-design.png
ORGANIZER;CN="RCCG- KingCity Church":MAILTO:info@kingscity.church
END:VEVENT
BEGIN:VEVENT
DTSTART;TZID=Asia/Shanghai:20280604T100000
DTEND;TZID=Asia/Shanghai:20280604T120000
DTSTAMP:20260424T205334
CREATED:20170821T053725Z
LAST-MODIFIED:20260210T052226Z
UID:10001115-1843725600-1843732800@kingscity.church
SUMMARY:SUNDAY WORSHIP SERVICE
DESCRIPTION:
URL:https://kingscity.church/event/sunday-worship/2028-06-04/
LOCATION:RCCG KINGCITY\, BAKER HALL 6 KARBRO DR\, CARDUP\, Perth\, WA\, 6122\, Australia
CATEGORIES:Sunday Worship
ATTACH;FMTTYPE=image/png:https://kingscity.church/wp-content/uploads/2023/03/Untitled-design.png
ORGANIZER;CN="RCCG- KingCity Church":MAILTO:info@kingscity.church
END:VEVENT
BEGIN:VEVENT
DTSTART;TZID=Asia/Shanghai:20280611T100000
DTEND;TZID=Asia/Shanghai:20280611T120000
DTSTAMP:20260424T205334
CREATED:20170821T053725Z
LAST-MODIFIED:20260210T052226Z
UID:10001116-1844330400-1844337600@kingscity.church
SUMMARY:SUNDAY WORSHIP SERVICE
DESCRIPTION:
URL:https://kingscity.church/event/sunday-worship/2028-06-11/
LOCATION:RCCG KINGCITY\, BAKER HALL 6 KARBRO DR\, CARDUP\, Perth\, WA\, 6122\, Australia
CATEGORIES:Sunday Worship
ATTACH;FMTTYPE=image/png:https://kingscity.church/wp-content/uploads/2023/03/Untitled-design.png
ORGANIZER;CN="RCCG- KingCity Church":MAILTO:info@kingscity.church
END:VEVENT
BEGIN:VEVENT
DTSTART;TZID=Asia/Shanghai:20280618T100000
DTEND;TZID=Asia/Shanghai:20280618T120000
DTSTAMP:20260424T205334
CREATED:20170821T053725Z
LAST-MODIFIED:20260210T052226Z
UID:10001117-1844935200-1844942400@kingscity.church
SUMMARY:SUNDAY WORSHIP SERVICE
DESCRIPTION:
URL:https://kingscity.church/event/sunday-worship/2028-06-18/
LOCATION:RCCG KINGCITY\, BAKER HALL 6 KARBRO DR\, CARDUP\, Perth\, WA\, 6122\, Australia
CATEGORIES:Sunday Worship
ATTACH;FMTTYPE=image/png:https://kingscity.church/wp-content/uploads/2023/03/Untitled-design.png
ORGANIZER;CN="RCCG- KingCity Church":MAILTO:info@kingscity.church
END:VEVENT
BEGIN:VEVENT
DTSTART;TZID=Asia/Shanghai:20280625T100000
DTEND;TZID=Asia/Shanghai:20280625T120000
DTSTAMP:20260424T205334
CREATED:20170821T053725Z
LAST-MODIFIED:20260210T052226Z
UID:10001118-1845540000-1845547200@kingscity.church
SUMMARY:SUNDAY WORSHIP SERVICE
DESCRIPTION:
URL:https://kingscity.church/event/sunday-worship/2028-06-25/
LOCATION:RCCG KINGCITY\, BAKER HALL 6 KARBRO DR\, CARDUP\, Perth\, WA\, 6122\, Australia
CATEGORIES:Sunday Worship
ATTACH;FMTTYPE=image/png:https://kingscity.church/wp-content/uploads/2023/03/Untitled-design.png
ORGANIZER;CN="RCCG- KingCity Church":MAILTO:info@kingscity.church
END:VEVENT
BEGIN:VEVENT
DTSTART;TZID=Asia/Shanghai:20280702T100000
DTEND;TZID=Asia/Shanghai:20280702T120000
DTSTAMP:20260424T205334
CREATED:20170821T053725Z
LAST-MODIFIED:20260210T052226Z
UID:10001119-1846144800-1846152000@kingscity.church
SUMMARY:SUNDAY WORSHIP SERVICE
DESCRIPTION:
URL:https://kingscity.church/event/sunday-worship/2028-07-02/
LOCATION:RCCG KINGCITY\, BAKER HALL 6 KARBRO DR\, CARDUP\, Perth\, WA\, 6122\, Australia
CATEGORIES:Sunday Worship
ATTACH;FMTTYPE=image/png:https://kingscity.church/wp-content/uploads/2023/03/Untitled-design.png
ORGANIZER;CN="RCCG- KingCity Church":MAILTO:info@kingscity.church
END:VEVENT
BEGIN:VEVENT
DTSTART;TZID=Asia/Shanghai:20280709T100000
DTEND;TZID=Asia/Shanghai:20280709T120000
DTSTAMP:20260424T205334
CREATED:20170821T053725Z
LAST-MODIFIED:20260210T052226Z
UID:10001120-1846749600-1846756800@kingscity.church
SUMMARY:SUNDAY WORSHIP SERVICE
DESCRIPTION:
URL:https://kingscity.church/event/sunday-worship/2028-07-09/
LOCATION:RCCG KINGCITY\, BAKER HALL 6 KARBRO DR\, CARDUP\, Perth\, WA\, 6122\, Australia
CATEGORIES:Sunday Worship
ATTACH;FMTTYPE=image/png:https://kingscity.church/wp-content/uploads/2023/03/Untitled-design.png
ORGANIZER;CN="RCCG- KingCity Church":MAILTO:info@kingscity.church
END:VEVENT
BEGIN:VEVENT
DTSTART;TZID=Asia/Shanghai:20280716T100000
DTEND;TZID=Asia/Shanghai:20280716T120000
DTSTAMP:20260424T205334
CREATED:20170821T053725Z
LAST-MODIFIED:20260210T052226Z
UID:10001121-1847354400-1847361600@kingscity.church
SUMMARY:SUNDAY WORSHIP SERVICE
DESCRIPTION:
URL:https://kingscity.church/event/sunday-worship/2028-07-16/
LOCATION:RCCG KINGCITY\, BAKER HALL 6 KARBRO DR\, CARDUP\, Perth\, WA\, 6122\, Australia
CATEGORIES:Sunday Worship
ATTACH;FMTTYPE=image/png:https://kingscity.church/wp-content/uploads/2023/03/Untitled-design.png
ORGANIZER;CN="RCCG- KingCity Church":MAILTO:info@kingscity.church
END:VEVENT
BEGIN:VEVENT
DTSTART;TZID=Asia/Shanghai:20280723T100000
DTEND;TZID=Asia/Shanghai:20280723T120000
DTSTAMP:20260424T205334
CREATED:20170821T053725Z
LAST-MODIFIED:20260210T052226Z
UID:10001122-1847959200-1847966400@kingscity.church
SUMMARY:SUNDAY WORSHIP SERVICE
DESCRIPTION:
URL:https://kingscity.church/event/sunday-worship/2028-07-23/
LOCATION:RCCG KINGCITY\, BAKER HALL 6 KARBRO DR\, CARDUP\, Perth\, WA\, 6122\, Australia
CATEGORIES:Sunday Worship
ATTACH;FMTTYPE=image/png:https://kingscity.church/wp-content/uploads/2023/03/Untitled-design.png
ORGANIZER;CN="RCCG- KingCity Church":MAILTO:info@kingscity.church
END:VEVENT
BEGIN:VEVENT
DTSTART;TZID=Asia/Shanghai:20280730T100000
DTEND;TZID=Asia/Shanghai:20280730T120000
DTSTAMP:20260424T205334
CREATED:20170821T053725Z
LAST-MODIFIED:20260210T052226Z
UID:10001123-1848564000-1848571200@kingscity.church
SUMMARY:SUNDAY WORSHIP SERVICE
DESCRIPTION:
URL:https://kingscity.church/event/sunday-worship/2028-07-30/
LOCATION:RCCG KINGCITY\, BAKER HALL 6 KARBRO DR\, CARDUP\, Perth\, WA\, 6122\, Australia
CATEGORIES:Sunday Worship
ATTACH;FMTTYPE=image/png:https://kingscity.church/wp-content/uploads/2023/03/Untitled-design.png
ORGANIZER;CN="RCCG- KingCity Church":MAILTO:info@kingscity.church
END:VEVENT
BEGIN:VEVENT
DTSTART;TZID=Asia/Shanghai:20280806T100000
DTEND;TZID=Asia/Shanghai:20280806T120000
DTSTAMP:20260424T205334
CREATED:20170821T053725Z
LAST-MODIFIED:20260210T052226Z
UID:10001124-1849168800-1849176000@kingscity.church
SUMMARY:SUNDAY WORSHIP SERVICE
DESCRIPTION:
URL:https://kingscity.church/event/sunday-worship/2028-08-06/
LOCATION:RCCG KINGCITY\, BAKER HALL 6 KARBRO DR\, CARDUP\, Perth\, WA\, 6122\, Australia
CATEGORIES:Sunday Worship
ATTACH;FMTTYPE=image/png:https://kingscity.church/wp-content/uploads/2023/03/Untitled-design.png
ORGANIZER;CN="RCCG- KingCity Church":MAILTO:info@kingscity.church
END:VEVENT
BEGIN:VEVENT
DTSTART;TZID=Asia/Shanghai:20280813T100000
DTEND;TZID=Asia/Shanghai:20280813T120000
DTSTAMP:20260424T205334
CREATED:20170821T053725Z
LAST-MODIFIED:20260210T052226Z
UID:10001125-1849773600-1849780800@kingscity.church
SUMMARY:SUNDAY WORSHIP SERVICE
DESCRIPTION:
URL:https://kingscity.church/event/sunday-worship/2028-08-13/
LOCATION:RCCG KINGCITY\, BAKER HALL 6 KARBRO DR\, CARDUP\, Perth\, WA\, 6122\, Australia
CATEGORIES:Sunday Worship
ATTACH;FMTTYPE=image/png:https://kingscity.church/wp-content/uploads/2023/03/Untitled-design.png
ORGANIZER;CN="RCCG- KingCity Church":MAILTO:info@kingscity.church
END:VEVENT
BEGIN:VEVENT
DTSTART;TZID=Asia/Shanghai:20280820T100000
DTEND;TZID=Asia/Shanghai:20280820T120000
DTSTAMP:20260424T205334
CREATED:20170821T053725Z
LAST-MODIFIED:20260210T052226Z
UID:10001126-1850378400-1850385600@kingscity.church
SUMMARY:SUNDAY WORSHIP SERVICE
DESCRIPTION:
URL:https://kingscity.church/event/sunday-worship/2028-08-20/
LOCATION:RCCG KINGCITY\, BAKER HALL 6 KARBRO DR\, CARDUP\, Perth\, WA\, 6122\, Australia
CATEGORIES:Sunday Worship
ATTACH;FMTTYPE=image/png:https://kingscity.church/wp-content/uploads/2023/03/Untitled-design.png
ORGANIZER;CN="RCCG- KingCity Church":MAILTO:info@kingscity.church
END:VEVENT
BEGIN:VEVENT
DTSTART;TZID=Asia/Shanghai:20280827T100000
DTEND;TZID=Asia/Shanghai:20280827T120000
DTSTAMP:20260424T205334
CREATED:20170821T053725Z
LAST-MODIFIED:20260210T052226Z
UID:10001127-1850983200-1850990400@kingscity.church
SUMMARY:SUNDAY WORSHIP SERVICE
DESCRIPTION:
URL:https://kingscity.church/event/sunday-worship/2028-08-27/
LOCATION:RCCG KINGCITY\, BAKER HALL 6 KARBRO DR\, CARDUP\, Perth\, WA\, 6122\, Australia
CATEGORIES:Sunday Worship
ATTACH;FMTTYPE=image/png:https://kingscity.church/wp-content/uploads/2023/03/Untitled-design.png
ORGANIZER;CN="RCCG- KingCity Church":MAILTO:info@kingscity.church
END:VEVENT
BEGIN:VEVENT
DTSTART;TZID=Asia/Shanghai:20280903T100000
DTEND;TZID=Asia/Shanghai:20280903T120000
DTSTAMP:20260424T205334
CREATED:20170821T053725Z
LAST-MODIFIED:20260210T052226Z
UID:10001128-1851588000-1851595200@kingscity.church
SUMMARY:SUNDAY WORSHIP SERVICE
DESCRIPTION:
URL:https://kingscity.church/event/sunday-worship/2028-09-03/
LOCATION:RCCG KINGCITY\, BAKER HALL 6 KARBRO DR\, CARDUP\, Perth\, WA\, 6122\, Australia
CATEGORIES:Sunday Worship
ATTACH;FMTTYPE=image/png:https://kingscity.church/wp-content/uploads/2023/03/Untitled-design.png
ORGANIZER;CN="RCCG- KingCity Church":MAILTO:info@kingscity.church
END:VEVENT
BEGIN:VEVENT
DTSTART;TZID=Asia/Shanghai:20280910T100000
DTEND;TZID=Asia/Shanghai:20280910T120000
DTSTAMP:20260424T205334
CREATED:20170821T053725Z
LAST-MODIFIED:20260210T052226Z
UID:10001129-1852192800-1852200000@kingscity.church
SUMMARY:SUNDAY WORSHIP SERVICE
DESCRIPTION:
URL:https://kingscity.church/event/sunday-worship/2028-09-10/
LOCATION:RCCG KINGCITY\, BAKER HALL 6 KARBRO DR\, CARDUP\, Perth\, WA\, 6122\, Australia
CATEGORIES:Sunday Worship
ATTACH;FMTTYPE=image/png:https://kingscity.church/wp-content/uploads/2023/03/Untitled-design.png
ORGANIZER;CN="RCCG- KingCity Church":MAILTO:info@kingscity.church
END:VEVENT
BEGIN:VEVENT
DTSTART;TZID=Asia/Shanghai:20280917T100000
DTEND;TZID=Asia/Shanghai:20280917T120000
DTSTAMP:20260424T205334
CREATED:20170821T053725Z
LAST-MODIFIED:20260210T052226Z
UID:10001130-1852797600-1852804800@kingscity.church
SUMMARY:SUNDAY WORSHIP SERVICE
DESCRIPTION:
URL:https://kingscity.church/event/sunday-worship/2028-09-17/
LOCATION:RCCG KINGCITY\, BAKER HALL 6 KARBRO DR\, CARDUP\, Perth\, WA\, 6122\, Australia
CATEGORIES:Sunday Worship
ATTACH;FMTTYPE=image/png:https://kingscity.church/wp-content/uploads/2023/03/Untitled-design.png
ORGANIZER;CN="RCCG- KingCity Church":MAILTO:info@kingscity.church
END:VEVENT
BEGIN:VEVENT
DTSTART;TZID=Asia/Shanghai:20280924T100000
DTEND;TZID=Asia/Shanghai:20280924T120000
DTSTAMP:20260424T205334
CREATED:20170821T053725Z
LAST-MODIFIED:20260210T052226Z
UID:10001131-1853402400-1853409600@kingscity.church
SUMMARY:SUNDAY WORSHIP SERVICE
DESCRIPTION:
URL:https://kingscity.church/event/sunday-worship/2028-09-24/
LOCATION:RCCG KINGCITY\, BAKER HALL 6 KARBRO DR\, CARDUP\, Perth\, WA\, 6122\, Australia
CATEGORIES:Sunday Worship
ATTACH;FMTTYPE=image/png:https://kingscity.church/wp-content/uploads/2023/03/Untitled-design.png
ORGANIZER;CN="RCCG- KingCity Church":MAILTO:info@kingscity.church
END:VEVENT
BEGIN:VEVENT
DTSTART;TZID=Asia/Shanghai:20281001T100000
DTEND;TZID=Asia/Shanghai:20281001T120000
DTSTAMP:20260424T205334
CREATED:20170821T053725Z
LAST-MODIFIED:20260210T052226Z
UID:10001132-1854007200-1854014400@kingscity.church
SUMMARY:SUNDAY WORSHIP SERVICE
DESCRIPTION:
URL:https://kingscity.church/event/sunday-worship/2028-10-01/
LOCATION:RCCG KINGCITY\, BAKER HALL 6 KARBRO DR\, CARDUP\, Perth\, WA\, 6122\, Australia
CATEGORIES:Sunday Worship
ATTACH;FMTTYPE=image/png:https://kingscity.church/wp-content/uploads/2023/03/Untitled-design.png
ORGANIZER;CN="RCCG- KingCity Church":MAILTO:info@kingscity.church
END:VEVENT
BEGIN:VEVENT
DTSTART;TZID=Asia/Shanghai:20281008T100000
DTEND;TZID=Asia/Shanghai:20281008T120000
DTSTAMP:20260424T205334
CREATED:20170821T053725Z
LAST-MODIFIED:20260210T052226Z
UID:10001133-1854612000-1854619200@kingscity.church
SUMMARY:SUNDAY WORSHIP SERVICE
DESCRIPTION:
URL:https://kingscity.church/event/sunday-worship/2028-10-08/
LOCATION:RCCG KINGCITY\, BAKER HALL 6 KARBRO DR\, CARDUP\, Perth\, WA\, 6122\, Australia
CATEGORIES:Sunday Worship
ATTACH;FMTTYPE=image/png:https://kingscity.church/wp-content/uploads/2023/03/Untitled-design.png
ORGANIZER;CN="RCCG- KingCity Church":MAILTO:info@kingscity.church
END:VEVENT
BEGIN:VEVENT
DTSTART;TZID=Asia/Shanghai:20281015T100000
DTEND;TZID=Asia/Shanghai:20281015T120000
DTSTAMP:20260424T205334
CREATED:20170821T053725Z
LAST-MODIFIED:20260210T052226Z
UID:10001134-1855216800-1855224000@kingscity.church
SUMMARY:SUNDAY WORSHIP SERVICE
DESCRIPTION:
URL:https://kingscity.church/event/sunday-worship/2028-10-15/
LOCATION:RCCG KINGCITY\, BAKER HALL 6 KARBRO DR\, CARDUP\, Perth\, WA\, 6122\, Australia
CATEGORIES:Sunday Worship
ATTACH;FMTTYPE=image/png:https://kingscity.church/wp-content/uploads/2023/03/Untitled-design.png
ORGANIZER;CN="RCCG- KingCity Church":MAILTO:info@kingscity.church
END:VEVENT
BEGIN:VEVENT
DTSTART;TZID=Asia/Shanghai:20281022T100000
DTEND;TZID=Asia/Shanghai:20281022T120000
DTSTAMP:20260424T205334
CREATED:20170821T053725Z
LAST-MODIFIED:20260210T052226Z
UID:10001135-1855821600-1855828800@kingscity.church
SUMMARY:SUNDAY WORSHIP SERVICE
DESCRIPTION:
URL:https://kingscity.church/event/sunday-worship/2028-10-22/
LOCATION:RCCG KINGCITY\, BAKER HALL 6 KARBRO DR\, CARDUP\, Perth\, WA\, 6122\, Australia
CATEGORIES:Sunday Worship
ATTACH;FMTTYPE=image/png:https://kingscity.church/wp-content/uploads/2023/03/Untitled-design.png
ORGANIZER;CN="RCCG- KingCity Church":MAILTO:info@kingscity.church
END:VEVENT
BEGIN:VEVENT
DTSTART;TZID=Asia/Shanghai:20281029T100000
DTEND;TZID=Asia/Shanghai:20281029T120000
DTSTAMP:20260424T205334
CREATED:20170821T053725Z
LAST-MODIFIED:20260210T052226Z
UID:10001136-1856426400-1856433600@kingscity.church
SUMMARY:SUNDAY WORSHIP SERVICE
DESCRIPTION:
URL:https://kingscity.church/event/sunday-worship/2028-10-29/
LOCATION:RCCG KINGCITY\, BAKER HALL 6 KARBRO DR\, CARDUP\, Perth\, WA\, 6122\, Australia
CATEGORIES:Sunday Worship
ATTACH;FMTTYPE=image/png:https://kingscity.church/wp-content/uploads/2023/03/Untitled-design.png
ORGANIZER;CN="RCCG- KingCity Church":MAILTO:info@kingscity.church
END:VEVENT
BEGIN:VEVENT
DTSTART;TZID=Asia/Shanghai:20281105T100000
DTEND;TZID=Asia/Shanghai:20281105T120000
DTSTAMP:20260424T205334
CREATED:20170821T053725Z
LAST-MODIFIED:20260210T052226Z
UID:10001137-1857031200-1857038400@kingscity.church
SUMMARY:SUNDAY WORSHIP SERVICE
DESCRIPTION:
URL:https://kingscity.church/event/sunday-worship/2028-11-05/
LOCATION:RCCG KINGCITY\, BAKER HALL 6 KARBRO DR\, CARDUP\, Perth\, WA\, 6122\, Australia
CATEGORIES:Sunday Worship
ATTACH;FMTTYPE=image/png:https://kingscity.church/wp-content/uploads/2023/03/Untitled-design.png
ORGANIZER;CN="RCCG- KingCity Church":MAILTO:info@kingscity.church
END:VEVENT
BEGIN:VEVENT
DTSTART;TZID=Asia/Shanghai:20281112T100000
DTEND;TZID=Asia/Shanghai:20281112T120000
DTSTAMP:20260424T205334
CREATED:20170821T053725Z
LAST-MODIFIED:20260210T052226Z
UID:10001138-1857636000-1857643200@kingscity.church
SUMMARY:SUNDAY WORSHIP SERVICE
DESCRIPTION:
URL:https://kingscity.church/event/sunday-worship/2028-11-12/
LOCATION:RCCG KINGCITY\, BAKER HALL 6 KARBRO DR\, CARDUP\, Perth\, WA\, 6122\, Australia
CATEGORIES:Sunday Worship
ATTACH;FMTTYPE=image/png:https://kingscity.church/wp-content/uploads/2023/03/Untitled-design.png
ORGANIZER;CN="RCCG- KingCity Church":MAILTO:info@kingscity.church
END:VEVENT
BEGIN:VEVENT
DTSTART;TZID=Asia/Shanghai:20281119T100000
DTEND;TZID=Asia/Shanghai:20281119T120000
DTSTAMP:20260424T205334
CREATED:20170821T053725Z
LAST-MODIFIED:20260210T052226Z
UID:10001139-1858240800-1858248000@kingscity.church
SUMMARY:SUNDAY WORSHIP SERVICE
DESCRIPTION:
URL:https://kingscity.church/event/sunday-worship/2028-11-19/
LOCATION:RCCG KINGCITY\, BAKER HALL 6 KARBRO DR\, CARDUP\, Perth\, WA\, 6122\, Australia
CATEGORIES:Sunday Worship
ATTACH;FMTTYPE=image/png:https://kingscity.church/wp-content/uploads/2023/03/Untitled-design.png
ORGANIZER;CN="RCCG- KingCity Church":MAILTO:info@kingscity.church
END:VEVENT
BEGIN:VEVENT
DTSTART;TZID=Asia/Shanghai:20281126T100000
DTEND;TZID=Asia/Shanghai:20281126T120000
DTSTAMP:20260424T205334
CREATED:20170821T053725Z
LAST-MODIFIED:20260210T052226Z
UID:10001140-1858845600-1858852800@kingscity.church
SUMMARY:SUNDAY WORSHIP SERVICE
DESCRIPTION:
URL:https://kingscity.church/event/sunday-worship/2028-11-26/
LOCATION:RCCG KINGCITY\, BAKER HALL 6 KARBRO DR\, CARDUP\, Perth\, WA\, 6122\, Australia
CATEGORIES:Sunday Worship
ATTACH;FMTTYPE=image/png:https://kingscity.church/wp-content/uploads/2023/03/Untitled-design.png
ORGANIZER;CN="RCCG- KingCity Church":MAILTO:info@kingscity.church
END:VEVENT
BEGIN:VEVENT
DTSTART;TZID=Asia/Shanghai:20281203T100000
DTEND;TZID=Asia/Shanghai:20281203T120000
DTSTAMP:20260424T205334
CREATED:20170821T053725Z
LAST-MODIFIED:20260210T052226Z
UID:10001141-1859450400-1859457600@kingscity.church
SUMMARY:SUNDAY WORSHIP SERVICE
DESCRIPTION:
URL:https://kingscity.church/event/sunday-worship/2028-12-03/
LOCATION:RCCG KINGCITY\, BAKER HALL 6 KARBRO DR\, CARDUP\, Perth\, WA\, 6122\, Australia
CATEGORIES:Sunday Worship
ATTACH;FMTTYPE=image/png:https://kingscity.church/wp-content/uploads/2023/03/Untitled-design.png
ORGANIZER;CN="RCCG- KingCity Church":MAILTO:info@kingscity.church
END:VEVENT
BEGIN:VEVENT
DTSTART;TZID=Asia/Shanghai:20281210T100000
DTEND;TZID=Asia/Shanghai:20281210T120000
DTSTAMP:20260424T205334
CREATED:20170821T053725Z
LAST-MODIFIED:20260210T052226Z
UID:10001142-1860055200-1860062400@kingscity.church
SUMMARY:SUNDAY WORSHIP SERVICE
DESCRIPTION:
URL:https://kingscity.church/event/sunday-worship/2028-12-10/
LOCATION:RCCG KINGCITY\, BAKER HALL 6 KARBRO DR\, CARDUP\, Perth\, WA\, 6122\, Australia
CATEGORIES:Sunday Worship
ATTACH;FMTTYPE=image/png:https://kingscity.church/wp-content/uploads/2023/03/Untitled-design.png
ORGANIZER;CN="RCCG- KingCity Church":MAILTO:info@kingscity.church
END:VEVENT
END:VCALENDAR