BEGIN:VCALENDAR
VERSION:2.0
PRODID:-//RCCG - KingCity Perth Western Australia - ECPv6.15.15//NONSGML v1.0//EN
CALSCALE:GREGORIAN
METHOD:PUBLISH
X-WR-CALNAME:RCCG - KingCity Perth Western Australia
X-ORIGINAL-URL:https://kingscity.church
X-WR-CALDESC:Events for RCCG - KingCity Perth Western Australia
REFRESH-INTERVAL;VALUE=DURATION:PT1H
X-Robots-Tag:noindex
X-PUBLISHED-TTL:PT1H
BEGIN:VTIMEZONE
TZID:Australia/Perth
BEGIN:STANDARD
TZOFFSETFROM:+0800
TZOFFSETTO:+0800
TZNAME:AWST
DTSTART:20250101T000000
END:STANDARD
END:VTIMEZONE
BEGIN:VEVENT
DTSTART;TZID=Australia/Perth:20260427T060000
DTEND;TZID=Australia/Perth:20260427T063000
DTSTAMP:20260424T011413
CREATED:20260210T045519Z
LAST-MODIFIED:20260210T045519Z
UID:10001508-1777269600-1777271400@kingscity.church
SUMMARY:Monday Morning Devotion
DESCRIPTION:
URL:https://kingscity.church/event/monday-morning-devotion/2026-04-27/
LOCATION:ONLINE\, Join Zoom Meeting https://us02web.zoom.us/j/83967930339?pwd=MFRZUmJXVGlDaSswZHVCU1hGTGV3QT09
END:VEVENT
BEGIN:VEVENT
DTSTART;TZID=Australia/Perth:20260504T060000
DTEND;TZID=Australia/Perth:20260504T063000
DTSTAMP:20260424T011413
CREATED:20260210T045519Z
LAST-MODIFIED:20260210T045519Z
UID:10001509-1777874400-1777876200@kingscity.church
SUMMARY:Monday Morning Devotion
DESCRIPTION:
URL:https://kingscity.church/event/monday-morning-devotion/2026-05-04/
LOCATION:ONLINE\, Join Zoom Meeting https://us02web.zoom.us/j/83967930339?pwd=MFRZUmJXVGlDaSswZHVCU1hGTGV3QT09
END:VEVENT
BEGIN:VEVENT
DTSTART;TZID=Australia/Perth:20260511T060000
DTEND;TZID=Australia/Perth:20260511T063000
DTSTAMP:20260424T011413
CREATED:20260210T045519Z
LAST-MODIFIED:20260210T045519Z
UID:10001510-1778479200-1778481000@kingscity.church
SUMMARY:Monday Morning Devotion
DESCRIPTION:
URL:https://kingscity.church/event/monday-morning-devotion/2026-05-11/
LOCATION:ONLINE\, Join Zoom Meeting https://us02web.zoom.us/j/83967930339?pwd=MFRZUmJXVGlDaSswZHVCU1hGTGV3QT09
END:VEVENT
BEGIN:VEVENT
DTSTART;TZID=Australia/Perth:20260518T060000
DTEND;TZID=Australia/Perth:20260518T063000
DTSTAMP:20260424T011413
CREATED:20260210T045519Z
LAST-MODIFIED:20260210T045519Z
UID:10001511-1779084000-1779085800@kingscity.church
SUMMARY:Monday Morning Devotion
DESCRIPTION:
URL:https://kingscity.church/event/monday-morning-devotion/2026-05-18/
LOCATION:ONLINE\, Join Zoom Meeting https://us02web.zoom.us/j/83967930339?pwd=MFRZUmJXVGlDaSswZHVCU1hGTGV3QT09
END:VEVENT
BEGIN:VEVENT
DTSTART;TZID=Australia/Perth:20260525T060000
DTEND;TZID=Australia/Perth:20260525T063000
DTSTAMP:20260424T011413
CREATED:20260210T045519Z
LAST-MODIFIED:20260210T045519Z
UID:10001512-1779688800-1779690600@kingscity.church
SUMMARY:Monday Morning Devotion
DESCRIPTION:
URL:https://kingscity.church/event/monday-morning-devotion/2026-05-25/
LOCATION:ONLINE\, Join Zoom Meeting https://us02web.zoom.us/j/83967930339?pwd=MFRZUmJXVGlDaSswZHVCU1hGTGV3QT09
END:VEVENT
BEGIN:VEVENT
DTSTART;TZID=Australia/Perth:20260601T060000
DTEND;TZID=Australia/Perth:20260601T063000
DTSTAMP:20260424T011413
CREATED:20260210T045519Z
LAST-MODIFIED:20260210T045519Z
UID:10001513-1780293600-1780295400@kingscity.church
SUMMARY:Monday Morning Devotion
DESCRIPTION:
URL:https://kingscity.church/event/monday-morning-devotion/2026-06-01/
LOCATION:ONLINE\, Join Zoom Meeting https://us02web.zoom.us/j/83967930339?pwd=MFRZUmJXVGlDaSswZHVCU1hGTGV3QT09
END:VEVENT
BEGIN:VEVENT
DTSTART;TZID=Australia/Perth:20260608T060000
DTEND;TZID=Australia/Perth:20260608T063000
DTSTAMP:20260424T011413
CREATED:20260210T045519Z
LAST-MODIFIED:20260210T045519Z
UID:10001514-1780898400-1780900200@kingscity.church
SUMMARY:Monday Morning Devotion
DESCRIPTION:
URL:https://kingscity.church/event/monday-morning-devotion/2026-06-08/
LOCATION:ONLINE\, Join Zoom Meeting https://us02web.zoom.us/j/83967930339?pwd=MFRZUmJXVGlDaSswZHVCU1hGTGV3QT09
END:VEVENT
BEGIN:VEVENT
DTSTART;TZID=Australia/Perth:20260615T060000
DTEND;TZID=Australia/Perth:20260615T063000
DTSTAMP:20260424T011413
CREATED:20260210T045519Z
LAST-MODIFIED:20260210T045519Z
UID:10001515-1781503200-1781505000@kingscity.church
SUMMARY:Monday Morning Devotion
DESCRIPTION:
URL:https://kingscity.church/event/monday-morning-devotion/2026-06-15/
LOCATION:ONLINE\, Join Zoom Meeting https://us02web.zoom.us/j/83967930339?pwd=MFRZUmJXVGlDaSswZHVCU1hGTGV3QT09
END:VEVENT
BEGIN:VEVENT
DTSTART;TZID=Australia/Perth:20260622T060000
DTEND;TZID=Australia/Perth:20260622T063000
DTSTAMP:20260424T011413
CREATED:20260210T045519Z
LAST-MODIFIED:20260210T045519Z
UID:10001516-1782108000-1782109800@kingscity.church
SUMMARY:Monday Morning Devotion
DESCRIPTION:
URL:https://kingscity.church/event/monday-morning-devotion/2026-06-22/
LOCATION:ONLINE\, Join Zoom Meeting https://us02web.zoom.us/j/83967930339?pwd=MFRZUmJXVGlDaSswZHVCU1hGTGV3QT09
END:VEVENT
BEGIN:VEVENT
DTSTART;TZID=Australia/Perth:20260629T060000
DTEND;TZID=Australia/Perth:20260629T063000
DTSTAMP:20260424T011413
CREATED:20260210T045519Z
LAST-MODIFIED:20260210T045519Z
UID:10001517-1782712800-1782714600@kingscity.church
SUMMARY:Monday Morning Devotion
DESCRIPTION:
URL:https://kingscity.church/event/monday-morning-devotion/2026-06-29/
LOCATION:ONLINE\, Join Zoom Meeting https://us02web.zoom.us/j/83967930339?pwd=MFRZUmJXVGlDaSswZHVCU1hGTGV3QT09
END:VEVENT
BEGIN:VEVENT
DTSTART;TZID=Australia/Perth:20260706T060000
DTEND;TZID=Australia/Perth:20260706T063000
DTSTAMP:20260424T011413
CREATED:20260210T045519Z
LAST-MODIFIED:20260210T045519Z
UID:10001518-1783317600-1783319400@kingscity.church
SUMMARY:Monday Morning Devotion
DESCRIPTION:
URL:https://kingscity.church/event/monday-morning-devotion/2026-07-06/
LOCATION:ONLINE\, Join Zoom Meeting https://us02web.zoom.us/j/83967930339?pwd=MFRZUmJXVGlDaSswZHVCU1hGTGV3QT09
END:VEVENT
BEGIN:VEVENT
DTSTART;TZID=Australia/Perth:20260713T060000
DTEND;TZID=Australia/Perth:20260713T063000
DTSTAMP:20260424T011413
CREATED:20260210T045519Z
LAST-MODIFIED:20260210T045519Z
UID:10001519-1783922400-1783924200@kingscity.church
SUMMARY:Monday Morning Devotion
DESCRIPTION:
URL:https://kingscity.church/event/monday-morning-devotion/2026-07-13/
LOCATION:ONLINE\, Join Zoom Meeting https://us02web.zoom.us/j/83967930339?pwd=MFRZUmJXVGlDaSswZHVCU1hGTGV3QT09
END:VEVENT
BEGIN:VEVENT
DTSTART;TZID=Australia/Perth:20260720T060000
DTEND;TZID=Australia/Perth:20260720T063000
DTSTAMP:20260424T011413
CREATED:20260210T045519Z
LAST-MODIFIED:20260210T045519Z
UID:10001520-1784527200-1784529000@kingscity.church
SUMMARY:Monday Morning Devotion
DESCRIPTION:
URL:https://kingscity.church/event/monday-morning-devotion/2026-07-20/
LOCATION:ONLINE\, Join Zoom Meeting https://us02web.zoom.us/j/83967930339?pwd=MFRZUmJXVGlDaSswZHVCU1hGTGV3QT09
END:VEVENT
BEGIN:VEVENT
DTSTART;TZID=Australia/Perth:20260727T060000
DTEND;TZID=Australia/Perth:20260727T063000
DTSTAMP:20260424T011413
CREATED:20260210T045519Z
LAST-MODIFIED:20260210T045519Z
UID:10001521-1785132000-1785133800@kingscity.church
SUMMARY:Monday Morning Devotion
DESCRIPTION:
URL:https://kingscity.church/event/monday-morning-devotion/2026-07-27/
LOCATION:ONLINE\, Join Zoom Meeting https://us02web.zoom.us/j/83967930339?pwd=MFRZUmJXVGlDaSswZHVCU1hGTGV3QT09
END:VEVENT
BEGIN:VEVENT
DTSTART;TZID=Australia/Perth:20260803T060000
DTEND;TZID=Australia/Perth:20260803T063000
DTSTAMP:20260424T011413
CREATED:20260210T045519Z
LAST-MODIFIED:20260210T045519Z
UID:10001522-1785736800-1785738600@kingscity.church
SUMMARY:Monday Morning Devotion
DESCRIPTION:
URL:https://kingscity.church/event/monday-morning-devotion/2026-08-03/
LOCATION:ONLINE\, Join Zoom Meeting https://us02web.zoom.us/j/83967930339?pwd=MFRZUmJXVGlDaSswZHVCU1hGTGV3QT09
END:VEVENT
BEGIN:VEVENT
DTSTART;TZID=Australia/Perth:20260810T060000
DTEND;TZID=Australia/Perth:20260810T063000
DTSTAMP:20260424T011413
CREATED:20260210T045519Z
LAST-MODIFIED:20260210T045519Z
UID:10001523-1786341600-1786343400@kingscity.church
SUMMARY:Monday Morning Devotion
DESCRIPTION:
URL:https://kingscity.church/event/monday-morning-devotion/2026-08-10/
LOCATION:ONLINE\, Join Zoom Meeting https://us02web.zoom.us/j/83967930339?pwd=MFRZUmJXVGlDaSswZHVCU1hGTGV3QT09
END:VEVENT
BEGIN:VEVENT
DTSTART;TZID=Australia/Perth:20260817T060000
DTEND;TZID=Australia/Perth:20260817T063000
DTSTAMP:20260424T011413
CREATED:20260210T045519Z
LAST-MODIFIED:20260210T045519Z
UID:10001524-1786946400-1786948200@kingscity.church
SUMMARY:Monday Morning Devotion
DESCRIPTION:
URL:https://kingscity.church/event/monday-morning-devotion/2026-08-17/
LOCATION:ONLINE\, Join Zoom Meeting https://us02web.zoom.us/j/83967930339?pwd=MFRZUmJXVGlDaSswZHVCU1hGTGV3QT09
END:VEVENT
BEGIN:VEVENT
DTSTART;TZID=Australia/Perth:20260824T060000
DTEND;TZID=Australia/Perth:20260824T063000
DTSTAMP:20260424T011413
CREATED:20260210T045519Z
LAST-MODIFIED:20260210T045519Z
UID:10001525-1787551200-1787553000@kingscity.church
SUMMARY:Monday Morning Devotion
DESCRIPTION:
URL:https://kingscity.church/event/monday-morning-devotion/2026-08-24/
LOCATION:ONLINE\, Join Zoom Meeting https://us02web.zoom.us/j/83967930339?pwd=MFRZUmJXVGlDaSswZHVCU1hGTGV3QT09
END:VEVENT
BEGIN:VEVENT
DTSTART;TZID=Australia/Perth:20260831T060000
DTEND;TZID=Australia/Perth:20260831T063000
DTSTAMP:20260424T011413
CREATED:20260210T045519Z
LAST-MODIFIED:20260210T045519Z
UID:10001526-1788156000-1788157800@kingscity.church
SUMMARY:Monday Morning Devotion
DESCRIPTION:
URL:https://kingscity.church/event/monday-morning-devotion/2026-08-31/
LOCATION:ONLINE\, Join Zoom Meeting https://us02web.zoom.us/j/83967930339?pwd=MFRZUmJXVGlDaSswZHVCU1hGTGV3QT09
END:VEVENT
BEGIN:VEVENT
DTSTART;TZID=Australia/Perth:20260907T060000
DTEND;TZID=Australia/Perth:20260907T063000
DTSTAMP:20260424T011413
CREATED:20260210T045519Z
LAST-MODIFIED:20260210T045519Z
UID:10001527-1788760800-1788762600@kingscity.church
SUMMARY:Monday Morning Devotion
DESCRIPTION:
URL:https://kingscity.church/event/monday-morning-devotion/2026-09-07/
LOCATION:ONLINE\, Join Zoom Meeting https://us02web.zoom.us/j/83967930339?pwd=MFRZUmJXVGlDaSswZHVCU1hGTGV3QT09
END:VEVENT
BEGIN:VEVENT
DTSTART;TZID=Australia/Perth:20260914T060000
DTEND;TZID=Australia/Perth:20260914T063000
DTSTAMP:20260424T011413
CREATED:20260210T045519Z
LAST-MODIFIED:20260210T045519Z
UID:10001528-1789365600-1789367400@kingscity.church
SUMMARY:Monday Morning Devotion
DESCRIPTION:
URL:https://kingscity.church/event/monday-morning-devotion/2026-09-14/
LOCATION:ONLINE\, Join Zoom Meeting https://us02web.zoom.us/j/83967930339?pwd=MFRZUmJXVGlDaSswZHVCU1hGTGV3QT09
END:VEVENT
BEGIN:VEVENT
DTSTART;TZID=Australia/Perth:20260921T060000
DTEND;TZID=Australia/Perth:20260921T063000
DTSTAMP:20260424T011413
CREATED:20260210T045519Z
LAST-MODIFIED:20260210T045519Z
UID:10001529-1789970400-1789972200@kingscity.church
SUMMARY:Monday Morning Devotion
DESCRIPTION:
URL:https://kingscity.church/event/monday-morning-devotion/2026-09-21/
LOCATION:ONLINE\, Join Zoom Meeting https://us02web.zoom.us/j/83967930339?pwd=MFRZUmJXVGlDaSswZHVCU1hGTGV3QT09
END:VEVENT
BEGIN:VEVENT
DTSTART;TZID=Australia/Perth:20260928T060000
DTEND;TZID=Australia/Perth:20260928T063000
DTSTAMP:20260424T011413
CREATED:20260210T045519Z
LAST-MODIFIED:20260210T045519Z
UID:10001530-1790575200-1790577000@kingscity.church
SUMMARY:Monday Morning Devotion
DESCRIPTION:
URL:https://kingscity.church/event/monday-morning-devotion/2026-09-28/
LOCATION:ONLINE\, Join Zoom Meeting https://us02web.zoom.us/j/83967930339?pwd=MFRZUmJXVGlDaSswZHVCU1hGTGV3QT09
END:VEVENT
BEGIN:VEVENT
DTSTART;TZID=Australia/Perth:20261005T060000
DTEND;TZID=Australia/Perth:20261005T063000
DTSTAMP:20260424T011413
CREATED:20260210T045519Z
LAST-MODIFIED:20260210T045519Z
UID:10001531-1791180000-1791181800@kingscity.church
SUMMARY:Monday Morning Devotion
DESCRIPTION:
URL:https://kingscity.church/event/monday-morning-devotion/2026-10-05/
LOCATION:ONLINE\, Join Zoom Meeting https://us02web.zoom.us/j/83967930339?pwd=MFRZUmJXVGlDaSswZHVCU1hGTGV3QT09
END:VEVENT
BEGIN:VEVENT
DTSTART;TZID=Australia/Perth:20261012T060000
DTEND;TZID=Australia/Perth:20261012T063000
DTSTAMP:20260424T011413
CREATED:20260210T045519Z
LAST-MODIFIED:20260210T045519Z
UID:10001532-1791784800-1791786600@kingscity.church
SUMMARY:Monday Morning Devotion
DESCRIPTION:
URL:https://kingscity.church/event/monday-morning-devotion/2026-10-12/
LOCATION:ONLINE\, Join Zoom Meeting https://us02web.zoom.us/j/83967930339?pwd=MFRZUmJXVGlDaSswZHVCU1hGTGV3QT09
END:VEVENT
BEGIN:VEVENT
DTSTART;TZID=Australia/Perth:20261019T060000
DTEND;TZID=Australia/Perth:20261019T063000
DTSTAMP:20260424T011413
CREATED:20260210T045519Z
LAST-MODIFIED:20260210T045519Z
UID:10001533-1792389600-1792391400@kingscity.church
SUMMARY:Monday Morning Devotion
DESCRIPTION:
URL:https://kingscity.church/event/monday-morning-devotion/2026-10-19/
LOCATION:ONLINE\, Join Zoom Meeting https://us02web.zoom.us/j/83967930339?pwd=MFRZUmJXVGlDaSswZHVCU1hGTGV3QT09
END:VEVENT
BEGIN:VEVENT
DTSTART;TZID=Australia/Perth:20261026T060000
DTEND;TZID=Australia/Perth:20261026T063000
DTSTAMP:20260424T011413
CREATED:20260210T045519Z
LAST-MODIFIED:20260210T045519Z
UID:10001534-1792994400-1792996200@kingscity.church
SUMMARY:Monday Morning Devotion
DESCRIPTION:
URL:https://kingscity.church/event/monday-morning-devotion/2026-10-26/
LOCATION:ONLINE\, Join Zoom Meeting https://us02web.zoom.us/j/83967930339?pwd=MFRZUmJXVGlDaSswZHVCU1hGTGV3QT09
END:VEVENT
BEGIN:VEVENT
DTSTART;TZID=Australia/Perth:20261102T060000
DTEND;TZID=Australia/Perth:20261102T063000
DTSTAMP:20260424T011413
CREATED:20260210T045519Z
LAST-MODIFIED:20260210T045519Z
UID:10001535-1793599200-1793601000@kingscity.church
SUMMARY:Monday Morning Devotion
DESCRIPTION:
URL:https://kingscity.church/event/monday-morning-devotion/2026-11-02/
LOCATION:ONLINE\, Join Zoom Meeting https://us02web.zoom.us/j/83967930339?pwd=MFRZUmJXVGlDaSswZHVCU1hGTGV3QT09
END:VEVENT
BEGIN:VEVENT
DTSTART;TZID=Australia/Perth:20261109T060000
DTEND;TZID=Australia/Perth:20261109T063000
DTSTAMP:20260424T011413
CREATED:20260210T045519Z
LAST-MODIFIED:20260210T045519Z
UID:10001536-1794204000-1794205800@kingscity.church
SUMMARY:Monday Morning Devotion
DESCRIPTION:
URL:https://kingscity.church/event/monday-morning-devotion/2026-11-09/
LOCATION:ONLINE\, Join Zoom Meeting https://us02web.zoom.us/j/83967930339?pwd=MFRZUmJXVGlDaSswZHVCU1hGTGV3QT09
END:VEVENT
BEGIN:VEVENT
DTSTART;TZID=Australia/Perth:20261116T060000
DTEND;TZID=Australia/Perth:20261116T063000
DTSTAMP:20260424T011413
CREATED:20260210T045519Z
LAST-MODIFIED:20260210T045519Z
UID:10001537-1794808800-1794810600@kingscity.church
SUMMARY:Monday Morning Devotion
DESCRIPTION:
URL:https://kingscity.church/event/monday-morning-devotion/2026-11-16/
LOCATION:ONLINE\, Join Zoom Meeting https://us02web.zoom.us/j/83967930339?pwd=MFRZUmJXVGlDaSswZHVCU1hGTGV3QT09
END:VEVENT
END:VCALENDAR