BEGIN:VCALENDAR
VERSION:2.0
PRODID:-//RCCG - KingCity Perth Western Australia - ECPv6.15.15//NONSGML v1.0//EN
CALSCALE:GREGORIAN
METHOD:PUBLISH
X-WR-CALNAME:RCCG - KingCity Perth Western Australia
X-ORIGINAL-URL:https://kingscity.church
X-WR-CALDESC:Events for RCCG - KingCity Perth Western Australia
REFRESH-INTERVAL;VALUE=DURATION:PT1H
X-Robots-Tag:noindex
X-PUBLISHED-TTL:PT1H
BEGIN:VTIMEZONE
TZID:Asia/Shanghai
BEGIN:STANDARD
TZOFFSETFROM:+0800
TZOFFSETTO:+0800
TZNAME:CST
DTSTART:20250101T000000
END:STANDARD
END:VTIMEZONE
BEGIN:VEVENT
DTSTART;TZID=Asia/Shanghai:20260508T180000
DTEND;TZID=Asia/Shanghai:20260508T200000
DTSTAMP:20260424T024203
CREATED:20231207T115241Z
LAST-MODIFIED:20240229T121308Z
UID:10000083-1778263200-1778270400@kingscity.church
SUMMARY:HOME FELLOWSHIP CONNECT
DESCRIPTION:
URL:https://kingscity.church/event/home-fellowship-connect/2026-05-08/
ATTACH;FMTTYPE=image/png:https://kingscity.church/wp-content/uploads/2023/12/Adobe_Express_20230806_0033450_1.png
END:VEVENT
BEGIN:VEVENT
DTSTART;TZID=Asia/Shanghai:20260612T180000
DTEND;TZID=Asia/Shanghai:20260612T200000
DTSTAMP:20260424T024203
CREATED:20231207T115241Z
LAST-MODIFIED:20240229T121308Z
UID:10000084-1781287200-1781294400@kingscity.church
SUMMARY:HOME FELLOWSHIP CONNECT
DESCRIPTION:
URL:https://kingscity.church/event/home-fellowship-connect/2026-06-12/
ATTACH;FMTTYPE=image/png:https://kingscity.church/wp-content/uploads/2023/12/Adobe_Express_20230806_0033450_1.png
END:VEVENT
BEGIN:VEVENT
DTSTART;TZID=Asia/Shanghai:20260710T180000
DTEND;TZID=Asia/Shanghai:20260710T200000
DTSTAMP:20260424T024203
CREATED:20231207T115241Z
LAST-MODIFIED:20240229T121308Z
UID:10000085-1783706400-1783713600@kingscity.church
SUMMARY:HOME FELLOWSHIP CONNECT
DESCRIPTION:
URL:https://kingscity.church/event/home-fellowship-connect/2026-07-10/
ATTACH;FMTTYPE=image/png:https://kingscity.church/wp-content/uploads/2023/12/Adobe_Express_20230806_0033450_1.png
END:VEVENT
BEGIN:VEVENT
DTSTART;TZID=Asia/Shanghai:20260814T180000
DTEND;TZID=Asia/Shanghai:20260814T200000
DTSTAMP:20260424T024203
CREATED:20231207T115241Z
LAST-MODIFIED:20240229T121308Z
UID:10000086-1786730400-1786737600@kingscity.church
SUMMARY:HOME FELLOWSHIP CONNECT
DESCRIPTION:
URL:https://kingscity.church/event/home-fellowship-connect/2026-08-14/
ATTACH;FMTTYPE=image/png:https://kingscity.church/wp-content/uploads/2023/12/Adobe_Express_20230806_0033450_1.png
END:VEVENT
BEGIN:VEVENT
DTSTART;TZID=Asia/Shanghai:20260911T180000
DTEND;TZID=Asia/Shanghai:20260911T200000
DTSTAMP:20260424T024203
CREATED:20231207T115241Z
LAST-MODIFIED:20240229T121308Z
UID:10000087-1789149600-1789156800@kingscity.church
SUMMARY:HOME FELLOWSHIP CONNECT
DESCRIPTION:
URL:https://kingscity.church/event/home-fellowship-connect/2026-09-11/
ATTACH;FMTTYPE=image/png:https://kingscity.church/wp-content/uploads/2023/12/Adobe_Express_20230806_0033450_1.png
END:VEVENT
BEGIN:VEVENT
DTSTART;TZID=Asia/Shanghai:20261009T180000
DTEND;TZID=Asia/Shanghai:20261009T200000
DTSTAMP:20260424T024203
CREATED:20231207T115241Z
LAST-MODIFIED:20240229T121308Z
UID:10000088-1791568800-1791576000@kingscity.church
SUMMARY:HOME FELLOWSHIP CONNECT
DESCRIPTION:
URL:https://kingscity.church/event/home-fellowship-connect/2026-10-09/
ATTACH;FMTTYPE=image/png:https://kingscity.church/wp-content/uploads/2023/12/Adobe_Express_20230806_0033450_1.png
END:VEVENT
BEGIN:VEVENT
DTSTART;TZID=Asia/Shanghai:20261113T180000
DTEND;TZID=Asia/Shanghai:20261113T200000
DTSTAMP:20260424T024203
CREATED:20231207T115241Z
LAST-MODIFIED:20240229T121308Z
UID:10000089-1794592800-1794600000@kingscity.church
SUMMARY:HOME FELLOWSHIP CONNECT
DESCRIPTION:
URL:https://kingscity.church/event/home-fellowship-connect/2026-11-13/
ATTACH;FMTTYPE=image/png:https://kingscity.church/wp-content/uploads/2023/12/Adobe_Express_20230806_0033450_1.png
END:VEVENT
BEGIN:VEVENT
DTSTART;TZID=Asia/Shanghai:20261211T180000
DTEND;TZID=Asia/Shanghai:20261211T200000
DTSTAMP:20260424T024203
CREATED:20231207T115241Z
LAST-MODIFIED:20240229T121308Z
UID:10000090-1797012000-1797019200@kingscity.church
SUMMARY:HOME FELLOWSHIP CONNECT
DESCRIPTION:
URL:https://kingscity.church/event/home-fellowship-connect/2026-12-11/
ATTACH;FMTTYPE=image/png:https://kingscity.church/wp-content/uploads/2023/12/Adobe_Express_20230806_0033450_1.png
END:VEVENT
BEGIN:VEVENT
DTSTART;TZID=Asia/Shanghai:20270108T180000
DTEND;TZID=Asia/Shanghai:20270108T200000
DTSTAMP:20260424T024203
CREATED:20231207T115241Z
LAST-MODIFIED:20240229T121308Z
UID:10000091-1799431200-1799438400@kingscity.church
SUMMARY:HOME FELLOWSHIP CONNECT
DESCRIPTION:
URL:https://kingscity.church/event/home-fellowship-connect/2027-01-08/
ATTACH;FMTTYPE=image/png:https://kingscity.church/wp-content/uploads/2023/12/Adobe_Express_20230806_0033450_1.png
END:VEVENT
BEGIN:VEVENT
DTSTART;TZID=Asia/Shanghai:20270212T180000
DTEND;TZID=Asia/Shanghai:20270212T200000
DTSTAMP:20260424T024203
CREATED:20231207T115241Z
LAST-MODIFIED:20240229T121308Z
UID:10000092-1802455200-1802462400@kingscity.church
SUMMARY:HOME FELLOWSHIP CONNECT
DESCRIPTION:
URL:https://kingscity.church/event/home-fellowship-connect/2027-02-12/
ATTACH;FMTTYPE=image/png:https://kingscity.church/wp-content/uploads/2023/12/Adobe_Express_20230806_0033450_1.png
END:VEVENT
BEGIN:VEVENT
DTSTART;TZID=Asia/Shanghai:20270312T180000
DTEND;TZID=Asia/Shanghai:20270312T200000
DTSTAMP:20260424T024203
CREATED:20231207T115241Z
LAST-MODIFIED:20240229T121308Z
UID:10000093-1804874400-1804881600@kingscity.church
SUMMARY:HOME FELLOWSHIP CONNECT
DESCRIPTION:
URL:https://kingscity.church/event/home-fellowship-connect/2027-03-12/
ATTACH;FMTTYPE=image/png:https://kingscity.church/wp-content/uploads/2023/12/Adobe_Express_20230806_0033450_1.png
END:VEVENT
BEGIN:VEVENT
DTSTART;TZID=Asia/Shanghai:20270409T180000
DTEND;TZID=Asia/Shanghai:20270409T200000
DTSTAMP:20260424T024203
CREATED:20231207T115241Z
LAST-MODIFIED:20240229T121308Z
UID:10000094-1807293600-1807300800@kingscity.church
SUMMARY:HOME FELLOWSHIP CONNECT
DESCRIPTION:
URL:https://kingscity.church/event/home-fellowship-connect/2027-04-09/
ATTACH;FMTTYPE=image/png:https://kingscity.church/wp-content/uploads/2023/12/Adobe_Express_20230806_0033450_1.png
END:VEVENT
BEGIN:VEVENT
DTSTART;TZID=Asia/Shanghai:20270514T180000
DTEND;TZID=Asia/Shanghai:20270514T200000
DTSTAMP:20260424T024203
CREATED:20231207T115241Z
LAST-MODIFIED:20240229T121308Z
UID:10000095-1810317600-1810324800@kingscity.church
SUMMARY:HOME FELLOWSHIP CONNECT
DESCRIPTION:
URL:https://kingscity.church/event/home-fellowship-connect/2027-05-14/
ATTACH;FMTTYPE=image/png:https://kingscity.church/wp-content/uploads/2023/12/Adobe_Express_20230806_0033450_1.png
END:VEVENT
BEGIN:VEVENT
DTSTART;TZID=Asia/Shanghai:20270611T180000
DTEND;TZID=Asia/Shanghai:20270611T200000
DTSTAMP:20260424T024203
CREATED:20231207T115241Z
LAST-MODIFIED:20240229T121308Z
UID:10000096-1812736800-1812744000@kingscity.church
SUMMARY:HOME FELLOWSHIP CONNECT
DESCRIPTION:
URL:https://kingscity.church/event/home-fellowship-connect/2027-06-11/
ATTACH;FMTTYPE=image/png:https://kingscity.church/wp-content/uploads/2023/12/Adobe_Express_20230806_0033450_1.png
END:VEVENT
BEGIN:VEVENT
DTSTART;TZID=Asia/Shanghai:20270709T180000
DTEND;TZID=Asia/Shanghai:20270709T200000
DTSTAMP:20260424T024203
CREATED:20231207T115241Z
LAST-MODIFIED:20240229T121308Z
UID:10000097-1815156000-1815163200@kingscity.church
SUMMARY:HOME FELLOWSHIP CONNECT
DESCRIPTION:
URL:https://kingscity.church/event/home-fellowship-connect/2027-07-09/
ATTACH;FMTTYPE=image/png:https://kingscity.church/wp-content/uploads/2023/12/Adobe_Express_20230806_0033450_1.png
END:VEVENT
BEGIN:VEVENT
DTSTART;TZID=Asia/Shanghai:20270813T180000
DTEND;TZID=Asia/Shanghai:20270813T200000
DTSTAMP:20260424T024203
CREATED:20231207T115241Z
LAST-MODIFIED:20240229T121308Z
UID:10000098-1818180000-1818187200@kingscity.church
SUMMARY:HOME FELLOWSHIP CONNECT
DESCRIPTION:
URL:https://kingscity.church/event/home-fellowship-connect/2027-08-13/
ATTACH;FMTTYPE=image/png:https://kingscity.church/wp-content/uploads/2023/12/Adobe_Express_20230806_0033450_1.png
END:VEVENT
BEGIN:VEVENT
DTSTART;TZID=Asia/Shanghai:20270910T180000
DTEND;TZID=Asia/Shanghai:20270910T200000
DTSTAMP:20260424T024203
CREATED:20231207T115241Z
LAST-MODIFIED:20240229T121308Z
UID:10000099-1820599200-1820606400@kingscity.church
SUMMARY:HOME FELLOWSHIP CONNECT
DESCRIPTION:
URL:https://kingscity.church/event/home-fellowship-connect/2027-09-10/
ATTACH;FMTTYPE=image/png:https://kingscity.church/wp-content/uploads/2023/12/Adobe_Express_20230806_0033450_1.png
END:VEVENT
BEGIN:VEVENT
DTSTART;TZID=Asia/Shanghai:20271008T180000
DTEND;TZID=Asia/Shanghai:20271008T200000
DTSTAMP:20260424T024203
CREATED:20231207T115241Z
LAST-MODIFIED:20240229T121308Z
UID:10000100-1823018400-1823025600@kingscity.church
SUMMARY:HOME FELLOWSHIP CONNECT
DESCRIPTION:
URL:https://kingscity.church/event/home-fellowship-connect/2027-10-08/
ATTACH;FMTTYPE=image/png:https://kingscity.church/wp-content/uploads/2023/12/Adobe_Express_20230806_0033450_1.png
END:VEVENT
BEGIN:VEVENT
DTSTART;TZID=Asia/Shanghai:20271112T180000
DTEND;TZID=Asia/Shanghai:20271112T200000
DTSTAMP:20260424T024203
CREATED:20231207T115241Z
LAST-MODIFIED:20240229T121308Z
UID:10000101-1826042400-1826049600@kingscity.church
SUMMARY:HOME FELLOWSHIP CONNECT
DESCRIPTION:
URL:https://kingscity.church/event/home-fellowship-connect/2027-11-12/
ATTACH;FMTTYPE=image/png:https://kingscity.church/wp-content/uploads/2023/12/Adobe_Express_20230806_0033450_1.png
END:VEVENT
BEGIN:VEVENT
DTSTART;TZID=Asia/Shanghai:20271210T180000
DTEND;TZID=Asia/Shanghai:20271210T200000
DTSTAMP:20260424T024203
CREATED:20231207T115241Z
LAST-MODIFIED:20240229T121308Z
UID:10000102-1828461600-1828468800@kingscity.church
SUMMARY:HOME FELLOWSHIP CONNECT
DESCRIPTION:
URL:https://kingscity.church/event/home-fellowship-connect/2027-12-10/
ATTACH;FMTTYPE=image/png:https://kingscity.church/wp-content/uploads/2023/12/Adobe_Express_20230806_0033450_1.png
END:VEVENT
BEGIN:VEVENT
DTSTART;TZID=Asia/Shanghai:20280114T180000
DTEND;TZID=Asia/Shanghai:20280114T200000
DTSTAMP:20260424T024203
CREATED:20231207T115241Z
LAST-MODIFIED:20240229T121308Z
UID:10000103-1831485600-1831492800@kingscity.church
SUMMARY:HOME FELLOWSHIP CONNECT
DESCRIPTION:
URL:https://kingscity.church/event/home-fellowship-connect/2028-01-14/
ATTACH;FMTTYPE=image/png:https://kingscity.church/wp-content/uploads/2023/12/Adobe_Express_20230806_0033450_1.png
END:VEVENT
BEGIN:VEVENT
DTSTART;TZID=Asia/Shanghai:20280211T180000
DTEND;TZID=Asia/Shanghai:20280211T200000
DTSTAMP:20260424T024203
CREATED:20231207T115241Z
LAST-MODIFIED:20240229T121308Z
UID:10000104-1833904800-1833912000@kingscity.church
SUMMARY:HOME FELLOWSHIP CONNECT
DESCRIPTION:
URL:https://kingscity.church/event/home-fellowship-connect/2028-02-11/
ATTACH;FMTTYPE=image/png:https://kingscity.church/wp-content/uploads/2023/12/Adobe_Express_20230806_0033450_1.png
END:VEVENT
BEGIN:VEVENT
DTSTART;TZID=Asia/Shanghai:20280310T180000
DTEND;TZID=Asia/Shanghai:20280310T200000
DTSTAMP:20260424T024203
CREATED:20231207T115241Z
LAST-MODIFIED:20240229T121308Z
UID:10000105-1836324000-1836331200@kingscity.church
SUMMARY:HOME FELLOWSHIP CONNECT
DESCRIPTION:
URL:https://kingscity.church/event/home-fellowship-connect/2028-03-10/
ATTACH;FMTTYPE=image/png:https://kingscity.church/wp-content/uploads/2023/12/Adobe_Express_20230806_0033450_1.png
END:VEVENT
BEGIN:VEVENT
DTSTART;TZID=Asia/Shanghai:20280414T180000
DTEND;TZID=Asia/Shanghai:20280414T200000
DTSTAMP:20260424T024203
CREATED:20231207T115241Z
LAST-MODIFIED:20240229T121308Z
UID:10000106-1839348000-1839355200@kingscity.church
SUMMARY:HOME FELLOWSHIP CONNECT
DESCRIPTION:
URL:https://kingscity.church/event/home-fellowship-connect/2028-04-14/
ATTACH;FMTTYPE=image/png:https://kingscity.church/wp-content/uploads/2023/12/Adobe_Express_20230806_0033450_1.png
END:VEVENT
BEGIN:VEVENT
DTSTART;TZID=Asia/Shanghai:20280512T180000
DTEND;TZID=Asia/Shanghai:20280512T200000
DTSTAMP:20260424T024203
CREATED:20231207T115241Z
LAST-MODIFIED:20240229T121308Z
UID:10000107-1841767200-1841774400@kingscity.church
SUMMARY:HOME FELLOWSHIP CONNECT
DESCRIPTION:
URL:https://kingscity.church/event/home-fellowship-connect/2028-05-12/
ATTACH;FMTTYPE=image/png:https://kingscity.church/wp-content/uploads/2023/12/Adobe_Express_20230806_0033450_1.png
END:VEVENT
BEGIN:VEVENT
DTSTART;TZID=Asia/Shanghai:20280609T180000
DTEND;TZID=Asia/Shanghai:20280609T200000
DTSTAMP:20260424T024203
CREATED:20231207T115241Z
LAST-MODIFIED:20240229T121308Z
UID:10000108-1844186400-1844193600@kingscity.church
SUMMARY:HOME FELLOWSHIP CONNECT
DESCRIPTION:
URL:https://kingscity.church/event/home-fellowship-connect/2028-06-09/
ATTACH;FMTTYPE=image/png:https://kingscity.church/wp-content/uploads/2023/12/Adobe_Express_20230806_0033450_1.png
END:VEVENT
BEGIN:VEVENT
DTSTART;TZID=Asia/Shanghai:20280714T180000
DTEND;TZID=Asia/Shanghai:20280714T200000
DTSTAMP:20260424T024203
CREATED:20231207T115241Z
LAST-MODIFIED:20240229T121308Z
UID:10000109-1847210400-1847217600@kingscity.church
SUMMARY:HOME FELLOWSHIP CONNECT
DESCRIPTION:
URL:https://kingscity.church/event/home-fellowship-connect/2028-07-14/
ATTACH;FMTTYPE=image/png:https://kingscity.church/wp-content/uploads/2023/12/Adobe_Express_20230806_0033450_1.png
END:VEVENT
BEGIN:VEVENT
DTSTART;TZID=Asia/Shanghai:20280811T180000
DTEND;TZID=Asia/Shanghai:20280811T200000
DTSTAMP:20260424T024203
CREATED:20231207T115241Z
LAST-MODIFIED:20240229T121308Z
UID:10000110-1849629600-1849636800@kingscity.church
SUMMARY:HOME FELLOWSHIP CONNECT
DESCRIPTION:
URL:https://kingscity.church/event/home-fellowship-connect/2028-08-11/
ATTACH;FMTTYPE=image/png:https://kingscity.church/wp-content/uploads/2023/12/Adobe_Express_20230806_0033450_1.png
END:VEVENT
BEGIN:VEVENT
DTSTART;TZID=Asia/Shanghai:20280908T180000
DTEND;TZID=Asia/Shanghai:20280908T200000
DTSTAMP:20260424T024203
CREATED:20231207T115241Z
LAST-MODIFIED:20240229T121308Z
UID:10000111-1852048800-1852056000@kingscity.church
SUMMARY:HOME FELLOWSHIP CONNECT
DESCRIPTION:
URL:https://kingscity.church/event/home-fellowship-connect/2028-09-08/
ATTACH;FMTTYPE=image/png:https://kingscity.church/wp-content/uploads/2023/12/Adobe_Express_20230806_0033450_1.png
END:VEVENT
BEGIN:VEVENT
DTSTART;TZID=Asia/Shanghai:20281013T180000
DTEND;TZID=Asia/Shanghai:20281013T200000
DTSTAMP:20260424T024203
CREATED:20231207T115241Z
LAST-MODIFIED:20240229T121308Z
UID:10000112-1855072800-1855080000@kingscity.church
SUMMARY:HOME FELLOWSHIP CONNECT
DESCRIPTION:
URL:https://kingscity.church/event/home-fellowship-connect/2028-10-13/
ATTACH;FMTTYPE=image/png:https://kingscity.church/wp-content/uploads/2023/12/Adobe_Express_20230806_0033450_1.png
END:VEVENT
END:VCALENDAR