BEGIN:VCALENDAR
VERSION:2.0
PRODID:-//RCCG - KingCity Perth Western Australia - ECPv6.15.15//NONSGML v1.0//EN
CALSCALE:GREGORIAN
METHOD:PUBLISH
X-WR-CALNAME:RCCG - KingCity Perth Western Australia
X-ORIGINAL-URL:https://kingscity.church
X-WR-CALDESC:Events for RCCG - KingCity Perth Western Australia
REFRESH-INTERVAL;VALUE=DURATION:PT1H
X-Robots-Tag:noindex
X-PUBLISHED-TTL:PT1H
BEGIN:VTIMEZONE
TZID:Asia/Shanghai
BEGIN:STANDARD
TZOFFSETFROM:+0800
TZOFFSETTO:+0800
TZNAME:CST
DTSTART:20230101T000000
END:STANDARD
END:VTIMEZONE
BEGIN:VEVENT
DTSTART;TZID=Asia/Shanghai:20240308T180000
DTEND;TZID=Asia/Shanghai:20240308T200000
DTSTAMP:20260425T191807
CREATED:20231207T115241Z
LAST-MODIFIED:20240229T121308Z
UID:10000002-1709920800-1709928000@kingscity.church
SUMMARY:HOME FELLOWSHIP CONNECT
DESCRIPTION:
URL:https://kingscity.church/event/home-fellowship-connect/2024-03-08/
ATTACH;FMTTYPE=image/png:https://kingscity.church/wp-content/uploads/2023/12/Adobe_Express_20230806_0033450_1.png
END:VEVENT
BEGIN:VEVENT
DTSTART;TZID=Asia/Shanghai:20240312T230000
DTEND;TZID=Asia/Shanghai:20240313T003000
DTSTAMP:20260425T191807
CREATED:20220816T165626Z
LAST-MODIFIED:20240229T121658Z
UID:10000046-1710284400-1710289800@kingscity.church
SUMMARY:PRAYER NIGHT
DESCRIPTION:RCCG KINGCITY is inviting you to a scheduled Zoom meeting. \nTopic: PRAYER NIGHT\nTime:11PM \nJoin Zoom Meeting\nhttps://us02web.zoom.us/j/83967930339?pwd=MFRZUmJXVGlDaSswZHVCU1hGTGV3QT09 \nMeeting ID: 839 6793 0339\nPasscode: 730888 \n— \nOne tap mobile\n+61370182005\,\,83967930339#\,\,\,\,*730888# Australia\n+61731853730\,\,83967930339#\,\,\,\,*730888# Australia \n— \nDial by your location\n• +61 3 7018 2005 Australia\n• +61 7 3185 3730 Australia\n• +61 8 6119 3900 Australia\n• +61 8 7150 1149 Australia\n• +61 2 8015 6011 Australia\n• +1 253 215 8782 US (Tacoma)\n• +1 253 205 0468 US\n• +1 669 444 9171 US\n• +1 669 900 6833 US (San Jose)\n• +1 719 359 4580 US\n• +1 346 248 7799 US (Houston)\n• +1 360 209 5623 US\n• +1 386 347 5053 US\n• +1 507 473 4847 US\n• +1 564 217 2000 US\n• +1 646 931 3860 US\n• +1 689 278 1000 US\n• +1 929 205 6099 US (New York)\n• +1 301 715 8592 US (Washington DC)\n• +1 305 224 1968 US\n• +1 309 205 3325 US\n• +1 312 626 6799 US (Chicago) \nMeeting ID: 839 6793 0339\nPasscode: 730888 \nFind your local number: https://us02web.zoom.us/u/ke3cSibwJ
URL:https://kingscity.church/event/prayer-night/2024-03-12/
LOCATION:ONLINE\, Join Zoom Meeting https://us02web.zoom.us/j/83967930339?pwd=MFRZUmJXVGlDaSswZHVCU1hGTGV3QT09
CATEGORIES:Mid Week Service
ATTACH;FMTTYPE=image/png:https://kingscity.church/wp-content/uploads/2023/03/Adobe_Express_20230320_2344170_1-e1679327190369.png
ORGANIZER;CN="RCCG- KingCity Church":MAILTO:info@kingscity.church
END:VEVENT
BEGIN:VEVENT
DTSTART;TZID=Asia/Shanghai:20240319T230000
DTEND;TZID=Asia/Shanghai:20240320T003000
DTSTAMP:20260425T191807
CREATED:20220816T165626Z
LAST-MODIFIED:20240229T121658Z
UID:10000117-1710889200-1710894600@kingscity.church
SUMMARY:PRAYER NIGHT
DESCRIPTION:RCCG KINGCITY is inviting you to a scheduled Zoom meeting. \nTopic: PRAYER NIGHT\nTime:11PM \nJoin Zoom Meeting\nhttps://us02web.zoom.us/j/83967930339?pwd=MFRZUmJXVGlDaSswZHVCU1hGTGV3QT09 \nMeeting ID: 839 6793 0339\nPasscode: 730888 \n— \nOne tap mobile\n+61370182005\,\,83967930339#\,\,\,\,*730888# Australia\n+61731853730\,\,83967930339#\,\,\,\,*730888# Australia \n— \nDial by your location\n• +61 3 7018 2005 Australia\n• +61 7 3185 3730 Australia\n• +61 8 6119 3900 Australia\n• +61 8 7150 1149 Australia\n• +61 2 8015 6011 Australia\n• +1 253 215 8782 US (Tacoma)\n• +1 253 205 0468 US\n• +1 669 444 9171 US\n• +1 669 900 6833 US (San Jose)\n• +1 719 359 4580 US\n• +1 346 248 7799 US (Houston)\n• +1 360 209 5623 US\n• +1 386 347 5053 US\n• +1 507 473 4847 US\n• +1 564 217 2000 US\n• +1 646 931 3860 US\n• +1 689 278 1000 US\n• +1 929 205 6099 US (New York)\n• +1 301 715 8592 US (Washington DC)\n• +1 305 224 1968 US\n• +1 309 205 3325 US\n• +1 312 626 6799 US (Chicago) \nMeeting ID: 839 6793 0339\nPasscode: 730888 \nFind your local number: https://us02web.zoom.us/u/ke3cSibwJ
URL:https://kingscity.church/event/prayer-night/2024-03-19/
LOCATION:ONLINE\, Join Zoom Meeting https://us02web.zoom.us/j/83967930339?pwd=MFRZUmJXVGlDaSswZHVCU1hGTGV3QT09
CATEGORIES:Mid Week Service
ATTACH;FMTTYPE=image/png:https://kingscity.church/wp-content/uploads/2023/03/Adobe_Express_20230320_2344170_1-e1679327190369.png
ORGANIZER;CN="RCCG- KingCity Church":MAILTO:info@kingscity.church
END:VEVENT
BEGIN:VEVENT
DTSTART;TZID=Asia/Shanghai:20240326T230000
DTEND;TZID=Asia/Shanghai:20240327T003000
DTSTAMP:20260425T191807
CREATED:20220816T165626Z
LAST-MODIFIED:20240229T121658Z
UID:10000118-1711494000-1711499400@kingscity.church
SUMMARY:PRAYER NIGHT
DESCRIPTION:RCCG KINGCITY is inviting you to a scheduled Zoom meeting. \nTopic: PRAYER NIGHT\nTime:11PM \nJoin Zoom Meeting\nhttps://us02web.zoom.us/j/83967930339?pwd=MFRZUmJXVGlDaSswZHVCU1hGTGV3QT09 \nMeeting ID: 839 6793 0339\nPasscode: 730888 \n— \nOne tap mobile\n+61370182005\,\,83967930339#\,\,\,\,*730888# Australia\n+61731853730\,\,83967930339#\,\,\,\,*730888# Australia \n— \nDial by your location\n• +61 3 7018 2005 Australia\n• +61 7 3185 3730 Australia\n• +61 8 6119 3900 Australia\n• +61 8 7150 1149 Australia\n• +61 2 8015 6011 Australia\n• +1 253 215 8782 US (Tacoma)\n• +1 253 205 0468 US\n• +1 669 444 9171 US\n• +1 669 900 6833 US (San Jose)\n• +1 719 359 4580 US\n• +1 346 248 7799 US (Houston)\n• +1 360 209 5623 US\n• +1 386 347 5053 US\n• +1 507 473 4847 US\n• +1 564 217 2000 US\n• +1 646 931 3860 US\n• +1 689 278 1000 US\n• +1 929 205 6099 US (New York)\n• +1 301 715 8592 US (Washington DC)\n• +1 305 224 1968 US\n• +1 309 205 3325 US\n• +1 312 626 6799 US (Chicago) \nMeeting ID: 839 6793 0339\nPasscode: 730888 \nFind your local number: https://us02web.zoom.us/u/ke3cSibwJ
URL:https://kingscity.church/event/prayer-night/2024-03-26/
LOCATION:ONLINE\, Join Zoom Meeting https://us02web.zoom.us/j/83967930339?pwd=MFRZUmJXVGlDaSswZHVCU1hGTGV3QT09
CATEGORIES:Mid Week Service
ATTACH;FMTTYPE=image/png:https://kingscity.church/wp-content/uploads/2023/03/Adobe_Express_20230320_2344170_1-e1679327190369.png
ORGANIZER;CN="RCCG- KingCity Church":MAILTO:info@kingscity.church
END:VEVENT
BEGIN:VEVENT
DTSTART;TZID=Asia/Shanghai:20240329T183000
DTEND;TZID=Asia/Shanghai:20240329T203000
DTSTAMP:20260425T191807
CREATED:20191231T054447Z
LAST-MODIFIED:20240219T100007Z
UID:10000041-1711737000-1711744200@kingscity.church
SUMMARY:GOOD FRIDAY SERVICE
DESCRIPTION:Join us for a time of Worship and Prayer as We mark this Weekend of Easter
URL:https://kingscity.church/event/easter/
LOCATION:RCCG KINGCITY\, BAKER HALL 6 KARBRO DR\, CARDUP\, Perth\, WA\, 6122\, Australia
CATEGORIES:Mid Week Service
ATTACH;FMTTYPE=image/png:https://kingscity.church/wp-content/uploads/2019/12/Add-a-subheading-7.png
END:VEVENT
BEGIN:VEVENT
DTSTART;TZID=Asia/Shanghai:20240330T103000
DTEND;TZID=Asia/Shanghai:20240330T120000
DTSTAMP:20260425T191807
CREATED:20240319T163946Z
LAST-MODIFIED:20240319T163946Z
UID:10000507-1711794600-1711800000@kingscity.church
SUMMARY:BAPTISM SERVICE
DESCRIPTION:Venue: Coogee Beach – Powell Road \nTime : 10:30am
URL:https://kingscity.church/event/baptism-service/
CATEGORIES:Outreach
ATTACH;FMTTYPE=image/jpeg:https://kingscity.church/wp-content/uploads/2024/03/Baptism_Shirt_Artwork-2.jpg
END:VEVENT
BEGIN:VEVENT
DTSTART;TZID=Asia/Shanghai:20240331T100000
DTEND;TZID=Asia/Shanghai:20240331T120000
DTSTAMP:20260425T191807
CREATED:20240319T172303Z
LAST-MODIFIED:20240319T172303Z
UID:10000509-1711879200-1711886400@kingscity.church
SUMMARY:EASTER SUNDAY
DESCRIPTION:
URL:https://kingscity.church/event/easter-sunday/
LOCATION:RCCG KINGCITY\, BAKER HALL 6 KARBRO DR\, CARDUP\, Perth\, WA\, 6122\, Australia
ATTACH;FMTTYPE=image/jpeg:https://kingscity.church/wp-content/uploads/2024/03/He-Is-Risen-Title-Still.jpg
END:VEVENT
BEGIN:VEVENT
DTSTART;TZID=Asia/Shanghai:20240331T143000
DTEND;TZID=Asia/Shanghai:20240331T170000
DTSTAMP:20260425T191807
CREATED:20240219T100452Z
LAST-MODIFIED:20240219T100452Z
UID:10000004-1711895400-1711904400@kingscity.church
SUMMARY:PERTH EASTER GATHERING
DESCRIPTION:
URL:https://kingscity.church/event/perth-easter-gathering-2/
LOCATION:Yagan Square\, Cnr Wellington Street and\, William St\, Perth\, WA\, 6000\, Australia
CATEGORIES:Outreach
ATTACH;FMTTYPE=image/jpeg:https://kingscity.church/wp-content/uploads/2024/02/Perth-Easter-Gathering-2024-JAAL.jpg
END:VEVENT
END:VCALENDAR