BEGIN:VCALENDAR
VERSION:2.0
PRODID:-//RCCG - KingCity Perth Western Australia - ECPv6.15.15//NONSGML v1.0//EN
CALSCALE:GREGORIAN
METHOD:PUBLISH
X-ORIGINAL-URL:https://kingscity.church
X-WR-CALDESC:Events for RCCG - KingCity Perth Western Australia
REFRESH-INTERVAL;VALUE=DURATION:PT1H
X-Robots-Tag:noindex
X-PUBLISHED-TTL:PT1H
BEGIN:VTIMEZONE
TZID:Asia/Shanghai
BEGIN:STANDARD
TZOFFSETFROM:+0800
TZOFFSETTO:+0800
TZNAME:CST
DTSTART:20220101T000000
END:STANDARD
END:VTIMEZONE
BEGIN:VEVENT
DTSTART;TZID=Asia/Shanghai:20230902T090000
DTEND;TZID=Asia/Shanghai:20230902T160000
DTSTAMP:20260426T042625
CREATED:20220816T164347Z
LAST-MODIFIED:20230320T162111Z
UID:10000045-1693645200-1693670400@kingscity.church
SUMMARY:PROVINCE 4 (WA & NT) PRAYER CONFERENCE
DESCRIPTION:
URL:https://kingscity.church/event/province-4-wa-nt-prayer-conference/
LOCATION:The Light Pavilion\, 3/108 Welshpool Rd\, Welshpool\, Perth\, WA\, 6106
CATEGORIES:Provincial Programs
ATTACH;FMTTYPE=image/jpeg:https://kingscity.church/wp-content/uploads/2022/08/IMG-20220810-WA0003.jpg
END:VEVENT
END:VCALENDAR