BEGIN:VCALENDAR
VERSION:2.0
PRODID:-//RCCG - KingCity Perth Western Australia - ECPv6.15.15//NONSGML v1.0//EN
CALSCALE:GREGORIAN
METHOD:PUBLISH
X-WR-CALNAME:RCCG - KingCity Perth Western Australia
X-ORIGINAL-URL:https://kingscity.church
X-WR-CALDESC:Events for RCCG - KingCity Perth Western Australia
REFRESH-INTERVAL;VALUE=DURATION:PT1H
X-Robots-Tag:noindex
X-PUBLISHED-TTL:PT1H
BEGIN:VTIMEZONE
TZID:Asia/Shanghai
BEGIN:STANDARD
TZOFFSETFROM:+0800
TZOFFSETTO:+0800
TZNAME:CST
DTSTART:20210101T000000
END:STANDARD
END:VTIMEZONE
BEGIN:VEVENT
DTSTART;TZID=Asia/Shanghai:20240507T230000
DTEND;TZID=Asia/Shanghai:20240508T003000
DTSTAMP:20260425T223458
CREATED:20220816T165626Z
LAST-MODIFIED:20240229T121658Z
UID:10000124-1715122800-1715128200@kingscity.church
SUMMARY:PRAYER NIGHT
DESCRIPTION:RCCG KINGCITY is inviting you to a scheduled Zoom meeting. \nTopic: PRAYER NIGHT\nTime:11PM \nJoin Zoom Meeting\nhttps://us02web.zoom.us/j/83967930339?pwd=MFRZUmJXVGlDaSswZHVCU1hGTGV3QT09 \nMeeting ID: 839 6793 0339\nPasscode: 730888 \n— \nOne tap mobile\n+61370182005\,\,83967930339#\,\,\,\,*730888# Australia\n+61731853730\,\,83967930339#\,\,\,\,*730888# Australia \n— \nDial by your location\n• +61 3 7018 2005 Australia\n• +61 7 3185 3730 Australia\n• +61 8 6119 3900 Australia\n• +61 8 7150 1149 Australia\n• +61 2 8015 6011 Australia\n• +1 253 215 8782 US (Tacoma)\n• +1 253 205 0468 US\n• +1 669 444 9171 US\n• +1 669 900 6833 US (San Jose)\n• +1 719 359 4580 US\n• +1 346 248 7799 US (Houston)\n• +1 360 209 5623 US\n• +1 386 347 5053 US\n• +1 507 473 4847 US\n• +1 564 217 2000 US\n• +1 646 931 3860 US\n• +1 689 278 1000 US\n• +1 929 205 6099 US (New York)\n• +1 301 715 8592 US (Washington DC)\n• +1 305 224 1968 US\n• +1 309 205 3325 US\n• +1 312 626 6799 US (Chicago) \nMeeting ID: 839 6793 0339\nPasscode: 730888 \nFind your local number: https://us02web.zoom.us/u/ke3cSibwJ
URL:https://kingscity.church/event/prayer-night/2024-05-07/
LOCATION:ONLINE\, Join Zoom Meeting https://us02web.zoom.us/j/83967930339?pwd=MFRZUmJXVGlDaSswZHVCU1hGTGV3QT09
CATEGORIES:Mid Week Service
ATTACH;FMTTYPE=image/png:https://kingscity.church/wp-content/uploads/2023/03/Adobe_Express_20230320_2344170_1-e1679327190369.png
ORGANIZER;CN="RCCG- KingCity Church":MAILTO:info@kingscity.church
END:VEVENT
BEGIN:VEVENT
DTSTART;TZID=Asia/Shanghai:20240505T100000
DTEND;TZID=Asia/Shanghai:20240505T120000
DTSTAMP:20260425T223458
CREATED:20170821T053725Z
LAST-MODIFIED:20260210T052226Z
UID:10000902-1714903200-1714910400@kingscity.church
SUMMARY:SUNDAY WORSHIP SERVICE
DESCRIPTION:
URL:https://kingscity.church/event/sunday-worship/2024-05-05/
LOCATION:RCCG KINGCITY\, BAKER HALL 6 KARBRO DR\, CARDUP\, Perth\, WA\, 6122\, Australia
CATEGORIES:Sunday Worship
ATTACH;FMTTYPE=image/png:https://kingscity.church/wp-content/uploads/2023/03/Untitled-design.png
ORGANIZER;CN="RCCG- KingCity Church":MAILTO:info@kingscity.church
END:VEVENT
BEGIN:VEVENT
DTSTART;TZID=Asia/Shanghai:20240430T230000
DTEND;TZID=Asia/Shanghai:20240501T003000
DTSTAMP:20260425T223458
CREATED:20220816T165626Z
LAST-MODIFIED:20240229T121658Z
UID:10000123-1714518000-1714523400@kingscity.church
SUMMARY:PRAYER NIGHT
DESCRIPTION:RCCG KINGCITY is inviting you to a scheduled Zoom meeting. \nTopic: PRAYER NIGHT\nTime:11PM \nJoin Zoom Meeting\nhttps://us02web.zoom.us/j/83967930339?pwd=MFRZUmJXVGlDaSswZHVCU1hGTGV3QT09 \nMeeting ID: 839 6793 0339\nPasscode: 730888 \n— \nOne tap mobile\n+61370182005\,\,83967930339#\,\,\,\,*730888# Australia\n+61731853730\,\,83967930339#\,\,\,\,*730888# Australia \n— \nDial by your location\n• +61 3 7018 2005 Australia\n• +61 7 3185 3730 Australia\n• +61 8 6119 3900 Australia\n• +61 8 7150 1149 Australia\n• +61 2 8015 6011 Australia\n• +1 253 215 8782 US (Tacoma)\n• +1 253 205 0468 US\n• +1 669 444 9171 US\n• +1 669 900 6833 US (San Jose)\n• +1 719 359 4580 US\n• +1 346 248 7799 US (Houston)\n• +1 360 209 5623 US\n• +1 386 347 5053 US\n• +1 507 473 4847 US\n• +1 564 217 2000 US\n• +1 646 931 3860 US\n• +1 689 278 1000 US\n• +1 929 205 6099 US (New York)\n• +1 301 715 8592 US (Washington DC)\n• +1 305 224 1968 US\n• +1 309 205 3325 US\n• +1 312 626 6799 US (Chicago) \nMeeting ID: 839 6793 0339\nPasscode: 730888 \nFind your local number: https://us02web.zoom.us/u/ke3cSibwJ
URL:https://kingscity.church/event/prayer-night/2024-04-30/
LOCATION:ONLINE\, Join Zoom Meeting https://us02web.zoom.us/j/83967930339?pwd=MFRZUmJXVGlDaSswZHVCU1hGTGV3QT09
CATEGORIES:Mid Week Service
ATTACH;FMTTYPE=image/png:https://kingscity.church/wp-content/uploads/2023/03/Adobe_Express_20230320_2344170_1-e1679327190369.png
ORGANIZER;CN="RCCG- KingCity Church":MAILTO:info@kingscity.church
END:VEVENT
BEGIN:VEVENT
DTSTART;TZID=Asia/Shanghai:20240428T100000
DTEND;TZID=Asia/Shanghai:20240428T120000
DTSTAMP:20260425T223459
CREATED:20170821T053725Z
LAST-MODIFIED:20260210T052226Z
UID:10000901-1714298400-1714305600@kingscity.church
SUMMARY:SUNDAY WORSHIP SERVICE
DESCRIPTION:
URL:https://kingscity.church/event/sunday-worship/2024-04-28/
LOCATION:RCCG KINGCITY\, BAKER HALL 6 KARBRO DR\, CARDUP\, Perth\, WA\, 6122\, Australia
CATEGORIES:Sunday Worship
ATTACH;FMTTYPE=image/png:https://kingscity.church/wp-content/uploads/2023/03/Untitled-design.png
ORGANIZER;CN="RCCG- KingCity Church":MAILTO:info@kingscity.church
END:VEVENT
BEGIN:VEVENT
DTSTART;TZID=Asia/Shanghai:20240423T230000
DTEND;TZID=Asia/Shanghai:20240424T003000
DTSTAMP:20260425T223459
CREATED:20220816T165626Z
LAST-MODIFIED:20240229T121658Z
UID:10000122-1713913200-1713918600@kingscity.church
SUMMARY:PRAYER NIGHT
DESCRIPTION:RCCG KINGCITY is inviting you to a scheduled Zoom meeting. \nTopic: PRAYER NIGHT\nTime:11PM \nJoin Zoom Meeting\nhttps://us02web.zoom.us/j/83967930339?pwd=MFRZUmJXVGlDaSswZHVCU1hGTGV3QT09 \nMeeting ID: 839 6793 0339\nPasscode: 730888 \n— \nOne tap mobile\n+61370182005\,\,83967930339#\,\,\,\,*730888# Australia\n+61731853730\,\,83967930339#\,\,\,\,*730888# Australia \n— \nDial by your location\n• +61 3 7018 2005 Australia\n• +61 7 3185 3730 Australia\n• +61 8 6119 3900 Australia\n• +61 8 7150 1149 Australia\n• +61 2 8015 6011 Australia\n• +1 253 215 8782 US (Tacoma)\n• +1 253 205 0468 US\n• +1 669 444 9171 US\n• +1 669 900 6833 US (San Jose)\n• +1 719 359 4580 US\n• +1 346 248 7799 US (Houston)\n• +1 360 209 5623 US\n• +1 386 347 5053 US\n• +1 507 473 4847 US\n• +1 564 217 2000 US\n• +1 646 931 3860 US\n• +1 689 278 1000 US\n• +1 929 205 6099 US (New York)\n• +1 301 715 8592 US (Washington DC)\n• +1 305 224 1968 US\n• +1 309 205 3325 US\n• +1 312 626 6799 US (Chicago) \nMeeting ID: 839 6793 0339\nPasscode: 730888 \nFind your local number: https://us02web.zoom.us/u/ke3cSibwJ
URL:https://kingscity.church/event/prayer-night/2024-04-23/
LOCATION:ONLINE\, Join Zoom Meeting https://us02web.zoom.us/j/83967930339?pwd=MFRZUmJXVGlDaSswZHVCU1hGTGV3QT09
CATEGORIES:Mid Week Service
ATTACH;FMTTYPE=image/png:https://kingscity.church/wp-content/uploads/2023/03/Adobe_Express_20230320_2344170_1-e1679327190369.png
ORGANIZER;CN="RCCG- KingCity Church":MAILTO:info@kingscity.church
END:VEVENT
BEGIN:VEVENT
DTSTART;TZID=Asia/Shanghai:20240420T080000
DTEND;TZID=Asia/Shanghai:20240420T113000
DTSTAMP:20260425T223459
CREATED:20180408T002121Z
LAST-MODIFIED:20240220T053919Z
UID:10000029-1713600000-1713612600@kingscity.church
SUMMARY:Men Connect
DESCRIPTION:
URL:https://kingscity.church/event/mens-retreat/
LOCATION:19 Richon Hts\, Mount Richon WA 6122\, 19 Richon Hts\, Mount Richon\, Perth\, WA\, 6122\, Australia
CATEGORIES:Outreach
ATTACH;FMTTYPE=image/jpeg:https://kingscity.church/wp-content/uploads/2018/04/matheus-ferrero-TkrRvwxjb_8-unsplash-scaled.jpg
ORGANIZER;CN="RCCG- The Light Pavilion":MAILTO:info@rccgwa.com
END:VEVENT
BEGIN:VEVENT
DTSTART;TZID=Asia/Shanghai:20240416T230000
DTEND;TZID=Asia/Shanghai:20240417T003000
DTSTAMP:20260425T223459
CREATED:20220816T165626Z
LAST-MODIFIED:20240229T121658Z
UID:10000121-1713308400-1713313800@kingscity.church
SUMMARY:PRAYER NIGHT
DESCRIPTION:RCCG KINGCITY is inviting you to a scheduled Zoom meeting. \nTopic: PRAYER NIGHT\nTime:11PM \nJoin Zoom Meeting\nhttps://us02web.zoom.us/j/83967930339?pwd=MFRZUmJXVGlDaSswZHVCU1hGTGV3QT09 \nMeeting ID: 839 6793 0339\nPasscode: 730888 \n— \nOne tap mobile\n+61370182005\,\,83967930339#\,\,\,\,*730888# Australia\n+61731853730\,\,83967930339#\,\,\,\,*730888# Australia \n— \nDial by your location\n• +61 3 7018 2005 Australia\n• +61 7 3185 3730 Australia\n• +61 8 6119 3900 Australia\n• +61 8 7150 1149 Australia\n• +61 2 8015 6011 Australia\n• +1 253 215 8782 US (Tacoma)\n• +1 253 205 0468 US\n• +1 669 444 9171 US\n• +1 669 900 6833 US (San Jose)\n• +1 719 359 4580 US\n• +1 346 248 7799 US (Houston)\n• +1 360 209 5623 US\n• +1 386 347 5053 US\n• +1 507 473 4847 US\n• +1 564 217 2000 US\n• +1 646 931 3860 US\n• +1 689 278 1000 US\n• +1 929 205 6099 US (New York)\n• +1 301 715 8592 US (Washington DC)\n• +1 305 224 1968 US\n• +1 309 205 3325 US\n• +1 312 626 6799 US (Chicago) \nMeeting ID: 839 6793 0339\nPasscode: 730888 \nFind your local number: https://us02web.zoom.us/u/ke3cSibwJ
URL:https://kingscity.church/event/prayer-night/2024-04-16/
LOCATION:ONLINE\, Join Zoom Meeting https://us02web.zoom.us/j/83967930339?pwd=MFRZUmJXVGlDaSswZHVCU1hGTGV3QT09
CATEGORIES:Mid Week Service
ATTACH;FMTTYPE=image/png:https://kingscity.church/wp-content/uploads/2023/03/Adobe_Express_20230320_2344170_1-e1679327190369.png
ORGANIZER;CN="RCCG- KingCity Church":MAILTO:info@kingscity.church
END:VEVENT
BEGIN:VEVENT
DTSTART;TZID=Asia/Shanghai:20240412T180000
DTEND;TZID=Asia/Shanghai:20240412T200000
DTSTAMP:20260425T223459
CREATED:20231207T115241Z
LAST-MODIFIED:20240229T121308Z
UID:10000058-1712944800-1712952000@kingscity.church
SUMMARY:HOME FELLOWSHIP CONNECT
DESCRIPTION:
URL:https://kingscity.church/event/home-fellowship-connect/2024-04-12/
ATTACH;FMTTYPE=image/png:https://kingscity.church/wp-content/uploads/2023/12/Adobe_Express_20230806_0033450_1.png
END:VEVENT
BEGIN:VEVENT
DTSTART;TZID=Asia/Shanghai:20240409T230000
DTEND;TZID=Asia/Shanghai:20240410T003000
DTSTAMP:20260425T223459
CREATED:20220816T165626Z
LAST-MODIFIED:20240229T121658Z
UID:10000120-1712703600-1712709000@kingscity.church
SUMMARY:PRAYER NIGHT
DESCRIPTION:RCCG KINGCITY is inviting you to a scheduled Zoom meeting. \nTopic: PRAYER NIGHT\nTime:11PM \nJoin Zoom Meeting\nhttps://us02web.zoom.us/j/83967930339?pwd=MFRZUmJXVGlDaSswZHVCU1hGTGV3QT09 \nMeeting ID: 839 6793 0339\nPasscode: 730888 \n— \nOne tap mobile\n+61370182005\,\,83967930339#\,\,\,\,*730888# Australia\n+61731853730\,\,83967930339#\,\,\,\,*730888# Australia \n— \nDial by your location\n• +61 3 7018 2005 Australia\n• +61 7 3185 3730 Australia\n• +61 8 6119 3900 Australia\n• +61 8 7150 1149 Australia\n• +61 2 8015 6011 Australia\n• +1 253 215 8782 US (Tacoma)\n• +1 253 205 0468 US\n• +1 669 444 9171 US\n• +1 669 900 6833 US (San Jose)\n• +1 719 359 4580 US\n• +1 346 248 7799 US (Houston)\n• +1 360 209 5623 US\n• +1 386 347 5053 US\n• +1 507 473 4847 US\n• +1 564 217 2000 US\n• +1 646 931 3860 US\n• +1 689 278 1000 US\n• +1 929 205 6099 US (New York)\n• +1 301 715 8592 US (Washington DC)\n• +1 305 224 1968 US\n• +1 309 205 3325 US\n• +1 312 626 6799 US (Chicago) \nMeeting ID: 839 6793 0339\nPasscode: 730888 \nFind your local number: https://us02web.zoom.us/u/ke3cSibwJ
URL:https://kingscity.church/event/prayer-night/2024-04-09/
LOCATION:ONLINE\, Join Zoom Meeting https://us02web.zoom.us/j/83967930339?pwd=MFRZUmJXVGlDaSswZHVCU1hGTGV3QT09
CATEGORIES:Mid Week Service
ATTACH;FMTTYPE=image/png:https://kingscity.church/wp-content/uploads/2023/03/Adobe_Express_20230320_2344170_1-e1679327190369.png
ORGANIZER;CN="RCCG- KingCity Church":MAILTO:info@kingscity.church
END:VEVENT
BEGIN:VEVENT
DTSTART;TZID=Asia/Shanghai:20240406T090000
DTEND;TZID=Asia/Shanghai:20240406T170000
DTSTAMP:20260425T223459
CREATED:20240220T052442Z
LAST-MODIFIED:20240319T173203Z
UID:10000006-1712394000-1712422800@kingscity.church
SUMMARY:TEEN GIRLS CONNECT
DESCRIPTION:
URL:https://kingscity.church/event/teen-girls-connect/
LOCATION:19 Richon Hts\, Mount Richon WA 6122\, 19 Richon Hts\, Mount Richon\, Perth\, WA\, 6122\, Australia
ATTACH;FMTTYPE=image/png:https://kingscity.church/wp-content/uploads/2024/02/Adobe_Express_20240320_0130010_1.png
END:VEVENT
BEGIN:VEVENT
DTSTART;TZID=Asia/Shanghai:20240402T230000
DTEND;TZID=Asia/Shanghai:20240403T003000
DTSTAMP:20260425T223459
CREATED:20220816T165626Z
LAST-MODIFIED:20240229T121658Z
UID:10000119-1712098800-1712104200@kingscity.church
SUMMARY:PRAYER NIGHT
DESCRIPTION:RCCG KINGCITY is inviting you to a scheduled Zoom meeting. \nTopic: PRAYER NIGHT\nTime:11PM \nJoin Zoom Meeting\nhttps://us02web.zoom.us/j/83967930339?pwd=MFRZUmJXVGlDaSswZHVCU1hGTGV3QT09 \nMeeting ID: 839 6793 0339\nPasscode: 730888 \n— \nOne tap mobile\n+61370182005\,\,83967930339#\,\,\,\,*730888# Australia\n+61731853730\,\,83967930339#\,\,\,\,*730888# Australia \n— \nDial by your location\n• +61 3 7018 2005 Australia\n• +61 7 3185 3730 Australia\n• +61 8 6119 3900 Australia\n• +61 8 7150 1149 Australia\n• +61 2 8015 6011 Australia\n• +1 253 215 8782 US (Tacoma)\n• +1 253 205 0468 US\n• +1 669 444 9171 US\n• +1 669 900 6833 US (San Jose)\n• +1 719 359 4580 US\n• +1 346 248 7799 US (Houston)\n• +1 360 209 5623 US\n• +1 386 347 5053 US\n• +1 507 473 4847 US\n• +1 564 217 2000 US\n• +1 646 931 3860 US\n• +1 689 278 1000 US\n• +1 929 205 6099 US (New York)\n• +1 301 715 8592 US (Washington DC)\n• +1 305 224 1968 US\n• +1 309 205 3325 US\n• +1 312 626 6799 US (Chicago) \nMeeting ID: 839 6793 0339\nPasscode: 730888 \nFind your local number: https://us02web.zoom.us/u/ke3cSibwJ
URL:https://kingscity.church/event/prayer-night/2024-04-02/
LOCATION:ONLINE\, Join Zoom Meeting https://us02web.zoom.us/j/83967930339?pwd=MFRZUmJXVGlDaSswZHVCU1hGTGV3QT09
CATEGORIES:Mid Week Service
ATTACH;FMTTYPE=image/png:https://kingscity.church/wp-content/uploads/2023/03/Adobe_Express_20230320_2344170_1-e1679327190369.png
ORGANIZER;CN="RCCG- KingCity Church":MAILTO:info@kingscity.church
END:VEVENT
BEGIN:VEVENT
DTSTART;TZID=Asia/Shanghai:20240331T143000
DTEND;TZID=Asia/Shanghai:20240331T170000
DTSTAMP:20260425T223459
CREATED:20240219T100452Z
LAST-MODIFIED:20240219T100452Z
UID:10000004-1711895400-1711904400@kingscity.church
SUMMARY:PERTH EASTER GATHERING
DESCRIPTION:
URL:https://kingscity.church/event/perth-easter-gathering-2/
LOCATION:Yagan Square\, Cnr Wellington Street and\, William St\, Perth\, WA\, 6000\, Australia
CATEGORIES:Outreach
ATTACH;FMTTYPE=image/jpeg:https://kingscity.church/wp-content/uploads/2024/02/Perth-Easter-Gathering-2024-JAAL.jpg
END:VEVENT
BEGIN:VEVENT
DTSTART;TZID=Asia/Shanghai:20240331T100000
DTEND;TZID=Asia/Shanghai:20240331T120000
DTSTAMP:20260425T223459
CREATED:20240319T172303Z
LAST-MODIFIED:20240319T172303Z
UID:10000509-1711879200-1711886400@kingscity.church
SUMMARY:EASTER SUNDAY
DESCRIPTION:
URL:https://kingscity.church/event/easter-sunday/
LOCATION:RCCG KINGCITY\, BAKER HALL 6 KARBRO DR\, CARDUP\, Perth\, WA\, 6122\, Australia
ATTACH;FMTTYPE=image/jpeg:https://kingscity.church/wp-content/uploads/2024/03/He-Is-Risen-Title-Still.jpg
END:VEVENT
BEGIN:VEVENT
DTSTART;TZID=Asia/Shanghai:20240330T103000
DTEND;TZID=Asia/Shanghai:20240330T120000
DTSTAMP:20260425T223459
CREATED:20240319T163946Z
LAST-MODIFIED:20240319T163946Z
UID:10000507-1711794600-1711800000@kingscity.church
SUMMARY:BAPTISM SERVICE
DESCRIPTION:Venue: Coogee Beach – Powell Road \nTime : 10:30am
URL:https://kingscity.church/event/baptism-service/
CATEGORIES:Outreach
ATTACH;FMTTYPE=image/jpeg:https://kingscity.church/wp-content/uploads/2024/03/Baptism_Shirt_Artwork-2.jpg
END:VEVENT
BEGIN:VEVENT
DTSTART;TZID=Asia/Shanghai:20240329T183000
DTEND;TZID=Asia/Shanghai:20240329T203000
DTSTAMP:20260425T223459
CREATED:20191231T054447Z
LAST-MODIFIED:20240219T100007Z
UID:10000041-1711737000-1711744200@kingscity.church
SUMMARY:GOOD FRIDAY SERVICE
DESCRIPTION:Join us for a time of Worship and Prayer as We mark this Weekend of Easter
URL:https://kingscity.church/event/easter/
LOCATION:RCCG KINGCITY\, BAKER HALL 6 KARBRO DR\, CARDUP\, Perth\, WA\, 6122\, Australia
CATEGORIES:Mid Week Service
ATTACH;FMTTYPE=image/png:https://kingscity.church/wp-content/uploads/2019/12/Add-a-subheading-7.png
END:VEVENT
BEGIN:VEVENT
DTSTART;TZID=Asia/Shanghai:20240326T230000
DTEND;TZID=Asia/Shanghai:20240327T003000
DTSTAMP:20260425T223459
CREATED:20220816T165626Z
LAST-MODIFIED:20240229T121658Z
UID:10000118-1711494000-1711499400@kingscity.church
SUMMARY:PRAYER NIGHT
DESCRIPTION:RCCG KINGCITY is inviting you to a scheduled Zoom meeting. \nTopic: PRAYER NIGHT\nTime:11PM \nJoin Zoom Meeting\nhttps://us02web.zoom.us/j/83967930339?pwd=MFRZUmJXVGlDaSswZHVCU1hGTGV3QT09 \nMeeting ID: 839 6793 0339\nPasscode: 730888 \n— \nOne tap mobile\n+61370182005\,\,83967930339#\,\,\,\,*730888# Australia\n+61731853730\,\,83967930339#\,\,\,\,*730888# Australia \n— \nDial by your location\n• +61 3 7018 2005 Australia\n• +61 7 3185 3730 Australia\n• +61 8 6119 3900 Australia\n• +61 8 7150 1149 Australia\n• +61 2 8015 6011 Australia\n• +1 253 215 8782 US (Tacoma)\n• +1 253 205 0468 US\n• +1 669 444 9171 US\n• +1 669 900 6833 US (San Jose)\n• +1 719 359 4580 US\n• +1 346 248 7799 US (Houston)\n• +1 360 209 5623 US\n• +1 386 347 5053 US\n• +1 507 473 4847 US\n• +1 564 217 2000 US\n• +1 646 931 3860 US\n• +1 689 278 1000 US\n• +1 929 205 6099 US (New York)\n• +1 301 715 8592 US (Washington DC)\n• +1 305 224 1968 US\n• +1 309 205 3325 US\n• +1 312 626 6799 US (Chicago) \nMeeting ID: 839 6793 0339\nPasscode: 730888 \nFind your local number: https://us02web.zoom.us/u/ke3cSibwJ
URL:https://kingscity.church/event/prayer-night/2024-03-26/
LOCATION:ONLINE\, Join Zoom Meeting https://us02web.zoom.us/j/83967930339?pwd=MFRZUmJXVGlDaSswZHVCU1hGTGV3QT09
CATEGORIES:Mid Week Service
ATTACH;FMTTYPE=image/png:https://kingscity.church/wp-content/uploads/2023/03/Adobe_Express_20230320_2344170_1-e1679327190369.png
ORGANIZER;CN="RCCG- KingCity Church":MAILTO:info@kingscity.church
END:VEVENT
BEGIN:VEVENT
DTSTART;TZID=Asia/Shanghai:20240319T230000
DTEND;TZID=Asia/Shanghai:20240320T003000
DTSTAMP:20260425T223459
CREATED:20220816T165626Z
LAST-MODIFIED:20240229T121658Z
UID:10000117-1710889200-1710894600@kingscity.church
SUMMARY:PRAYER NIGHT
DESCRIPTION:RCCG KINGCITY is inviting you to a scheduled Zoom meeting. \nTopic: PRAYER NIGHT\nTime:11PM \nJoin Zoom Meeting\nhttps://us02web.zoom.us/j/83967930339?pwd=MFRZUmJXVGlDaSswZHVCU1hGTGV3QT09 \nMeeting ID: 839 6793 0339\nPasscode: 730888 \n— \nOne tap mobile\n+61370182005\,\,83967930339#\,\,\,\,*730888# Australia\n+61731853730\,\,83967930339#\,\,\,\,*730888# Australia \n— \nDial by your location\n• +61 3 7018 2005 Australia\n• +61 7 3185 3730 Australia\n• +61 8 6119 3900 Australia\n• +61 8 7150 1149 Australia\n• +61 2 8015 6011 Australia\n• +1 253 215 8782 US (Tacoma)\n• +1 253 205 0468 US\n• +1 669 444 9171 US\n• +1 669 900 6833 US (San Jose)\n• +1 719 359 4580 US\n• +1 346 248 7799 US (Houston)\n• +1 360 209 5623 US\n• +1 386 347 5053 US\n• +1 507 473 4847 US\n• +1 564 217 2000 US\n• +1 646 931 3860 US\n• +1 689 278 1000 US\n• +1 929 205 6099 US (New York)\n• +1 301 715 8592 US (Washington DC)\n• +1 305 224 1968 US\n• +1 309 205 3325 US\n• +1 312 626 6799 US (Chicago) \nMeeting ID: 839 6793 0339\nPasscode: 730888 \nFind your local number: https://us02web.zoom.us/u/ke3cSibwJ
URL:https://kingscity.church/event/prayer-night/2024-03-19/
LOCATION:ONLINE\, Join Zoom Meeting https://us02web.zoom.us/j/83967930339?pwd=MFRZUmJXVGlDaSswZHVCU1hGTGV3QT09
CATEGORIES:Mid Week Service
ATTACH;FMTTYPE=image/png:https://kingscity.church/wp-content/uploads/2023/03/Adobe_Express_20230320_2344170_1-e1679327190369.png
ORGANIZER;CN="RCCG- KingCity Church":MAILTO:info@kingscity.church
END:VEVENT
BEGIN:VEVENT
DTSTART;TZID=Asia/Shanghai:20240312T230000
DTEND;TZID=Asia/Shanghai:20240313T003000
DTSTAMP:20260425T223459
CREATED:20220816T165626Z
LAST-MODIFIED:20240229T121658Z
UID:10000046-1710284400-1710289800@kingscity.church
SUMMARY:PRAYER NIGHT
DESCRIPTION:RCCG KINGCITY is inviting you to a scheduled Zoom meeting. \nTopic: PRAYER NIGHT\nTime:11PM \nJoin Zoom Meeting\nhttps://us02web.zoom.us/j/83967930339?pwd=MFRZUmJXVGlDaSswZHVCU1hGTGV3QT09 \nMeeting ID: 839 6793 0339\nPasscode: 730888 \n— \nOne tap mobile\n+61370182005\,\,83967930339#\,\,\,\,*730888# Australia\n+61731853730\,\,83967930339#\,\,\,\,*730888# Australia \n— \nDial by your location\n• +61 3 7018 2005 Australia\n• +61 7 3185 3730 Australia\n• +61 8 6119 3900 Australia\n• +61 8 7150 1149 Australia\n• +61 2 8015 6011 Australia\n• +1 253 215 8782 US (Tacoma)\n• +1 253 205 0468 US\n• +1 669 444 9171 US\n• +1 669 900 6833 US (San Jose)\n• +1 719 359 4580 US\n• +1 346 248 7799 US (Houston)\n• +1 360 209 5623 US\n• +1 386 347 5053 US\n• +1 507 473 4847 US\n• +1 564 217 2000 US\n• +1 646 931 3860 US\n• +1 689 278 1000 US\n• +1 929 205 6099 US (New York)\n• +1 301 715 8592 US (Washington DC)\n• +1 305 224 1968 US\n• +1 309 205 3325 US\n• +1 312 626 6799 US (Chicago) \nMeeting ID: 839 6793 0339\nPasscode: 730888 \nFind your local number: https://us02web.zoom.us/u/ke3cSibwJ
URL:https://kingscity.church/event/prayer-night/2024-03-12/
LOCATION:ONLINE\, Join Zoom Meeting https://us02web.zoom.us/j/83967930339?pwd=MFRZUmJXVGlDaSswZHVCU1hGTGV3QT09
CATEGORIES:Mid Week Service
ATTACH;FMTTYPE=image/png:https://kingscity.church/wp-content/uploads/2023/03/Adobe_Express_20230320_2344170_1-e1679327190369.png
ORGANIZER;CN="RCCG- KingCity Church":MAILTO:info@kingscity.church
END:VEVENT
BEGIN:VEVENT
DTSTART;TZID=Asia/Shanghai:20240308T180000
DTEND;TZID=Asia/Shanghai:20240308T200000
DTSTAMP:20260425T223459
CREATED:20231207T115241Z
LAST-MODIFIED:20240229T121308Z
UID:10000002-1709920800-1709928000@kingscity.church
SUMMARY:HOME FELLOWSHIP CONNECT
DESCRIPTION:
URL:https://kingscity.church/event/home-fellowship-connect/2024-03-08/
ATTACH;FMTTYPE=image/png:https://kingscity.church/wp-content/uploads/2023/12/Adobe_Express_20230806_0033450_1.png
END:VEVENT
BEGIN:VEVENT
DTSTART;TZID=Asia/Shanghai:20240224T130000
DTEND;TZID=Asia/Shanghai:20240224T190000
DTSTAMP:20260425T223459
CREATED:20231206T150715Z
LAST-MODIFIED:20240220T060008Z
UID:10000056-1708779600-1708801200@kingscity.church
SUMMARY:Freemantle Festival of Hope Outreach
DESCRIPTION:
URL:https://kingscity.church/event/armadale-outreach/
LOCATION:Espalnade Reserve\, Marine Terrace\,\, Fremantle\, WA\, 6160
CATEGORIES:Outreach
ATTACH;FMTTYPE=image/jpeg:https://kingscity.church/wp-content/uploads/2023/12/IMG-20231230-WA0000.jpg
END:VEVENT
BEGIN:VEVENT
DTSTART;TZID=Asia/Shanghai:20231225T100000
DTEND;TZID=Asia/Shanghai:20231225T140000
DTSTAMP:20260425T223459
CREATED:20231207T114856Z
LAST-MODIFIED:20231207T115512Z
UID:10000001-1703498400-1703512800@kingscity.church
SUMMARY:BERVERLEY CHRISTMAS DAY SERVICE-OUTREACH
DESCRIPTION:
URL:https://kingscity.church/event/berverley-christmas-day-service-outreach/
LOCATION:Beverley WA\, Australia
CATEGORIES:Outreach
ATTACH;FMTTYPE=image/png:https://kingscity.church/wp-content/uploads/2023/12/Adobe_Express_20231112_0032170_1-1.png
END:VEVENT
BEGIN:VEVENT
DTSTART;TZID=Asia/Shanghai:20231224T100000
DTEND;TZID=Asia/Shanghai:20231224T120000
DTSTAMP:20260425T223459
CREATED:20170821T071200Z
LAST-MODIFIED:20230320T143402Z
UID:10000017-1703412000-1703419200@kingscity.church
SUMMARY:CHRISTMAS DAY SERVICE
DESCRIPTION:
URL:https://kingscity.church/event/christmas-day-service/
LOCATION:RCCG KINGCITY\, BAKER HALL 6 KARBRO DR\, CARDUP\, Perth\, WA\, 6122\, Australia
CATEGORIES:Sunday Worship
ATTACH;FMTTYPE=image/jpeg:https://kingscity.church/wp-content/uploads/2017/08/KingCity-Chrsitmas.jpg
ORGANIZER;CN="RCCG- KingCity Church":MAILTO:info@kingscity.church
END:VEVENT
BEGIN:VEVENT
DTSTART;TZID=Asia/Shanghai:20231003T100000
DTEND;TZID=Asia/Shanghai:20231006T220000
DTSTAMP:20260425T223459
CREATED:20230320T150312Z
LAST-MODIFIED:20230320T162833Z
UID:10000050-1696327200-1696629600@kingscity.church
SUMMARY:WORLD PRAYER SUMMIT-OCEANIA SUMMIT
DESCRIPTION:We invite people of every tribe\, family and generation to join us as we unite in worship and prayers for Australia\, New Zealand\, Oceania and the nations of the world!
URL:https://kingscity.church/event/world-prayer-summit-oceania-summit/
CATEGORIES:Global Program
ATTACH;FMTTYPE=image/jpeg:https://kingscity.church/wp-content/uploads/2023/03/WPA-2023-hero-.jpg
END:VEVENT
BEGIN:VEVENT
DTSTART;TZID=Asia/Shanghai:20230902T090000
DTEND;TZID=Asia/Shanghai:20230902T160000
DTSTAMP:20260425T223459
CREATED:20220816T164347Z
LAST-MODIFIED:20230320T162111Z
UID:10000045-1693645200-1693670400@kingscity.church
SUMMARY:PROVINCE 4 (WA & NT) PRAYER CONFERENCE
DESCRIPTION:
URL:https://kingscity.church/event/province-4-wa-nt-prayer-conference/
LOCATION:The Light Pavilion\, 3/108 Welshpool Rd\, Welshpool\, Perth\, WA\, 6106
CATEGORIES:Provincial Programs
ATTACH;FMTTYPE=image/jpeg:https://kingscity.church/wp-content/uploads/2022/08/IMG-20220810-WA0003.jpg
END:VEVENT
BEGIN:VEVENT
DTSTART;TZID=Asia/Shanghai:20230820T100000
DTEND;TZID=Asia/Shanghai:20230820T233000
DTSTAMP:20260425T223459
CREATED:20180205T084346Z
LAST-MODIFIED:20230320T163115Z
UID:10000026-1692525600-1692574200@kingscity.church
SUMMARY:Compassion Sunday
DESCRIPTION:
URL:https://kingscity.church/event/compassion-sunday/
LOCATION:RCCG KINGCITY\, BAKER HALL 6 KARBRO DR\, CARDUP\, Perth\, WA\, 6122\, Australia
CATEGORIES:Sunday Worship
ATTACH;FMTTYPE=image/jpeg:https://kingscity.church/wp-content/uploads/2018/02/Compassion_1920.jpg
END:VEVENT
BEGIN:VEVENT
DTSTART;TZID=Asia/Shanghai:20230527T100000
DTEND;TZID=Asia/Shanghai:20230527T160000
DTSTAMP:20260425T223459
CREATED:20180205T083617Z
LAST-MODIFIED:20230320T145955Z
UID:10000025-1685181600-1685203200@kingscity.church
SUMMARY:National Day of Prayer Australia
DESCRIPTION:
URL:https://kingscity.church/event/national-day-prayer-australia/
ATTACH;FMTTYPE=image/webp:https://kingscity.church/wp-content/uploads/2018/02/268fe7_ad701f27dc4b426684f490b424fe65ae_mv2.webp
END:VEVENT
BEGIN:VEVENT
DTSTART;TZID=Asia/Shanghai:20230514T100000
DTEND;TZID=Asia/Shanghai:20230514T120000
DTSTAMP:20260425T223459
CREATED:20180110T024433Z
LAST-MODIFIED:20230320T163354Z
UID:10000019-1684058400-1684065600@kingscity.church
SUMMARY:Mother's Day
DESCRIPTION:
URL:https://kingscity.church/event/mothers-day/
LOCATION:RCCG KINGCITY\, BAKER HALL 6 KARBRO DR\, CARDUP\, Perth\, WA\, 6122\, Australia
CATEGORIES:Sunday Worship
ATTACH;FMTTYPE=image/jpeg:https://kingscity.church/wp-content/uploads/2018/01/mothers-day.jpg
ORGANIZER;CN="RCCG- KingCity Church":MAILTO:info@kingscity.church
END:VEVENT
BEGIN:VEVENT
DTSTART;TZID=Asia/Shanghai:20230409T143000
DTEND;TZID=Asia/Shanghai:20230409T163000
DTSTAMP:20260425T223459
CREATED:20230320T150949Z
LAST-MODIFIED:20230320T163421Z
UID:10000051-1681050600-1681057800@kingscity.church
SUMMARY:PERTH EASTER GATHERING
DESCRIPTION:
URL:https://kingscity.church/event/perth-easter-gathering/
LOCATION:Council House Garden\, 27 St Georges Terrace\,\, Perth\, WA\, 6000
CATEGORIES:Global Program
ATTACH;FMTTYPE=image/jpeg:https://kingscity.church/wp-content/uploads/2021/04/169151809_10157502139172282_8085489698213912673_n.jpg
END:VEVENT
BEGIN:VEVENT
DTSTART;TZID=Asia/Shanghai:20230326T100000
DTEND;TZID=Asia/Shanghai:20230326T113000
DTSTAMP:20260425T223459
CREATED:20230320T161209Z
LAST-MODIFIED:20230320T161400Z
UID:10000052-1679824800-1679830200@kingscity.church
SUMMARY:MISSIONS SUNDAY
DESCRIPTION:
URL:https://kingscity.church/event/missions-sunday/
LOCATION:RCCG KINGCITY\, BAKER HALL 6 KARBRO DR\, CARDUP\, Perth\, WA\, 6122\, Australia
CATEGORIES:Sunday Worship
ATTACH;FMTTYPE=image/jpeg:https://kingscity.church/wp-content/uploads/2023/03/IMG-20230311-WA0010.jpg
END:VEVENT
BEGIN:VEVENT
DTSTART;TZID=Asia/Shanghai:20221231T220000
DTEND;TZID=Asia/Shanghai:20230101T003000
DTSTAMP:20260425T223459
CREATED:20220816T172449Z
LAST-MODIFIED:20220816T172449Z
UID:10000049-1672524000-1672533000@kingscity.church
SUMMARY:NEW YEAR EVE SERVICE
DESCRIPTION:
URL:https://kingscity.church/event/new-year-eve-service-2/
LOCATION:The Light Pavilion\, 3/108 Welshpool Rd\, Welshpool\, Perth\, WA\, 6106
CATEGORIES:Area Programs,Provincial Programs
END:VEVENT
END:VCALENDAR