BEGIN:VCALENDAR
VERSION:2.0
PRODID:-//RCCG - KingCity Perth Western Australia - ECPv6.15.15//NONSGML v1.0//EN
CALSCALE:GREGORIAN
METHOD:PUBLISH
X-WR-CALNAME:RCCG - KingCity Perth Western Australia
X-ORIGINAL-URL:https://kingscity.church
X-WR-CALDESC:Events for RCCG - KingCity Perth Western Australia
REFRESH-INTERVAL;VALUE=DURATION:PT1H
X-Robots-Tag:noindex
X-PUBLISHED-TTL:PT1H
BEGIN:VTIMEZONE
TZID:Asia/Shanghai
BEGIN:STANDARD
TZOFFSETFROM:+0800
TZOFFSETTO:+0800
TZNAME:CST
DTSTART:20160101T000000
END:STANDARD
END:VTIMEZONE
BEGIN:VEVENT
DTSTART;TZID=Asia/Shanghai:20230527T100000
DTEND;TZID=Asia/Shanghai:20230527T160000
DTSTAMP:20260425T223702
CREATED:20180205T083617Z
LAST-MODIFIED:20230320T145955Z
UID:10000025-1685181600-1685203200@kingscity.church
SUMMARY:National Day of Prayer Australia
DESCRIPTION:
URL:https://kingscity.church/event/national-day-prayer-australia/
ATTACH;FMTTYPE=image/webp:https://kingscity.church/wp-content/uploads/2018/02/268fe7_ad701f27dc4b426684f490b424fe65ae_mv2.webp
END:VEVENT
BEGIN:VEVENT
DTSTART;TZID=Asia/Shanghai:20230514T100000
DTEND;TZID=Asia/Shanghai:20230514T120000
DTSTAMP:20260425T223702
CREATED:20180110T024433Z
LAST-MODIFIED:20230320T163354Z
UID:10000019-1684058400-1684065600@kingscity.church
SUMMARY:Mother's Day
DESCRIPTION:
URL:https://kingscity.church/event/mothers-day/
LOCATION:RCCG KINGCITY\, BAKER HALL 6 KARBRO DR\, CARDUP\, Perth\, WA\, 6122\, Australia
CATEGORIES:Sunday Worship
ATTACH;FMTTYPE=image/jpeg:https://kingscity.church/wp-content/uploads/2018/01/mothers-day.jpg
ORGANIZER;CN="RCCG- KingCity Church":MAILTO:info@kingscity.church
END:VEVENT
BEGIN:VEVENT
DTSTART;TZID=Asia/Shanghai:20230409T143000
DTEND;TZID=Asia/Shanghai:20230409T163000
DTSTAMP:20260425T223702
CREATED:20230320T150949Z
LAST-MODIFIED:20230320T163421Z
UID:10000051-1681050600-1681057800@kingscity.church
SUMMARY:PERTH EASTER GATHERING
DESCRIPTION:
URL:https://kingscity.church/event/perth-easter-gathering/
LOCATION:Council House Garden\, 27 St Georges Terrace\,\, Perth\, WA\, 6000
CATEGORIES:Global Program
ATTACH;FMTTYPE=image/jpeg:https://kingscity.church/wp-content/uploads/2021/04/169151809_10157502139172282_8085489698213912673_n.jpg
END:VEVENT
BEGIN:VEVENT
DTSTART;TZID=Asia/Shanghai:20230326T100000
DTEND;TZID=Asia/Shanghai:20230326T113000
DTSTAMP:20260425T223702
CREATED:20230320T161209Z
LAST-MODIFIED:20230320T161400Z
UID:10000052-1679824800-1679830200@kingscity.church
SUMMARY:MISSIONS SUNDAY
DESCRIPTION:
URL:https://kingscity.church/event/missions-sunday/
LOCATION:RCCG KINGCITY\, BAKER HALL 6 KARBRO DR\, CARDUP\, Perth\, WA\, 6122\, Australia
CATEGORIES:Sunday Worship
ATTACH;FMTTYPE=image/jpeg:https://kingscity.church/wp-content/uploads/2023/03/IMG-20230311-WA0010.jpg
END:VEVENT
BEGIN:VEVENT
DTSTART;TZID=Asia/Shanghai:20221231T220000
DTEND;TZID=Asia/Shanghai:20230101T003000
DTSTAMP:20260425T223702
CREATED:20220816T172449Z
LAST-MODIFIED:20220816T172449Z
UID:10000049-1672524000-1672533000@kingscity.church
SUMMARY:NEW YEAR EVE SERVICE
DESCRIPTION:
URL:https://kingscity.church/event/new-year-eve-service-2/
LOCATION:The Light Pavilion\, 3/108 Welshpool Rd\, Welshpool\, Perth\, WA\, 6106
CATEGORIES:Area Programs,Provincial Programs
END:VEVENT
BEGIN:VEVENT
DTSTART;TZID=Asia/Shanghai:20220922T083000
DTEND;TZID=Asia/Shanghai:20220924T200000
DTSTAMP:20260425T223702
CREATED:20220816T171002Z
LAST-MODIFIED:20220816T171002Z
UID:10000048-1663835400-1664049600@kingscity.church
SUMMARY:RCCG AUSTRALIA-PACIFIC CNTINENTAL CONVENTION 2022
DESCRIPTION:Every year The Redeemed Christian Church of God\, Australia/Pacific Continent in line with its vision of equipping and empowering believers to become all that God wants them to be organises special events with impactful speakers who address all areas of life to ensure that participants experience a new level spiritually\, physically\, financially and maritally. \nThis year our theme is ‘The King is Coming’.
URL:https://kingscity.church/event/rccg-australia-pacific-cntinental-convention-2022/
CATEGORIES:Continental Program
ATTACH;FMTTYPE=image/webp:https://kingscity.church/wp-content/uploads/2022/08/CONFERENCE16_9design-1561w.webp
END:VEVENT
BEGIN:VEVENT
DTSTART;TZID=Asia/Shanghai:20220819T190000
DTEND;TZID=Asia/Shanghai:20220820T170000
DTSTAMP:20260425T223702
CREATED:20220816T163853Z
LAST-MODIFIED:20220816T163853Z
UID:10000044-1660935600-1661014800@kingscity.church
SUMMARY:Watchman School of Intercessors
DESCRIPTION:
URL:https://kingscity.church/event/watchman-school-of-intercessors/
LOCATION:Evangel Church\, 746 South Western Hwy\, Byford\, WA\, 6112\, Australia
ATTACH;FMTTYPE=image/png:https://kingscity.church/wp-content/uploads/2022/08/APN.png
END:VEVENT
BEGIN:VEVENT
DTSTART;VALUE=DATE:20220808
DTEND;VALUE=DATE:20220815
DTSTAMP:20260425T223702
CREATED:20220816T170336Z
LAST-MODIFIED:20220816T170336Z
UID:10000047-1659916800-1660521599@kingscity.church
SUMMARY:RCCG ANNUAL CONVENTION
DESCRIPTION:
URL:https://kingscity.church/event/rccg-annual-convention/
CATEGORIES:Global Program
ATTACH;FMTTYPE=image/jpeg:https://kingscity.church/wp-content/uploads/2022/08/2iu2gz2S_400x400.jpg
END:VEVENT
BEGIN:VEVENT
DTSTART;TZID=Asia/Shanghai:20220624T190000
DTEND;TZID=Asia/Shanghai:20220624T210000
DTSTAMP:20260425T223702
CREATED:20170821T065708Z
LAST-MODIFIED:20220816T163051Z
UID:10000015-1656097200-1656104400@kingscity.church
SUMMARY:Provincial Holy Ghost Service
DESCRIPTION:
URL:https://kingscity.church/event/provincial-holy-ghost-service/
LOCATION:The Light Pavilion\, 3/108 Welshpool Rd\, Welshpool\, Perth\, WA\, 6106
CATEGORIES:Provincial Programs
END:VEVENT
BEGIN:VEVENT
DTSTART;TZID=Asia/Shanghai:20211023T180000
DTEND;TZID=Asia/Shanghai:20211023T200000
DTSTAMP:20260425T223702
CREATED:20191231T052347Z
LAST-MODIFIED:20211001T132108Z
UID:10000035-1635012000-1635019200@kingscity.church
SUMMARY:COUPLE DINNER
DESCRIPTION:
URL:https://kingscity.church/event/couple-dinner/
END:VEVENT
BEGIN:VEVENT
DTSTART;TZID=Asia/Shanghai:20201121T140000
DTEND;TZID=Asia/Shanghai:20201121T160000
DTSTAMP:20260425T223702
CREATED:20180116T133505Z
LAST-MODIFIED:20191231T053555Z
UID:10000020-1605967200-1605974400@kingscity.church
SUMMARY:WATER BAPTISM SERVICE
DESCRIPTION:
URL:https://kingscity.church/event/water-baptism/
LOCATION:Watersby Crescent\, Shelley\, 11 Watersby Crescent\, Shelley\, WA\, 6148\, Australia
CATEGORIES:Area Programs
ATTACH;FMTTYPE=image/png:https://kingscity.church/wp-content/uploads/2017/08/20191229_0014100.45256257472791206.png
ORGANIZER;CN="RCCG- The Light Pavilion":MAILTO:info@rccgwa.com
END:VEVENT
BEGIN:VEVENT
DTSTART;TZID=Asia/Shanghai:20200918T190000
DTEND;TZID=Asia/Shanghai:20200920T190000
DTSTAMP:20260425T223702
CREATED:20180116T134021Z
LAST-MODIFIED:20191228T160510Z
UID:10000022-1600455600-1600628400@kingscity.church
SUMMARY:Word and Power Conference
DESCRIPTION:
URL:https://kingscity.church/event/word-power-conference-2/
LOCATION:Area Church\, 3/ 108 Welshpool Road\, Welshpool\, WA\, 6106\, Australia
CATEGORIES:Area Programs
ORGANIZER;CN="RCCG- The Light Pavilion":MAILTO:info@rccgwa.com
END:VEVENT
BEGIN:VEVENT
DTSTART;TZID=Asia/Shanghai:20200913T140000
DTEND;TZID=Asia/Shanghai:20200913T160000
DTSTAMP:20260425T223702
CREATED:20191231T053349Z
LAST-MODIFIED:20191231T053349Z
UID:10000038-1600005600-1600012800@kingscity.church
SUMMARY:WATER BAPTISM SERVICE
DESCRIPTION:
URL:https://kingscity.church/event/water-baptism-service-3/
LOCATION:Watersby Crescent\, Shelley\, 11 Watersby Crescent\, Shelley\, WA\, 6148\, Australia
ATTACH;FMTTYPE=image/png:https://kingscity.church/wp-content/uploads/2017/08/20191229_0014100.45256257472791206.png
END:VEVENT
BEGIN:VEVENT
DTSTART;TZID=Asia/Shanghai:20200719T140000
DTEND;TZID=Asia/Shanghai:20200719T170000
DTSTAMP:20260425T223702
CREATED:20191231T052542Z
LAST-MODIFIED:20191231T052542Z
UID:10000036-1595167200-1595178000@kingscity.church
SUMMARY:WATER BAPTISM SERVICE
DESCRIPTION:
URL:https://kingscity.church/event/water-baptism-service-2/
ATTACH;FMTTYPE=image/png:https://kingscity.church/wp-content/uploads/2017/08/20191229_0014100.45256257472791206.png
END:VEVENT
BEGIN:VEVENT
DTSTART;TZID=Asia/Shanghai:20200601T080000
DTEND;TZID=Asia/Shanghai:20200601T190000
DTSTAMP:20260425T223702
CREATED:20191231T052107Z
LAST-MODIFIED:20200602T133504Z
UID:10000034-1590998400-1591038000@kingscity.church
SUMMARY:AREA HOLYGHOST SERVICE
DESCRIPTION:
URL:https://kingscity.church/event/area-holyghost-service/
LOCATION:Area Church\, 3/ 108 Welshpool Road\, Welshpool\, WA\, 6106\, Australia
END:VEVENT
BEGIN:VEVENT
DTSTART;TZID=Asia/Shanghai:20200524T140000
DTEND;TZID=Asia/Shanghai:20200524T160000
DTSTAMP:20260425T223702
CREATED:20191231T051913Z
LAST-MODIFIED:20191231T051932Z
UID:10000033-1590328800-1590336000@kingscity.church
SUMMARY:WATER BAPTISM SERVICE
DESCRIPTION:
URL:https://kingscity.church/event/water-baptism-service/
LOCATION:Watersby Crescent\, Shelley\, 11 Watersby Crescent\, Shelley\, WA\, 6148\, Australia
CATEGORIES:Area Programs
ATTACH;FMTTYPE=image/png:https://kingscity.church/wp-content/uploads/2017/08/20191229_0014100.45256257472791206.png
END:VEVENT
BEGIN:VEVENT
DTSTART;TZID=Asia/Shanghai:20200417T190000
DTEND;TZID=Asia/Shanghai:20200419T150000
DTSTAMP:20260425T223702
CREATED:20200116T133822Z
LAST-MODIFIED:20191231T032829Z
UID:10000043-1587150000-1587308400@kingscity.church
SUMMARY:Divinely Designed Sister's Conference
DESCRIPTION:
URL:https://kingscity.church/event/divinely-designed-sisters-conference/
LOCATION:Area Church\, 3/ 108 Welshpool Road\, Welshpool\, WA\, 6106\, Australia
CATEGORIES:Area Programs
ORGANIZER;CN="RCCG- The Light Pavilion":MAILTO:info@rccgwa.com
END:VEVENT
BEGIN:VEVENT
DTSTART;TZID=Asia/Shanghai:20200321T100000
DTEND;TZID=Asia/Shanghai:20200321T150000
DTSTAMP:20260425T223702
CREATED:20191230T160004Z
LAST-MODIFIED:20191231T051308Z
UID:10000032-1584784800-1584802800@kingscity.church
SUMMARY:Leadership Training & Workforce Connect
DESCRIPTION:
URL:https://kingscity.church/event/leadership-training-workforce-connect/
LOCATION:Area Church\, 3/ 108 Welshpool Road\, Welshpool\, WA\, 6106\, Australia
CATEGORIES:Area Programs
END:VEVENT
BEGIN:VEVENT
DTSTART;TZID=Asia/Shanghai:20200315T140000
DTEND;TZID=Asia/Shanghai:20200315T150000
DTSTAMP:20260425T223702
CREATED:20170821T071050Z
LAST-MODIFIED:20191231T053629Z
UID:10000016-1584280800-1584284400@kingscity.church
SUMMARY:WATER BAPTISM SERVICE
DESCRIPTION:
URL:https://kingscity.church/event/water-baptismal-service/
ATTACH;FMTTYPE=image/png:https://kingscity.church/wp-content/uploads/2017/08/20191229_0014100.45256257472791206.png
ORGANIZER;CN="RCCG- The Light Pavilion":MAILTO:info@rccgwa.com
END:VEVENT
BEGIN:VEVENT
DTSTART;TZID=Asia/Shanghai:20200306T183000
DTEND;TZID=Asia/Shanghai:20200306T193000
DTSTAMP:20260425T223702
CREATED:20191231T053932Z
LAST-MODIFIED:20191231T053932Z
UID:10000039-1583519400-1583523000@kingscity.church
SUMMARY:PRAYER SERVICE
DESCRIPTION:
URL:https://kingscity.church/event/prayer-service-2/
LOCATION:RCCG KINGCITY\, BAKER HALL 6 KARBRO DR\, CARDUP\, Perth\, WA\, 6122\, Australia
ATTACH;FMTTYPE=image/png:https://kingscity.church/wp-content/uploads/2019/12/PRAYER-SERVICE.png
END:VEVENT
BEGIN:VEVENT
DTSTART;TZID=Asia/Shanghai:20200215T100000
DTEND;TZID=Asia/Shanghai:20200215T150000
DTSTAMP:20260425T223702
CREATED:20191231T052817Z
LAST-MODIFIED:20191231T052817Z
UID:10000037-1581760800-1581778800@kingscity.church
SUMMARY:COMMUNITY ENGAGEMENT TRAINING
DESCRIPTION:
URL:https://kingscity.church/event/community-engagement-training/
LOCATION:Area Church\, 3/ 108 Welshpool Road\, Welshpool\, WA\, 6106\, Australia
END:VEVENT
BEGIN:VEVENT
DTSTART;TZID=Asia/Shanghai:20200207T183000
DTEND;TZID=Asia/Shanghai:20200207T193000
DTSTAMP:20260425T223702
CREATED:20191228T162153Z
LAST-MODIFIED:20191231T052209Z
UID:10000031-1581100200-1581103800@kingscity.church
SUMMARY:PRAYER SERVICE
DESCRIPTION:
URL:https://kingscity.church/event/prayer-service/
ATTACH;FMTTYPE=image/png:https://kingscity.church/wp-content/uploads/2019/12/PRAYER-SERVICE.png
END:VEVENT
BEGIN:VEVENT
DTSTART;TZID=Asia/Shanghai:20200112T130000
DTEND;TZID=Asia/Shanghai:20200112T140000
DTSTAMP:20260425T223702
CREATED:20180116T133623Z
LAST-MODIFIED:20191231T051508Z
UID:10000021-1578834000-1578837600@kingscity.church
SUMMARY:Water Baptism Service
DESCRIPTION:
URL:https://kingscity.church/event/water-baptism-2/
LOCATION:Area Church\, 3/ 108 Welshpool Road\, Welshpool\, WA\, 6106\, Australia
CATEGORIES:Area Programs
ATTACH;FMTTYPE=image/png:https://kingscity.church/wp-content/uploads/2018/01/20191201_0434450.3426552088905791-1.png
ORGANIZER;CN="RCCG- The Light Pavilion":MAILTO:info@rccgwa.com
END:VEVENT
BEGIN:VEVENT
DTSTART;TZID=Asia/Shanghai:20181209T183000
DTEND;TZID=Asia/Shanghai:20181209T223000
DTSTAMP:20260425T223702
CREATED:20181122T030624Z
LAST-MODIFIED:20181122T030740Z
UID:10000030-1544380200-1544394600@kingscity.church
SUMMARY:Byford Carols
DESCRIPTION:
URL:https://kingscity.church/event/byford-carols/
LOCATION:Briggs Park Reserve (Mead St)\, Mead Street\, Byford\, WA\, 6122\, Australia
ATTACH;FMTTYPE=image/jpeg:https://kingscity.church/wp-content/uploads/2018/11/IMG-20181121-WA0000.jpg
END:VEVENT
BEGIN:VEVENT
DTSTART;TZID=Asia/Shanghai:20180517T180000
DTEND;TZID=Asia/Shanghai:20180519T000000
DTSTAMP:20260425T223702
CREATED:20180205T085855Z
LAST-MODIFIED:20180205T085855Z
UID:10000028-1526580000-1526688000@kingscity.church
SUMMARY:Festival Of Life 2018 Australia/Pacific
DESCRIPTION:Details of the program\, time and target groups are as follows: \n– Thursday\, 17th May\, 2018: 9.00am-2.00 pm – Feast Of Esther  \nAUDIENCE: Wives of General Overseers and other selected women leaders in\nthe Church. Details will be communicated through a dedicated website:\nwww.feastofesther.org.au which should be live in early February. Please send the\ndetails of anyone within the target group to feastofesther2018@gmail.com for\nspecial invitation to the program. \n– Thursday 17th May 2018: 6.00pm-8.00 pm – Workers Rally \nAUDIENCE: Strictly for all workers and Ministers of R.C.C.G Australia/Pacific\nRegion. \n– Thursday 17th May 2018: 8.30pm – 9.30 pm – Festival of Life Partners Dinner \nAUDIENCE: Strictly for FoL partners that have pre-registered online. \n– Friday 18th May\, 2018: 7.00pm-12am – Festival of Life (For everyone) 
URL:https://kingscity.church/event/festival-life-2018-australia-pacific/
LOCATION:Planetshakers Centre\, 400 City road\, Southbank\, Melbourne\, VIC\, Southbank\, Melbourne\, Australia
ATTACH;FMTTYPE=image/jpeg:https://kingscity.church/wp-content/uploads/2018/02/IMG-20180107-WA0000.jpg
END:VEVENT
BEGIN:VEVENT
DTSTART;TZID=Asia/Shanghai:20180301T180000
DTEND;TZID=Asia/Shanghai:20180301T220000
DTSTAMP:20260425T223702
CREATED:20180205T085210Z
LAST-MODIFIED:20180207T015319Z
UID:10000027-1519927200-1519941600@kingscity.church
SUMMARY:76 Hours Marathon Praise
DESCRIPTION:
URL:https://kingscity.church/event/76-hours-marathon-praise/
LOCATION:Mount Pleasant Baptist Church\, 497 Marmion St\, Booragoon\, WA\, 6154\, Australia
ATTACH;FMTTYPE=image/jpeg:https://kingscity.church/wp-content/uploads/2018/02/76HRS-1024x392.jpg
END:VEVENT
BEGIN:VEVENT
DTSTART;VALUE=DATE:20180126
DTEND;VALUE=DATE:20180127
DTSTAMP:20260425T223702
CREATED:20180116T134246Z
LAST-MODIFIED:20180116T134246Z
UID:10000024-1516924800-1517011199@kingscity.church
SUMMARY:Australia Day Outreach
DESCRIPTION:
URL:https://kingscity.church/event/australia-day-outreach/
ORGANIZER;CN="RCCG- KingCity Church":MAILTO:info@kingscity.church
END:VEVENT
BEGIN:VEVENT
DTSTART;TZID=Asia/Shanghai:20180111T060000
DTEND;TZID=Asia/Shanghai:20180301T180000
DTSTAMP:20260425T223702
CREATED:20180116T134143Z
LAST-MODIFIED:20180116T134143Z
UID:10000023-1515650400-1519927200@kingscity.church
SUMMARY:RCCG Fasting
DESCRIPTION:
URL:https://kingscity.church/event/rccg-fasting/
LOCATION:Melbourne\, Uni Hill Conference Centre\, 30 Graduate Road\, Bundoora\, Victoria\, 3083\, Australia
END:VEVENT
BEGIN:VEVENT
DTSTART;TZID=Asia/Shanghai:20170820T100000
DTEND;TZID=Asia/Shanghai:20170820T113000
DTSTAMP:20260425T223702
CREATED:20170818T024020Z
LAST-MODIFIED:20170821T064243Z
UID:10000009-1503223200-1503228600@kingscity.church
SUMMARY:Sunday Worship
DESCRIPTION:
URL:https://kingscity.church/event/sunday-sermon/
LOCATION:The sermon in church\, Baker Community Hall. 6 Karbro Drive\, Cardup\, Western Australia\, 6122\, Australia
CATEGORIES:Sunday Worship
ATTACH;FMTTYPE=image/jpeg:https://kingscity.church/wp-content/uploads/2017/08/pexels-photo-267559.jpeg
ORGANIZER;CN="RCCG- KingCity Church":MAILTO:info@kingscity.church
END:VEVENT
END:VCALENDAR