BEGIN:VCALENDAR
VERSION:2.0
PRODID:-//RCCG - KingCity Perth Western Australia - ECPv6.15.15//NONSGML v1.0//EN
CALSCALE:GREGORIAN
METHOD:PUBLISH
X-WR-CALNAME:RCCG - KingCity Perth Western Australia
X-ORIGINAL-URL:https://kingscity.church
X-WR-CALDESC:Events for RCCG - KingCity Perth Western Australia
REFRESH-INTERVAL;VALUE=DURATION:PT1H
X-Robots-Tag:noindex
X-PUBLISHED-TTL:PT1H
BEGIN:VTIMEZONE
TZID:Asia/Shanghai
BEGIN:STANDARD
TZOFFSETFROM:+0800
TZOFFSETTO:+0800
TZNAME:CST
DTSTART:20230101T000000
END:STANDARD
END:VTIMEZONE
BEGIN:VEVENT
DTSTART;TZID=Asia/Shanghai:20250504T100000
DTEND;TZID=Asia/Shanghai:20250504T120000
DTSTAMP:20260424T144830
CREATED:20170821T053725Z
LAST-MODIFIED:20260210T052226Z
UID:10000954-1746352800-1746360000@kingscity.church
SUMMARY:SUNDAY WORSHIP SERVICE
DESCRIPTION:
URL:https://kingscity.church/event/sunday-worship/2025-05-04/
LOCATION:RCCG KINGCITY\, BAKER HALL 6 KARBRO DR\, CARDUP\, Perth\, WA\, 6122\, Australia
CATEGORIES:Sunday Worship
ATTACH;FMTTYPE=image/png:https://kingscity.church/wp-content/uploads/2023/03/Untitled-design.png
ORGANIZER;CN="RCCG- KingCity Church":MAILTO:info@kingscity.church
END:VEVENT
BEGIN:VEVENT
DTSTART;TZID=Asia/Shanghai:20250427T100000
DTEND;TZID=Asia/Shanghai:20250427T120000
DTSTAMP:20260424T144830
CREATED:20170821T053725Z
LAST-MODIFIED:20260210T052226Z
UID:10000953-1745748000-1745755200@kingscity.church
SUMMARY:SUNDAY WORSHIP SERVICE
DESCRIPTION:
URL:https://kingscity.church/event/sunday-worship/2025-04-27/
LOCATION:RCCG KINGCITY\, BAKER HALL 6 KARBRO DR\, CARDUP\, Perth\, WA\, 6122\, Australia
CATEGORIES:Sunday Worship
ATTACH;FMTTYPE=image/png:https://kingscity.church/wp-content/uploads/2023/03/Untitled-design.png
ORGANIZER;CN="RCCG- KingCity Church":MAILTO:info@kingscity.church
END:VEVENT
BEGIN:VEVENT
DTSTART;TZID=Asia/Shanghai:20250420T100000
DTEND;TZID=Asia/Shanghai:20250420T120000
DTSTAMP:20260424T144830
CREATED:20170821T053725Z
LAST-MODIFIED:20260210T052226Z
UID:10000952-1745143200-1745150400@kingscity.church
SUMMARY:SUNDAY WORSHIP SERVICE
DESCRIPTION:
URL:https://kingscity.church/event/sunday-worship/2025-04-20/
LOCATION:RCCG KINGCITY\, BAKER HALL 6 KARBRO DR\, CARDUP\, Perth\, WA\, 6122\, Australia
CATEGORIES:Sunday Worship
ATTACH;FMTTYPE=image/png:https://kingscity.church/wp-content/uploads/2023/03/Untitled-design.png
ORGANIZER;CN="RCCG- KingCity Church":MAILTO:info@kingscity.church
END:VEVENT
BEGIN:VEVENT
DTSTART;TZID=Asia/Shanghai:20250413T100000
DTEND;TZID=Asia/Shanghai:20250413T120000
DTSTAMP:20260424T144830
CREATED:20170821T053725Z
LAST-MODIFIED:20260210T052226Z
UID:10000951-1744538400-1744545600@kingscity.church
SUMMARY:SUNDAY WORSHIP SERVICE
DESCRIPTION:
URL:https://kingscity.church/event/sunday-worship/2025-04-13/
LOCATION:RCCG KINGCITY\, BAKER HALL 6 KARBRO DR\, CARDUP\, Perth\, WA\, 6122\, Australia
CATEGORIES:Sunday Worship
ATTACH;FMTTYPE=image/png:https://kingscity.church/wp-content/uploads/2023/03/Untitled-design.png
ORGANIZER;CN="RCCG- KingCity Church":MAILTO:info@kingscity.church
END:VEVENT
BEGIN:VEVENT
DTSTART;TZID=Asia/Shanghai:20250406T100000
DTEND;TZID=Asia/Shanghai:20250406T120000
DTSTAMP:20260424T144830
CREATED:20170821T053725Z
LAST-MODIFIED:20260210T052226Z
UID:10000950-1743933600-1743940800@kingscity.church
SUMMARY:SUNDAY WORSHIP SERVICE
DESCRIPTION:
URL:https://kingscity.church/event/sunday-worship/2025-04-06/
LOCATION:RCCG KINGCITY\, BAKER HALL 6 KARBRO DR\, CARDUP\, Perth\, WA\, 6122\, Australia
CATEGORIES:Sunday Worship
ATTACH;FMTTYPE=image/png:https://kingscity.church/wp-content/uploads/2023/03/Untitled-design.png
ORGANIZER;CN="RCCG- KingCity Church":MAILTO:info@kingscity.church
END:VEVENT
BEGIN:VEVENT
DTSTART;TZID=Asia/Shanghai:20250330T100000
DTEND;TZID=Asia/Shanghai:20250330T120000
DTSTAMP:20260424T144830
CREATED:20170821T053725Z
LAST-MODIFIED:20260210T052226Z
UID:10000949-1743328800-1743336000@kingscity.church
SUMMARY:SUNDAY WORSHIP SERVICE
DESCRIPTION:
URL:https://kingscity.church/event/sunday-worship/2025-03-30/
LOCATION:RCCG KINGCITY\, BAKER HALL 6 KARBRO DR\, CARDUP\, Perth\, WA\, 6122\, Australia
CATEGORIES:Sunday Worship
ATTACH;FMTTYPE=image/png:https://kingscity.church/wp-content/uploads/2023/03/Untitled-design.png
ORGANIZER;CN="RCCG- KingCity Church":MAILTO:info@kingscity.church
END:VEVENT
BEGIN:VEVENT
DTSTART;TZID=Asia/Shanghai:20250323T100000
DTEND;TZID=Asia/Shanghai:20250323T120000
DTSTAMP:20260424T144830
CREATED:20170821T053725Z
LAST-MODIFIED:20260210T052226Z
UID:10000948-1742724000-1742731200@kingscity.church
SUMMARY:SUNDAY WORSHIP SERVICE
DESCRIPTION:
URL:https://kingscity.church/event/sunday-worship/2025-03-23/
LOCATION:RCCG KINGCITY\, BAKER HALL 6 KARBRO DR\, CARDUP\, Perth\, WA\, 6122\, Australia
CATEGORIES:Sunday Worship
ATTACH;FMTTYPE=image/png:https://kingscity.church/wp-content/uploads/2023/03/Untitled-design.png
ORGANIZER;CN="RCCG- KingCity Church":MAILTO:info@kingscity.church
END:VEVENT
BEGIN:VEVENT
DTSTART;TZID=Asia/Shanghai:20250316T100000
DTEND;TZID=Asia/Shanghai:20250316T120000
DTSTAMP:20260424T144830
CREATED:20170821T053725Z
LAST-MODIFIED:20260210T052226Z
UID:10000947-1742119200-1742126400@kingscity.church
SUMMARY:SUNDAY WORSHIP SERVICE
DESCRIPTION:
URL:https://kingscity.church/event/sunday-worship/2025-03-16/
LOCATION:RCCG KINGCITY\, BAKER HALL 6 KARBRO DR\, CARDUP\, Perth\, WA\, 6122\, Australia
CATEGORIES:Sunday Worship
ATTACH;FMTTYPE=image/png:https://kingscity.church/wp-content/uploads/2023/03/Untitled-design.png
ORGANIZER;CN="RCCG- KingCity Church":MAILTO:info@kingscity.church
END:VEVENT
BEGIN:VEVENT
DTSTART;TZID=Asia/Shanghai:20250309T100000
DTEND;TZID=Asia/Shanghai:20250309T120000
DTSTAMP:20260424T144830
CREATED:20170821T053725Z
LAST-MODIFIED:20260210T052226Z
UID:10000946-1741514400-1741521600@kingscity.church
SUMMARY:SUNDAY WORSHIP SERVICE
DESCRIPTION:
URL:https://kingscity.church/event/sunday-worship/2025-03-09/
LOCATION:RCCG KINGCITY\, BAKER HALL 6 KARBRO DR\, CARDUP\, Perth\, WA\, 6122\, Australia
CATEGORIES:Sunday Worship
ATTACH;FMTTYPE=image/png:https://kingscity.church/wp-content/uploads/2023/03/Untitled-design.png
ORGANIZER;CN="RCCG- KingCity Church":MAILTO:info@kingscity.church
END:VEVENT
BEGIN:VEVENT
DTSTART;TZID=Asia/Shanghai:20250302T100000
DTEND;TZID=Asia/Shanghai:20250302T120000
DTSTAMP:20260424T144830
CREATED:20170821T053725Z
LAST-MODIFIED:20260210T052226Z
UID:10000945-1740909600-1740916800@kingscity.church
SUMMARY:SUNDAY WORSHIP SERVICE
DESCRIPTION:
URL:https://kingscity.church/event/sunday-worship/2025-03-02/
LOCATION:RCCG KINGCITY\, BAKER HALL 6 KARBRO DR\, CARDUP\, Perth\, WA\, 6122\, Australia
CATEGORIES:Sunday Worship
ATTACH;FMTTYPE=image/png:https://kingscity.church/wp-content/uploads/2023/03/Untitled-design.png
ORGANIZER;CN="RCCG- KingCity Church":MAILTO:info@kingscity.church
END:VEVENT
BEGIN:VEVENT
DTSTART;TZID=Asia/Shanghai:20250223T100000
DTEND;TZID=Asia/Shanghai:20250223T120000
DTSTAMP:20260424T144830
CREATED:20170821T053725Z
LAST-MODIFIED:20260210T052226Z
UID:10000944-1740304800-1740312000@kingscity.church
SUMMARY:SUNDAY WORSHIP SERVICE
DESCRIPTION:
URL:https://kingscity.church/event/sunday-worship/2025-02-23/
LOCATION:RCCG KINGCITY\, BAKER HALL 6 KARBRO DR\, CARDUP\, Perth\, WA\, 6122\, Australia
CATEGORIES:Sunday Worship
ATTACH;FMTTYPE=image/png:https://kingscity.church/wp-content/uploads/2023/03/Untitled-design.png
ORGANIZER;CN="RCCG- KingCity Church":MAILTO:info@kingscity.church
END:VEVENT
BEGIN:VEVENT
DTSTART;TZID=Asia/Shanghai:20250216T100000
DTEND;TZID=Asia/Shanghai:20250216T120000
DTSTAMP:20260424T144830
CREATED:20170821T053725Z
LAST-MODIFIED:20260210T052226Z
UID:10000943-1739700000-1739707200@kingscity.church
SUMMARY:SUNDAY WORSHIP SERVICE
DESCRIPTION:
URL:https://kingscity.church/event/sunday-worship/2025-02-16/
LOCATION:RCCG KINGCITY\, BAKER HALL 6 KARBRO DR\, CARDUP\, Perth\, WA\, 6122\, Australia
CATEGORIES:Sunday Worship
ATTACH;FMTTYPE=image/png:https://kingscity.church/wp-content/uploads/2023/03/Untitled-design.png
ORGANIZER;CN="RCCG- KingCity Church":MAILTO:info@kingscity.church
END:VEVENT
BEGIN:VEVENT
DTSTART;TZID=Asia/Shanghai:20250209T100000
DTEND;TZID=Asia/Shanghai:20250209T120000
DTSTAMP:20260424T144830
CREATED:20170821T053725Z
LAST-MODIFIED:20260210T052226Z
UID:10000942-1739095200-1739102400@kingscity.church
SUMMARY:SUNDAY WORSHIP SERVICE
DESCRIPTION:
URL:https://kingscity.church/event/sunday-worship/2025-02-09/
LOCATION:RCCG KINGCITY\, BAKER HALL 6 KARBRO DR\, CARDUP\, Perth\, WA\, 6122\, Australia
CATEGORIES:Sunday Worship
ATTACH;FMTTYPE=image/png:https://kingscity.church/wp-content/uploads/2023/03/Untitled-design.png
ORGANIZER;CN="RCCG- KingCity Church":MAILTO:info@kingscity.church
END:VEVENT
BEGIN:VEVENT
DTSTART;TZID=Asia/Shanghai:20250202T100000
DTEND;TZID=Asia/Shanghai:20250202T120000
DTSTAMP:20260424T144830
CREATED:20170821T053725Z
LAST-MODIFIED:20260210T052226Z
UID:10000941-1738490400-1738497600@kingscity.church
SUMMARY:SUNDAY WORSHIP SERVICE
DESCRIPTION:
URL:https://kingscity.church/event/sunday-worship/2025-02-02/
LOCATION:RCCG KINGCITY\, BAKER HALL 6 KARBRO DR\, CARDUP\, Perth\, WA\, 6122\, Australia
CATEGORIES:Sunday Worship
ATTACH;FMTTYPE=image/png:https://kingscity.church/wp-content/uploads/2023/03/Untitled-design.png
ORGANIZER;CN="RCCG- KingCity Church":MAILTO:info@kingscity.church
END:VEVENT
BEGIN:VEVENT
DTSTART;TZID=Asia/Shanghai:20250126T100000
DTEND;TZID=Asia/Shanghai:20250126T120000
DTSTAMP:20260424T144830
CREATED:20170821T053725Z
LAST-MODIFIED:20260210T052226Z
UID:10000940-1737885600-1737892800@kingscity.church
SUMMARY:SUNDAY WORSHIP SERVICE
DESCRIPTION:
URL:https://kingscity.church/event/sunday-worship/2025-01-26/
LOCATION:RCCG KINGCITY\, BAKER HALL 6 KARBRO DR\, CARDUP\, Perth\, WA\, 6122\, Australia
CATEGORIES:Sunday Worship
ATTACH;FMTTYPE=image/png:https://kingscity.church/wp-content/uploads/2023/03/Untitled-design.png
ORGANIZER;CN="RCCG- KingCity Church":MAILTO:info@kingscity.church
END:VEVENT
BEGIN:VEVENT
DTSTART;TZID=Asia/Shanghai:20250119T100000
DTEND;TZID=Asia/Shanghai:20250119T120000
DTSTAMP:20260424T144830
CREATED:20170821T053725Z
LAST-MODIFIED:20260210T052226Z
UID:10000939-1737280800-1737288000@kingscity.church
SUMMARY:SUNDAY WORSHIP SERVICE
DESCRIPTION:
URL:https://kingscity.church/event/sunday-worship/2025-01-19/
LOCATION:RCCG KINGCITY\, BAKER HALL 6 KARBRO DR\, CARDUP\, Perth\, WA\, 6122\, Australia
CATEGORIES:Sunday Worship
ATTACH;FMTTYPE=image/png:https://kingscity.church/wp-content/uploads/2023/03/Untitled-design.png
ORGANIZER;CN="RCCG- KingCity Church":MAILTO:info@kingscity.church
END:VEVENT
BEGIN:VEVENT
DTSTART;TZID=Asia/Shanghai:20250112T100000
DTEND;TZID=Asia/Shanghai:20250112T120000
DTSTAMP:20260424T144830
CREATED:20170821T053725Z
LAST-MODIFIED:20260210T052226Z
UID:10000938-1736676000-1736683200@kingscity.church
SUMMARY:SUNDAY WORSHIP SERVICE
DESCRIPTION:
URL:https://kingscity.church/event/sunday-worship/2025-01-12/
LOCATION:RCCG KINGCITY\, BAKER HALL 6 KARBRO DR\, CARDUP\, Perth\, WA\, 6122\, Australia
CATEGORIES:Sunday Worship
ATTACH;FMTTYPE=image/png:https://kingscity.church/wp-content/uploads/2023/03/Untitled-design.png
ORGANIZER;CN="RCCG- KingCity Church":MAILTO:info@kingscity.church
END:VEVENT
BEGIN:VEVENT
DTSTART;TZID=Asia/Shanghai:20250105T100000
DTEND;TZID=Asia/Shanghai:20250105T120000
DTSTAMP:20260424T144830
CREATED:20170821T053725Z
LAST-MODIFIED:20260210T052226Z
UID:10000937-1736071200-1736078400@kingscity.church
SUMMARY:SUNDAY WORSHIP SERVICE
DESCRIPTION:
URL:https://kingscity.church/event/sunday-worship/2025-01-05/
LOCATION:RCCG KINGCITY\, BAKER HALL 6 KARBRO DR\, CARDUP\, Perth\, WA\, 6122\, Australia
CATEGORIES:Sunday Worship
ATTACH;FMTTYPE=image/png:https://kingscity.church/wp-content/uploads/2023/03/Untitled-design.png
ORGANIZER;CN="RCCG- KingCity Church":MAILTO:info@kingscity.church
END:VEVENT
BEGIN:VEVENT
DTSTART;TZID=Asia/Shanghai:20241229T100000
DTEND;TZID=Asia/Shanghai:20241229T120000
DTSTAMP:20260424T144830
CREATED:20170821T053725Z
LAST-MODIFIED:20260210T052226Z
UID:10000936-1735466400-1735473600@kingscity.church
SUMMARY:SUNDAY WORSHIP SERVICE
DESCRIPTION:
URL:https://kingscity.church/event/sunday-worship/2024-12-29/
LOCATION:RCCG KINGCITY\, BAKER HALL 6 KARBRO DR\, CARDUP\, Perth\, WA\, 6122\, Australia
CATEGORIES:Sunday Worship
ATTACH;FMTTYPE=image/png:https://kingscity.church/wp-content/uploads/2023/03/Untitled-design.png
ORGANIZER;CN="RCCG- KingCity Church":MAILTO:info@kingscity.church
END:VEVENT
BEGIN:VEVENT
DTSTART;TZID=Asia/Shanghai:20241222T100000
DTEND;TZID=Asia/Shanghai:20241222T120000
DTSTAMP:20260424T144830
CREATED:20170821T053725Z
LAST-MODIFIED:20260210T052226Z
UID:10000935-1734861600-1734868800@kingscity.church
SUMMARY:SUNDAY WORSHIP SERVICE
DESCRIPTION:
URL:https://kingscity.church/event/sunday-worship/2024-12-22/
LOCATION:RCCG KINGCITY\, BAKER HALL 6 KARBRO DR\, CARDUP\, Perth\, WA\, 6122\, Australia
CATEGORIES:Sunday Worship
ATTACH;FMTTYPE=image/png:https://kingscity.church/wp-content/uploads/2023/03/Untitled-design.png
ORGANIZER;CN="RCCG- KingCity Church":MAILTO:info@kingscity.church
END:VEVENT
BEGIN:VEVENT
DTSTART;TZID=Asia/Shanghai:20241215T100000
DTEND;TZID=Asia/Shanghai:20241215T120000
DTSTAMP:20260424T144830
CREATED:20170821T053725Z
LAST-MODIFIED:20260210T052226Z
UID:10000934-1734256800-1734264000@kingscity.church
SUMMARY:SUNDAY WORSHIP SERVICE
DESCRIPTION:
URL:https://kingscity.church/event/sunday-worship/2024-12-15/
LOCATION:RCCG KINGCITY\, BAKER HALL 6 KARBRO DR\, CARDUP\, Perth\, WA\, 6122\, Australia
CATEGORIES:Sunday Worship
ATTACH;FMTTYPE=image/png:https://kingscity.church/wp-content/uploads/2023/03/Untitled-design.png
ORGANIZER;CN="RCCG- KingCity Church":MAILTO:info@kingscity.church
END:VEVENT
BEGIN:VEVENT
DTSTART;TZID=Asia/Shanghai:20241208T100000
DTEND;TZID=Asia/Shanghai:20241208T120000
DTSTAMP:20260424T144830
CREATED:20170821T053725Z
LAST-MODIFIED:20260210T052226Z
UID:10000933-1733652000-1733659200@kingscity.church
SUMMARY:SUNDAY WORSHIP SERVICE
DESCRIPTION:
URL:https://kingscity.church/event/sunday-worship/2024-12-08/
LOCATION:RCCG KINGCITY\, BAKER HALL 6 KARBRO DR\, CARDUP\, Perth\, WA\, 6122\, Australia
CATEGORIES:Sunday Worship
ATTACH;FMTTYPE=image/png:https://kingscity.church/wp-content/uploads/2023/03/Untitled-design.png
ORGANIZER;CN="RCCG- KingCity Church":MAILTO:info@kingscity.church
END:VEVENT
BEGIN:VEVENT
DTSTART;TZID=Asia/Shanghai:20241201T100000
DTEND;TZID=Asia/Shanghai:20241201T120000
DTSTAMP:20260424T144830
CREATED:20170821T053725Z
LAST-MODIFIED:20260210T052226Z
UID:10000932-1733047200-1733054400@kingscity.church
SUMMARY:SUNDAY WORSHIP SERVICE
DESCRIPTION:
URL:https://kingscity.church/event/sunday-worship/2024-12-01/
LOCATION:RCCG KINGCITY\, BAKER HALL 6 KARBRO DR\, CARDUP\, Perth\, WA\, 6122\, Australia
CATEGORIES:Sunday Worship
ATTACH;FMTTYPE=image/png:https://kingscity.church/wp-content/uploads/2023/03/Untitled-design.png
ORGANIZER;CN="RCCG- KingCity Church":MAILTO:info@kingscity.church
END:VEVENT
BEGIN:VEVENT
DTSTART;TZID=Asia/Shanghai:20241124T100000
DTEND;TZID=Asia/Shanghai:20241124T120000
DTSTAMP:20260424T144830
CREATED:20170821T053725Z
LAST-MODIFIED:20260210T052226Z
UID:10000931-1732442400-1732449600@kingscity.church
SUMMARY:SUNDAY WORSHIP SERVICE
DESCRIPTION:
URL:https://kingscity.church/event/sunday-worship/2024-11-24/
LOCATION:RCCG KINGCITY\, BAKER HALL 6 KARBRO DR\, CARDUP\, Perth\, WA\, 6122\, Australia
CATEGORIES:Sunday Worship
ATTACH;FMTTYPE=image/png:https://kingscity.church/wp-content/uploads/2023/03/Untitled-design.png
ORGANIZER;CN="RCCG- KingCity Church":MAILTO:info@kingscity.church
END:VEVENT
BEGIN:VEVENT
DTSTART;TZID=Asia/Shanghai:20241117T100000
DTEND;TZID=Asia/Shanghai:20241117T120000
DTSTAMP:20260424T144830
CREATED:20170821T053725Z
LAST-MODIFIED:20260210T052226Z
UID:10000930-1731837600-1731844800@kingscity.church
SUMMARY:SUNDAY WORSHIP SERVICE
DESCRIPTION:
URL:https://kingscity.church/event/sunday-worship/2024-11-17/
LOCATION:RCCG KINGCITY\, BAKER HALL 6 KARBRO DR\, CARDUP\, Perth\, WA\, 6122\, Australia
CATEGORIES:Sunday Worship
ATTACH;FMTTYPE=image/png:https://kingscity.church/wp-content/uploads/2023/03/Untitled-design.png
ORGANIZER;CN="RCCG- KingCity Church":MAILTO:info@kingscity.church
END:VEVENT
BEGIN:VEVENT
DTSTART;TZID=Asia/Shanghai:20241110T100000
DTEND;TZID=Asia/Shanghai:20241110T120000
DTSTAMP:20260424T144830
CREATED:20170821T053725Z
LAST-MODIFIED:20260210T052226Z
UID:10000929-1731232800-1731240000@kingscity.church
SUMMARY:SUNDAY WORSHIP SERVICE
DESCRIPTION:
URL:https://kingscity.church/event/sunday-worship/2024-11-10/
LOCATION:RCCG KINGCITY\, BAKER HALL 6 KARBRO DR\, CARDUP\, Perth\, WA\, 6122\, Australia
CATEGORIES:Sunday Worship
ATTACH;FMTTYPE=image/png:https://kingscity.church/wp-content/uploads/2023/03/Untitled-design.png
ORGANIZER;CN="RCCG- KingCity Church":MAILTO:info@kingscity.church
END:VEVENT
BEGIN:VEVENT
DTSTART;TZID=Asia/Shanghai:20241103T100000
DTEND;TZID=Asia/Shanghai:20241103T120000
DTSTAMP:20260424T144830
CREATED:20170821T053725Z
LAST-MODIFIED:20260210T052226Z
UID:10000928-1730628000-1730635200@kingscity.church
SUMMARY:SUNDAY WORSHIP SERVICE
DESCRIPTION:
URL:https://kingscity.church/event/sunday-worship/2024-11-03/
LOCATION:RCCG KINGCITY\, BAKER HALL 6 KARBRO DR\, CARDUP\, Perth\, WA\, 6122\, Australia
CATEGORIES:Sunday Worship
ATTACH;FMTTYPE=image/png:https://kingscity.church/wp-content/uploads/2023/03/Untitled-design.png
ORGANIZER;CN="RCCG- KingCity Church":MAILTO:info@kingscity.church
END:VEVENT
BEGIN:VEVENT
DTSTART;TZID=Asia/Shanghai:20241027T100000
DTEND;TZID=Asia/Shanghai:20241027T120000
DTSTAMP:20260424T144830
CREATED:20170821T053725Z
LAST-MODIFIED:20260210T052226Z
UID:10000927-1730023200-1730030400@kingscity.church
SUMMARY:SUNDAY WORSHIP SERVICE
DESCRIPTION:
URL:https://kingscity.church/event/sunday-worship/2024-10-27/
LOCATION:RCCG KINGCITY\, BAKER HALL 6 KARBRO DR\, CARDUP\, Perth\, WA\, 6122\, Australia
CATEGORIES:Sunday Worship
ATTACH;FMTTYPE=image/png:https://kingscity.church/wp-content/uploads/2023/03/Untitled-design.png
ORGANIZER;CN="RCCG- KingCity Church":MAILTO:info@kingscity.church
END:VEVENT
BEGIN:VEVENT
DTSTART;TZID=Asia/Shanghai:20241020T100000
DTEND;TZID=Asia/Shanghai:20241020T120000
DTSTAMP:20260424T144830
CREATED:20170821T053725Z
LAST-MODIFIED:20260210T052226Z
UID:10000926-1729418400-1729425600@kingscity.church
SUMMARY:SUNDAY WORSHIP SERVICE
DESCRIPTION:
URL:https://kingscity.church/event/sunday-worship/2024-10-20/
LOCATION:RCCG KINGCITY\, BAKER HALL 6 KARBRO DR\, CARDUP\, Perth\, WA\, 6122\, Australia
CATEGORIES:Sunday Worship
ATTACH;FMTTYPE=image/png:https://kingscity.church/wp-content/uploads/2023/03/Untitled-design.png
ORGANIZER;CN="RCCG- KingCity Church":MAILTO:info@kingscity.church
END:VEVENT
BEGIN:VEVENT
DTSTART;TZID=Asia/Shanghai:20241013T100000
DTEND;TZID=Asia/Shanghai:20241013T120000
DTSTAMP:20260424T144830
CREATED:20170821T053725Z
LAST-MODIFIED:20260210T052226Z
UID:10000925-1728813600-1728820800@kingscity.church
SUMMARY:SUNDAY WORSHIP SERVICE
DESCRIPTION:
URL:https://kingscity.church/event/sunday-worship/2024-10-13/
LOCATION:RCCG KINGCITY\, BAKER HALL 6 KARBRO DR\, CARDUP\, Perth\, WA\, 6122\, Australia
CATEGORIES:Sunday Worship
ATTACH;FMTTYPE=image/png:https://kingscity.church/wp-content/uploads/2023/03/Untitled-design.png
ORGANIZER;CN="RCCG- KingCity Church":MAILTO:info@kingscity.church
END:VEVENT
END:VCALENDAR