BEGIN:VCALENDAR
VERSION:2.0
PRODID:-//RCCG - KingCity Perth Western Australia - ECPv6.15.15//NONSGML v1.0//EN
CALSCALE:GREGORIAN
METHOD:PUBLISH
X-ORIGINAL-URL:https://kingscity.church
X-WR-CALDESC:Events for RCCG - KingCity Perth Western Australia
REFRESH-INTERVAL;VALUE=DURATION:PT1H
X-Robots-Tag:noindex
X-PUBLISHED-TTL:PT1H
BEGIN:VTIMEZONE
TZID:Asia/Shanghai
BEGIN:STANDARD
TZOFFSETFROM:+0800
TZOFFSETTO:+0800
TZNAME:CST
DTSTART:20260101T000000
END:STANDARD
END:VTIMEZONE
BEGIN:VEVENT
DTSTART;TZID=Asia/Shanghai:20271205T100000
DTEND;TZID=Asia/Shanghai:20271205T120000
DTSTAMP:20260425T105108
CREATED:20170821T053725Z
LAST-MODIFIED:20260210T052226Z
UID:10001089-1828000800-1828008000@kingscity.church
SUMMARY:SUNDAY WORSHIP SERVICE
DESCRIPTION:
URL:https://kingscity.church/event/sunday-worship/2027-12-05/
LOCATION:RCCG KINGCITY\, BAKER HALL 6 KARBRO DR\, CARDUP\, Perth\, WA\, 6122\, Australia
CATEGORIES:Sunday Worship
ATTACH;FMTTYPE=image/png:https://kingscity.church/wp-content/uploads/2023/03/Untitled-design.png
ORGANIZER;CN="RCCG- KingCity Church":MAILTO:info@kingscity.church
END:VEVENT
BEGIN:VEVENT
DTSTART;TZID=Asia/Shanghai:20271212T100000
DTEND;TZID=Asia/Shanghai:20271212T120000
DTSTAMP:20260425T105108
CREATED:20170821T053725Z
LAST-MODIFIED:20260210T052226Z
UID:10001090-1828605600-1828612800@kingscity.church
SUMMARY:SUNDAY WORSHIP SERVICE
DESCRIPTION:
URL:https://kingscity.church/event/sunday-worship/2027-12-12/
LOCATION:RCCG KINGCITY\, BAKER HALL 6 KARBRO DR\, CARDUP\, Perth\, WA\, 6122\, Australia
CATEGORIES:Sunday Worship
ATTACH;FMTTYPE=image/png:https://kingscity.church/wp-content/uploads/2023/03/Untitled-design.png
ORGANIZER;CN="RCCG- KingCity Church":MAILTO:info@kingscity.church
END:VEVENT
BEGIN:VEVENT
DTSTART;TZID=Asia/Shanghai:20271219T100000
DTEND;TZID=Asia/Shanghai:20271219T120000
DTSTAMP:20260425T105108
CREATED:20170821T053725Z
LAST-MODIFIED:20260210T052226Z
UID:10001091-1829210400-1829217600@kingscity.church
SUMMARY:SUNDAY WORSHIP SERVICE
DESCRIPTION:
URL:https://kingscity.church/event/sunday-worship/2027-12-19/
LOCATION:RCCG KINGCITY\, BAKER HALL 6 KARBRO DR\, CARDUP\, Perth\, WA\, 6122\, Australia
CATEGORIES:Sunday Worship
ATTACH;FMTTYPE=image/png:https://kingscity.church/wp-content/uploads/2023/03/Untitled-design.png
ORGANIZER;CN="RCCG- KingCity Church":MAILTO:info@kingscity.church
END:VEVENT
BEGIN:VEVENT
DTSTART;TZID=Asia/Shanghai:20271226T100000
DTEND;TZID=Asia/Shanghai:20271226T120000
DTSTAMP:20260425T105108
CREATED:20170821T053725Z
LAST-MODIFIED:20260210T052226Z
UID:10001092-1829815200-1829822400@kingscity.church
SUMMARY:SUNDAY WORSHIP SERVICE
DESCRIPTION:
URL:https://kingscity.church/event/sunday-worship/2027-12-26/
LOCATION:RCCG KINGCITY\, BAKER HALL 6 KARBRO DR\, CARDUP\, Perth\, WA\, 6122\, Australia
CATEGORIES:Sunday Worship
ATTACH;FMTTYPE=image/png:https://kingscity.church/wp-content/uploads/2023/03/Untitled-design.png
ORGANIZER;CN="RCCG- KingCity Church":MAILTO:info@kingscity.church
END:VEVENT
END:VCALENDAR