BEGIN:VCALENDAR
VERSION:2.0
PRODID:-//RCCG - KingCity Perth Western Australia - ECPv6.15.15//NONSGML v1.0//EN
CALSCALE:GREGORIAN
METHOD:PUBLISH
X-ORIGINAL-URL:https://kingscity.church
X-WR-CALDESC:Events for RCCG - KingCity Perth Western Australia
REFRESH-INTERVAL;VALUE=DURATION:PT1H
X-Robots-Tag:noindex
X-PUBLISHED-TTL:PT1H
BEGIN:VTIMEZONE
TZID:Asia/Shanghai
BEGIN:STANDARD
TZOFFSETFROM:+0800
TZOFFSETTO:+0800
TZNAME:CST
DTSTART:20230101T000000
END:STANDARD
END:VTIMEZONE
BEGIN:VEVENT
DTSTART;TZID=Asia/Shanghai:20240901T100000
DTEND;TZID=Asia/Shanghai:20240901T120000
DTSTAMP:20260425T085915
CREATED:20170821T053725Z
LAST-MODIFIED:20260210T052226Z
UID:10000919-1725184800-1725192000@kingscity.church
SUMMARY:SUNDAY WORSHIP SERVICE
DESCRIPTION:
URL:https://kingscity.church/event/sunday-worship/2024-09-01/
LOCATION:RCCG KINGCITY\, BAKER HALL 6 KARBRO DR\, CARDUP\, Perth\, WA\, 6122\, Australia
CATEGORIES:Sunday Worship
ATTACH;FMTTYPE=image/png:https://kingscity.church/wp-content/uploads/2023/03/Untitled-design.png
ORGANIZER;CN="RCCG- KingCity Church":MAILTO:info@kingscity.church
END:VEVENT
BEGIN:VEVENT
DTSTART;TZID=Asia/Shanghai:20240908T100000
DTEND;TZID=Asia/Shanghai:20240908T120000
DTSTAMP:20260425T085915
CREATED:20170821T053725Z
LAST-MODIFIED:20260210T052226Z
UID:10000920-1725789600-1725796800@kingscity.church
SUMMARY:SUNDAY WORSHIP SERVICE
DESCRIPTION:
URL:https://kingscity.church/event/sunday-worship/2024-09-08/
LOCATION:RCCG KINGCITY\, BAKER HALL 6 KARBRO DR\, CARDUP\, Perth\, WA\, 6122\, Australia
CATEGORIES:Sunday Worship
ATTACH;FMTTYPE=image/png:https://kingscity.church/wp-content/uploads/2023/03/Untitled-design.png
ORGANIZER;CN="RCCG- KingCity Church":MAILTO:info@kingscity.church
END:VEVENT
BEGIN:VEVENT
DTSTART;TZID=Asia/Shanghai:20240915T100000
DTEND;TZID=Asia/Shanghai:20240915T120000
DTSTAMP:20260425T085915
CREATED:20170821T053725Z
LAST-MODIFIED:20260210T052226Z
UID:10000921-1726394400-1726401600@kingscity.church
SUMMARY:SUNDAY WORSHIP SERVICE
DESCRIPTION:
URL:https://kingscity.church/event/sunday-worship/2024-09-15/
LOCATION:RCCG KINGCITY\, BAKER HALL 6 KARBRO DR\, CARDUP\, Perth\, WA\, 6122\, Australia
CATEGORIES:Sunday Worship
ATTACH;FMTTYPE=image/png:https://kingscity.church/wp-content/uploads/2023/03/Untitled-design.png
ORGANIZER;CN="RCCG- KingCity Church":MAILTO:info@kingscity.church
END:VEVENT
BEGIN:VEVENT
DTSTART;TZID=Asia/Shanghai:20240922T100000
DTEND;TZID=Asia/Shanghai:20240922T120000
DTSTAMP:20260425T085915
CREATED:20170821T053725Z
LAST-MODIFIED:20260210T052226Z
UID:10000922-1726999200-1727006400@kingscity.church
SUMMARY:SUNDAY WORSHIP SERVICE
DESCRIPTION:
URL:https://kingscity.church/event/sunday-worship/2024-09-22/
LOCATION:RCCG KINGCITY\, BAKER HALL 6 KARBRO DR\, CARDUP\, Perth\, WA\, 6122\, Australia
CATEGORIES:Sunday Worship
ATTACH;FMTTYPE=image/png:https://kingscity.church/wp-content/uploads/2023/03/Untitled-design.png
ORGANIZER;CN="RCCG- KingCity Church":MAILTO:info@kingscity.church
END:VEVENT
BEGIN:VEVENT
DTSTART;TZID=Asia/Shanghai:20240929T100000
DTEND;TZID=Asia/Shanghai:20240929T120000
DTSTAMP:20260425T085915
CREATED:20170821T053725Z
LAST-MODIFIED:20260210T052226Z
UID:10000923-1727604000-1727611200@kingscity.church
SUMMARY:SUNDAY WORSHIP SERVICE
DESCRIPTION:
URL:https://kingscity.church/event/sunday-worship/2024-09-29/
LOCATION:RCCG KINGCITY\, BAKER HALL 6 KARBRO DR\, CARDUP\, Perth\, WA\, 6122\, Australia
CATEGORIES:Sunday Worship
ATTACH;FMTTYPE=image/png:https://kingscity.church/wp-content/uploads/2023/03/Untitled-design.png
ORGANIZER;CN="RCCG- KingCity Church":MAILTO:info@kingscity.church
END:VEVENT
END:VCALENDAR