BEGIN:VCALENDAR
VERSION:2.0
PRODID:-//RCCG - KingCity Perth Western Australia - ECPv6.15.15//NONSGML v1.0//EN
CALSCALE:GREGORIAN
METHOD:PUBLISH
X-WR-CALNAME:RCCG - KingCity Perth Western Australia
X-ORIGINAL-URL:https://kingscity.church
X-WR-CALDESC:Events for RCCG - KingCity Perth Western Australia
REFRESH-INTERVAL;VALUE=DURATION:PT1H
X-Robots-Tag:noindex
X-PUBLISHED-TTL:PT1H
BEGIN:VTIMEZONE
TZID:Asia/Shanghai
BEGIN:STANDARD
TZOFFSETFROM:+0800
TZOFFSETTO:+0800
TZNAME:CST
DTSTART:20290101T000000
END:STANDARD
END:VTIMEZONE
BEGIN:VEVENT
DTSTART;TZID=Asia/Shanghai:20301218T190000
DTEND;TZID=Asia/Shanghai:20301218T203000
DTSTAMP:20260425T215220
CREATED:20260205T042610Z
LAST-MODIFIED:20260205T042610Z
UID:10001289-1923850800-1923856200@kingscity.church
SUMMARY:ONLINE BIBLE STUDY
DESCRIPTION:RCCG KINGCITY is inviting you to a scheduled Zoom meeting. \nTopic: MONTHLY BIBLE STUDY-\nTime: 7pm \nJoin Zoom Meeting\nhttps://us02web.zoom.us/j/88573394085?pwd=TFlHTkFzb3pvTXE0RXExVTRtNmh6dz09 \nMeeting ID: 885 7339 4085\nPasscode: 213687 \n— \nOne tap mobile\n+61280156011\,\,88573394085#\,\,\,\,*213687# Australia\n+61370182005\,\,88573394085#\,\,\,\,*213687# Australia \n— \nDial by your location\n• +61 2 8015 6011 Australia\n• +61 3 7018 2005 Australia\n• +61 7 3185 3730 Australia\n• +61 8 6119 3900 Australia\n• +61 8 7150 1149 Australia\n• +1 253 215 8782 US (Tacoma)\n• +1 253 205 0468 US\n• +1 719 359 4580 US\n• +1 346 248 7799 US (Houston)\n• +1 669 444 9171 US\n• +1 669 900 6833 US (San Jose)\n• +1 301 715 8592 US (Washington DC)\n• +1 305 224 1968 US\n• +1 309 205 3325 US\n• +1 312 626 6799 US (Chicago)\n• +1 360 209 5623 US\n• +1 386 347 5053 US\n• +1 507 473 4847 US\n• +1 564 217 2000 US\n• +1 646 931 3860 US\n• +1 689 278 1000 US\n• +1 929 205 6099 US (New York) \nMeeting ID: 885 7339 4085\nPasscode: 213687 \nFind your local number: https://us02web.zoom.us/u/kbLSjKgSXL \n 
URL:https://kingscity.church/event/online-bible-study-2/2030-12-18/
LOCATION:ONLINE\, Join Zoom Meeting https://us02web.zoom.us/j/83967930339?pwd=MFRZUmJXVGlDaSswZHVCU1hGTGV3QT09
CATEGORIES:Mid Week Service
ATTACH;FMTTYPE=image/png:https://kingscity.church/wp-content/uploads/2024/04/Green-Bold-Typographic-Church-Event-Invitation-Instagram-Post-1.png
ORGANIZER;CN="RCCG- KingCity Church":MAILTO:info@kingscity.church
END:VEVENT
BEGIN:VEVENT
DTSTART;TZID=Asia/Shanghai:20310101T190000
DTEND;TZID=Asia/Shanghai:20310101T203000
DTSTAMP:20260425T215220
CREATED:20260205T042610Z
LAST-MODIFIED:20260205T042610Z
UID:10001290-1925060400-1925065800@kingscity.church
SUMMARY:ONLINE BIBLE STUDY
DESCRIPTION:RCCG KINGCITY is inviting you to a scheduled Zoom meeting. \nTopic: MONTHLY BIBLE STUDY-\nTime: 7pm \nJoin Zoom Meeting\nhttps://us02web.zoom.us/j/88573394085?pwd=TFlHTkFzb3pvTXE0RXExVTRtNmh6dz09 \nMeeting ID: 885 7339 4085\nPasscode: 213687 \n— \nOne tap mobile\n+61280156011\,\,88573394085#\,\,\,\,*213687# Australia\n+61370182005\,\,88573394085#\,\,\,\,*213687# Australia \n— \nDial by your location\n• +61 2 8015 6011 Australia\n• +61 3 7018 2005 Australia\n• +61 7 3185 3730 Australia\n• +61 8 6119 3900 Australia\n• +61 8 7150 1149 Australia\n• +1 253 215 8782 US (Tacoma)\n• +1 253 205 0468 US\n• +1 719 359 4580 US\n• +1 346 248 7799 US (Houston)\n• +1 669 444 9171 US\n• +1 669 900 6833 US (San Jose)\n• +1 301 715 8592 US (Washington DC)\n• +1 305 224 1968 US\n• +1 309 205 3325 US\n• +1 312 626 6799 US (Chicago)\n• +1 360 209 5623 US\n• +1 386 347 5053 US\n• +1 507 473 4847 US\n• +1 564 217 2000 US\n• +1 646 931 3860 US\n• +1 689 278 1000 US\n• +1 929 205 6099 US (New York) \nMeeting ID: 885 7339 4085\nPasscode: 213687 \nFind your local number: https://us02web.zoom.us/u/kbLSjKgSXL \n 
URL:https://kingscity.church/event/online-bible-study-2/2031-01-01/
LOCATION:ONLINE\, Join Zoom Meeting https://us02web.zoom.us/j/83967930339?pwd=MFRZUmJXVGlDaSswZHVCU1hGTGV3QT09
CATEGORIES:Mid Week Service
ATTACH;FMTTYPE=image/png:https://kingscity.church/wp-content/uploads/2024/04/Green-Bold-Typographic-Church-Event-Invitation-Instagram-Post-1.png
ORGANIZER;CN="RCCG- KingCity Church":MAILTO:info@kingscity.church
END:VEVENT
BEGIN:VEVENT
DTSTART;TZID=Asia/Shanghai:20310115T190000
DTEND;TZID=Asia/Shanghai:20310115T203000
DTSTAMP:20260425T215220
CREATED:20260205T042610Z
LAST-MODIFIED:20260205T042610Z
UID:10001291-1926270000-1926275400@kingscity.church
SUMMARY:ONLINE BIBLE STUDY
DESCRIPTION:RCCG KINGCITY is inviting you to a scheduled Zoom meeting. \nTopic: MONTHLY BIBLE STUDY-\nTime: 7pm \nJoin Zoom Meeting\nhttps://us02web.zoom.us/j/88573394085?pwd=TFlHTkFzb3pvTXE0RXExVTRtNmh6dz09 \nMeeting ID: 885 7339 4085\nPasscode: 213687 \n— \nOne tap mobile\n+61280156011\,\,88573394085#\,\,\,\,*213687# Australia\n+61370182005\,\,88573394085#\,\,\,\,*213687# Australia \n— \nDial by your location\n• +61 2 8015 6011 Australia\n• +61 3 7018 2005 Australia\n• +61 7 3185 3730 Australia\n• +61 8 6119 3900 Australia\n• +61 8 7150 1149 Australia\n• +1 253 215 8782 US (Tacoma)\n• +1 253 205 0468 US\n• +1 719 359 4580 US\n• +1 346 248 7799 US (Houston)\n• +1 669 444 9171 US\n• +1 669 900 6833 US (San Jose)\n• +1 301 715 8592 US (Washington DC)\n• +1 305 224 1968 US\n• +1 309 205 3325 US\n• +1 312 626 6799 US (Chicago)\n• +1 360 209 5623 US\n• +1 386 347 5053 US\n• +1 507 473 4847 US\n• +1 564 217 2000 US\n• +1 646 931 3860 US\n• +1 689 278 1000 US\n• +1 929 205 6099 US (New York) \nMeeting ID: 885 7339 4085\nPasscode: 213687 \nFind your local number: https://us02web.zoom.us/u/kbLSjKgSXL \n 
URL:https://kingscity.church/event/online-bible-study-2/2031-01-15/
LOCATION:ONLINE\, Join Zoom Meeting https://us02web.zoom.us/j/83967930339?pwd=MFRZUmJXVGlDaSswZHVCU1hGTGV3QT09
CATEGORIES:Mid Week Service
ATTACH;FMTTYPE=image/png:https://kingscity.church/wp-content/uploads/2024/04/Green-Bold-Typographic-Church-Event-Invitation-Instagram-Post-1.png
ORGANIZER;CN="RCCG- KingCity Church":MAILTO:info@kingscity.church
END:VEVENT
BEGIN:VEVENT
DTSTART;TZID=Asia/Shanghai:20310129T190000
DTEND;TZID=Asia/Shanghai:20310129T203000
DTSTAMP:20260425T215220
CREATED:20260205T042610Z
LAST-MODIFIED:20260205T042610Z
UID:10001292-1927479600-1927485000@kingscity.church
SUMMARY:ONLINE BIBLE STUDY
DESCRIPTION:RCCG KINGCITY is inviting you to a scheduled Zoom meeting. \nTopic: MONTHLY BIBLE STUDY-\nTime: 7pm \nJoin Zoom Meeting\nhttps://us02web.zoom.us/j/88573394085?pwd=TFlHTkFzb3pvTXE0RXExVTRtNmh6dz09 \nMeeting ID: 885 7339 4085\nPasscode: 213687 \n— \nOne tap mobile\n+61280156011\,\,88573394085#\,\,\,\,*213687# Australia\n+61370182005\,\,88573394085#\,\,\,\,*213687# Australia \n— \nDial by your location\n• +61 2 8015 6011 Australia\n• +61 3 7018 2005 Australia\n• +61 7 3185 3730 Australia\n• +61 8 6119 3900 Australia\n• +61 8 7150 1149 Australia\n• +1 253 215 8782 US (Tacoma)\n• +1 253 205 0468 US\n• +1 719 359 4580 US\n• +1 346 248 7799 US (Houston)\n• +1 669 444 9171 US\n• +1 669 900 6833 US (San Jose)\n• +1 301 715 8592 US (Washington DC)\n• +1 305 224 1968 US\n• +1 309 205 3325 US\n• +1 312 626 6799 US (Chicago)\n• +1 360 209 5623 US\n• +1 386 347 5053 US\n• +1 507 473 4847 US\n• +1 564 217 2000 US\n• +1 646 931 3860 US\n• +1 689 278 1000 US\n• +1 929 205 6099 US (New York) \nMeeting ID: 885 7339 4085\nPasscode: 213687 \nFind your local number: https://us02web.zoom.us/u/kbLSjKgSXL \n 
URL:https://kingscity.church/event/online-bible-study-2/2031-01-29/
LOCATION:ONLINE\, Join Zoom Meeting https://us02web.zoom.us/j/83967930339?pwd=MFRZUmJXVGlDaSswZHVCU1hGTGV3QT09
CATEGORIES:Mid Week Service
ATTACH;FMTTYPE=image/png:https://kingscity.church/wp-content/uploads/2024/04/Green-Bold-Typographic-Church-Event-Invitation-Instagram-Post-1.png
ORGANIZER;CN="RCCG- KingCity Church":MAILTO:info@kingscity.church
END:VEVENT
END:VCALENDAR