BEGIN:VCALENDAR
VERSION:2.0
PRODID:-//RCCG - KingCity Perth Western Australia - ECPv6.15.15//NONSGML v1.0//EN
CALSCALE:GREGORIAN
METHOD:PUBLISH
X-ORIGINAL-URL:https://kingscity.church
X-WR-CALDESC:Events for RCCG - KingCity Perth Western Australia
REFRESH-INTERVAL;VALUE=DURATION:PT1H
X-Robots-Tag:noindex
X-PUBLISHED-TTL:PT1H
BEGIN:VTIMEZONE
TZID:Asia/Shanghai
BEGIN:STANDARD
TZOFFSETFROM:+0800
TZOFFSETTO:+0800
TZNAME:CST
DTSTART:20250101T000000
END:STANDARD
END:VTIMEZONE
BEGIN:VEVENT
DTSTART;VALUE=DATE:20260716
DTEND;VALUE=DATE:20260719
DTSTAMP:20260424T060217
CREATED:20240319T170949Z
LAST-MODIFIED:20260210T050723Z
UID:10000508-1784160000-1784419199@kingscity.church
SUMMARY:PROVINCE 4 - YOUTH & YOUNG ADULTS CAMP
DESCRIPTION:Inspiring and Impactful teaching both from stage and through age-appropriate Bible studies. Youths will be challenged and equipped through each session and activities. \nRegistration is currently open for all youth and young Adults. \nContact us for more information. \nCamp Venue: Located 40 minutes south of Perth\, Christian Youth Camp Cooloongup. \n \n 
URL:https://kingscity.church/event/province-4-youth-young-adults-camp/
CATEGORIES:Provincial Programs
ATTACH;FMTTYPE=image/jpeg:https://kingscity.church/wp-content/uploads/2024/03/Events_YouthCamp-720x321-1.jpg
END:VEVENT
END:VCALENDAR