BEGIN:VCALENDAR
VERSION:2.0
PRODID:-//RCCG - KingCity Perth Western Australia - ECPv6.15.15//NONSGML v1.0//EN
CALSCALE:GREGORIAN
METHOD:PUBLISH
X-WR-CALNAME:RCCG - KingCity Perth Western Australia
X-ORIGINAL-URL:https://kingscity.church
X-WR-CALDESC:Events for RCCG - KingCity Perth Western Australia
REFRESH-INTERVAL;VALUE=DURATION:PT1H
X-Robots-Tag:noindex
X-PUBLISHED-TTL:PT1H
BEGIN:VTIMEZONE
TZID:Australia/Perth
BEGIN:STANDARD
TZOFFSETFROM:+0800
TZOFFSETTO:+0800
TZNAME:AWST
DTSTART:20250101T000000
END:STANDARD
END:VTIMEZONE
BEGIN:VEVENT
DTSTART;TZID=Australia/Perth:20260323T060000
DTEND;TZID=Australia/Perth:20260323T063000
DTSTAMP:20260424T024144
CREATED:20260210T045519Z
LAST-MODIFIED:20260210T045519Z
UID:10001503-1774245600-1774247400@kingscity.church
SUMMARY:Monday Morning Devotion
DESCRIPTION:
URL:https://kingscity.church/event/monday-morning-devotion/2026-03-23/
LOCATION:ONLINE\, Join Zoom Meeting https://us02web.zoom.us/j/83967930339?pwd=MFRZUmJXVGlDaSswZHVCU1hGTGV3QT09
END:VEVENT
END:VCALENDAR