BEGIN:VCALENDAR
VERSION:2.0
PRODID:-//RCCG - KingCity Perth Western Australia - ECPv6.15.15//NONSGML v1.0//EN
CALSCALE:GREGORIAN
METHOD:PUBLISH
X-ORIGINAL-URL:https://kingscity.church
X-WR-CALDESC:Events for RCCG - KingCity Perth Western Australia
REFRESH-INTERVAL;VALUE=DURATION:PT1H
X-Robots-Tag:noindex
X-PUBLISHED-TTL:PT1H
BEGIN:VTIMEZONE
TZID:Asia/Shanghai
BEGIN:STANDARD
TZOFFSETFROM:+0800
TZOFFSETTO:+0800
TZNAME:CST
DTSTART:20250101T000000
END:STANDARD
END:VTIMEZONE
BEGIN:VEVENT
DTSTART;TZID=Asia/Shanghai:20260313T180000
DTEND;TZID=Asia/Shanghai:20260313T200000
DTSTAMP:20260424T024448
CREATED:20231207T115241Z
LAST-MODIFIED:20240229T121308Z
UID:10000081-1773424800-1773432000@kingscity.church
SUMMARY:HOME FELLOWSHIP CONNECT
DESCRIPTION:
URL:https://kingscity.church/event/home-fellowship-connect/2026-03-13/
ATTACH;FMTTYPE=image/png:https://kingscity.church/wp-content/uploads/2023/12/Adobe_Express_20230806_0033450_1.png
END:VEVENT
END:VCALENDAR