BEGIN:VCALENDAR
VERSION:2.0
PRODID:-//RCCG - KingCity Perth Western Australia - ECPv6.15.15//NONSGML v1.0//EN
CALSCALE:GREGORIAN
METHOD:PUBLISH
X-WR-CALNAME:RCCG - KingCity Perth Western Australia
X-ORIGINAL-URL:https://kingscity.church
X-WR-CALDESC:Events for RCCG - KingCity Perth Western Australia
REFRESH-INTERVAL;VALUE=DURATION:PT1H
X-Robots-Tag:noindex
X-PUBLISHED-TTL:PT1H
BEGIN:VTIMEZONE
TZID:Australia/Perth
BEGIN:STANDARD
TZOFFSETFROM:+0800
TZOFFSETTO:+0800
TZNAME:AWST
DTSTART:20250101T000000
END:STANDARD
END:VTIMEZONE
BEGIN:VEVENT
DTSTART;TZID=Australia/Perth:20260227T180000
DTEND;TZID=Australia/Perth:20260227T200000
DTSTAMP:20260424T024023
CREATED:20260226T064421Z
LAST-MODIFIED:20260226T064711Z
UID:10001761-1772215200-1772222400@kingscity.church
SUMMARY:Continental Prayer Meeting
DESCRIPTION:
URL:https://kingscity.church/event/continental-prayer-meeting/
END:VEVENT
END:VCALENDAR