BEGIN:VCALENDAR
VERSION:2.0
PRODID:-//RCCG - KingCity Perth Western Australia - ECPv6.15.15//NONSGML v1.0//EN
CALSCALE:GREGORIAN
METHOD:PUBLISH
X-ORIGINAL-URL:https://kingscity.church
X-WR-CALDESC:Events for RCCG - KingCity Perth Western Australia
REFRESH-INTERVAL;VALUE=DURATION:PT1H
X-Robots-Tag:noindex
X-PUBLISHED-TTL:PT1H
BEGIN:VTIMEZONE
TZID:Asia/Shanghai
BEGIN:STANDARD
TZOFFSETFROM:+0800
TZOFFSETTO:+0800
TZNAME:CST
DTSTART:20250101T000000
END:STANDARD
END:VTIMEZONE
BEGIN:VEVENT
DTSTART;TZID=Asia/Shanghai:20260206T190000
DTEND;TZID=Asia/Shanghai:20260207T030000
DTSTAMP:20260424T042042
CREATED:20260205T084741Z
LAST-MODIFIED:20260205T084741Z
UID:10001437-1770404400-1770433200@kingscity.church
SUMMARY:BYFORD PRAYER NIGHT
DESCRIPTION:A night of prayer open to everyone seeking more of God in the Lives. Join other believers as we worship and pray to see God move in our lives\, families\, community and nation.
URL:https://kingscity.church/event/byford-prayer-night/
LOCATION:Evangel Christian Fellowship\, 746 South Western Highway\, Perth\, Byford\, WA\, 6122\, Australia
CATEGORIES:Global Program
END:VEVENT
END:VCALENDAR