BEGIN:VCALENDAR
VERSION:2.0
PRODID:-//RCCG - KingCity Perth Western Australia - ECPv6.15.15//NONSGML v1.0//EN
CALSCALE:GREGORIAN
METHOD:PUBLISH
X-ORIGINAL-URL:https://kingscity.church
X-WR-CALDESC:Events for RCCG - KingCity Perth Western Australia
REFRESH-INTERVAL;VALUE=DURATION:PT1H
X-Robots-Tag:noindex
X-PUBLISHED-TTL:PT1H
BEGIN:VTIMEZONE
TZID:Asia/Shanghai
BEGIN:STANDARD
TZOFFSETFROM:+0800
TZOFFSETTO:+0800
TZNAME:CST
DTSTART:20250101T000000
END:STANDARD
END:VTIMEZONE
BEGIN:VEVENT
DTSTART;TZID=Asia/Shanghai:20260105T000000
DTEND;TZID=Asia/Shanghai:20260111T180000
DTSTAMP:20260424T060316
CREATED:20240102T114608Z
LAST-MODIFIED:20260205T033826Z
UID:10000003-1767571200-1768154400@kingscity.church
SUMMARY:7 DAYS FASTING & PRAYER
DESCRIPTION:RCCG KINGCITY is inviting you to a scheduled Zoom meeting. \nTopic: FASTING & PRAYER\nTime: 8pm \nJoin Zoom Meeting\nhttps://us02web.zoom.us/j/87383200308?pwd=N3lqZVZrd0R5cGlOaG9HaWlwY25qZz09 \nMeeting ID: 873 8320 0308\nPasscode: 578805 \n— \nOne tap mobile\n+61731853730\,\,87383200308#\,\,\,\,*578805# Australia\n+61861193900\,\,87383200308#\,\,\,\,*578805# Australia \n— \nDial by your location\n• +61 7 3185 3730 Australia\n• +61 8 6119 3900 Australia\n• +61 8 7150 1149 Australia\n• +61 2 8015 6011 Australia\n• +61 3 7018 2005 Australia\n• +1 253 205 0468 US\n• +1 253 215 8782 US (Tacoma)\n• +1 346 248 7799 US (Houston)\n• +1 669 444 9171 US\n• +1 669 900 6833 US (San Jose)\n• +1 719 359 4580 US\n• +1 312 626 6799 US (Chicago)\n• +1 360 209 5623 US\n• +1 386 347 5053 US\n• +1 507 473 4847 US\n• +1 564 217 2000 US\n• +1 646 931 3860 US\n• +1 689 278 1000 US\n• +1 929 205 6099 US (New York)\n• +1 301 715 8592 US (Washington DC)\n• +1 305 224 1968 US\n• +1 309 205 3325 US \nMeeting ID: 873 8320 0308\nPasscode: 578805 \nFind your local number: https://us02web.zoom.us/u/kEUl1oVmY \n 
URL:https://kingscity.church/event/7-days-fasting-prayer/
LOCATION:ONLINE\, Join Zoom Meeting https://us02web.zoom.us/j/83967930339?pwd=MFRZUmJXVGlDaSswZHVCU1hGTGV3QT09
ATTACH;FMTTYPE=image/png:https://kingscity.church/wp-content/uploads/2024/01/7DaysofPrayerandFasting.png
END:VEVENT
BEGIN:VEVENT
DTSTART;TZID=Asia/Shanghai:20260109T180000
DTEND;TZID=Asia/Shanghai:20260109T200000
DTSTAMP:20260424T060316
CREATED:20231207T115241Z
LAST-MODIFIED:20240229T121308Z
UID:10000079-1767981600-1767988800@kingscity.church
SUMMARY:HOME FELLOWSHIP CONNECT
DESCRIPTION:
URL:https://kingscity.church/event/home-fellowship-connect/2026-01-09/
ATTACH;FMTTYPE=image/png:https://kingscity.church/wp-content/uploads/2023/12/Adobe_Express_20230806_0033450_1.png
END:VEVENT
END:VCALENDAR